BEGIN:VCALENDAR
VERSION:2.0
PRODID:-//LitWire - ECPv6.15.20//NONSGML v1.0//EN
CALSCALE:GREGORIAN
METHOD:PUBLISH
X-ORIGINAL-URL:https://litwire.org
X-WR-CALDESC:Events for LitWire
REFRESH-INTERVAL;VALUE=DURATION:PT1H
X-Robots-Tag:noindex
X-PUBLISHED-TTL:PT1H
BEGIN:VTIMEZONE
TZID:America/Chicago
BEGIN:DAYLIGHT
TZOFFSETFROM:-0600
TZOFFSETTO:-0500
TZNAME:CDT
DTSTART:20250309T080000
END:DAYLIGHT
BEGIN:STANDARD
TZOFFSETFROM:-0500
TZOFFSETTO:-0600
TZNAME:CST
DTSTART:20251102T070000
END:STANDARD
BEGIN:DAYLIGHT
TZOFFSETFROM:-0600
TZOFFSETTO:-0500
TZNAME:CDT
DTSTART:20260308T080000
END:DAYLIGHT
BEGIN:STANDARD
TZOFFSETFROM:-0500
TZOFFSETTO:-0600
TZNAME:CST
DTSTART:20261101T070000
END:STANDARD
BEGIN:DAYLIGHT
TZOFFSETFROM:-0600
TZOFFSETTO:-0500
TZNAME:CDT
DTSTART:20270314T080000
END:DAYLIGHT
BEGIN:STANDARD
TZOFFSETFROM:-0500
TZOFFSETTO:-0600
TZNAME:CST
DTSTART:20271107T070000
END:STANDARD
END:VTIMEZONE
BEGIN:VEVENT
DTSTART;TZID=America/Chicago:20260405T180000
DTEND;TZID=America/Chicago:20260405T210000
DTSTAMP:20260423T130624
CREATED:20260326T145905Z
LAST-MODIFIED:20260326T145905Z
UID:10005049-1775412000-1775422800@litwire.org
SUMMARY:ALOUD featuring Lisa Pasold
DESCRIPTION:After the Gay Easter Parade\, meet us in the lovely 2nd floor of Turtle Bay for an evening of poetry featuring Lisa Pasold! We will gather at 6 and start the show at 6:30. After the feature\, we’ll take a short break\, then reconvene for the open mic. We’d love to see you and your work. \nLisa Pasold is a poet\, bilingual story-teller (English/French)\, and journalist originally from Tio’tia:ke/Montréal. Along with her five books\, she has also written for TV\, radio\, theatre\, and opera. She has been writing daily poems for two decades; the resulting poetry has appeared in magazines such as Room\, Fence and New American Writing. Rodrigo Toscano says of her work: ‘Pasold’s sense of a what a “day” is/might be\, what a “person” is\, what a “circumstance” is\, is up in the air. But ever so skillfully\, Pasold nets in the floating debris of social phenomenon into some of the richest poems and flash fiction pieces currently on offer.’ She’ll be reading from her new chapbook\, Kindnesses (Cactus Press.) \n 
URL:https://litwire.org/event/aloud-featuring-lisa-pasold/
LOCATION:Turtle Bay\, 1119 Decatur St\, New Orleans\, LA\, 70116\, United States
CATEGORIES:Open Mic,Poetry
ATTACH;FMTTYPE=image/png:https://litwire.org/wp-content/uploads/2026/03/lISA-pASOLD.png
END:VEVENT
END:VCALENDAR