BEGIN:VCALENDAR
VERSION:2.0
PRODID:-//LitWire - ECPv6.15.20//NONSGML v1.0//EN
CALSCALE:GREGORIAN
METHOD:PUBLISH
X-WR-CALNAME:LitWire
X-ORIGINAL-URL:https://litwire.org
X-WR-CALDESC:Events for LitWire
REFRESH-INTERVAL;VALUE=DURATION:PT1H
X-Robots-Tag:noindex
X-PUBLISHED-TTL:PT1H
BEGIN:VTIMEZONE
TZID:America/Chicago
BEGIN:DAYLIGHT
TZOFFSETFROM:-0600
TZOFFSETTO:-0500
TZNAME:CDT
DTSTART:20290311T080000
END:DAYLIGHT
BEGIN:STANDARD
TZOFFSETFROM:-0500
TZOFFSETTO:-0600
TZNAME:CST
DTSTART:20291104T070000
END:STANDARD
BEGIN:DAYLIGHT
TZOFFSETFROM:-0600
TZOFFSETTO:-0500
TZNAME:CDT
DTSTART:20300310T080000
END:DAYLIGHT
BEGIN:STANDARD
TZOFFSETFROM:-0500
TZOFFSETTO:-0600
TZNAME:CST
DTSTART:20301103T070000
END:STANDARD
BEGIN:DAYLIGHT
TZOFFSETFROM:-0600
TZOFFSETTO:-0500
TZNAME:CDT
DTSTART:20310309T080000
END:DAYLIGHT
BEGIN:STANDARD
TZOFFSETFROM:-0500
TZOFFSETTO:-0600
TZNAME:CST
DTSTART:20311102T070000
END:STANDARD
END:VTIMEZONE
BEGIN:VEVENT
DTSTART;TZID=America/Chicago:20300212T190000
DTEND;TZID=America/Chicago:20300212T210000
DTSTAMP:20260425T103457
CREATED:20240107T230419Z
LAST-MODIFIED:20240107T230831Z
UID:10004080-1897153200-1897160400@litwire.org
SUMMARY:Open Mic (Jazz & Poetry)
DESCRIPTION:
URL:https://litwire.org/event/open-mic-jazz-poetry/2030-02-12/
LOCATION:Sweet Lorraine’s Jazz Club\, 1931 St Claude Ave\, New Orleans\, LA\, 70116\, United States
CATEGORIES:Open Mic
ATTACH;FMTTYPE=image/jpeg:https://litwire.org/wp-content/uploads/2024/01/sweetlorraines.jpg
END:VEVENT
BEGIN:VEVENT
DTSTART;TZID=America/Chicago:20300219T190000
DTEND;TZID=America/Chicago:20300219T210000
DTSTAMP:20260425T103457
CREATED:20240107T230419Z
LAST-MODIFIED:20240107T230831Z
UID:10004110-1897758000-1897765200@litwire.org
SUMMARY:Open Mic (Jazz & Poetry)
DESCRIPTION:
URL:https://litwire.org/event/open-mic-jazz-poetry/2030-02-19/
LOCATION:Sweet Lorraine’s Jazz Club\, 1931 St Claude Ave\, New Orleans\, LA\, 70116\, United States
CATEGORIES:Open Mic
ATTACH;FMTTYPE=image/jpeg:https://litwire.org/wp-content/uploads/2024/01/sweetlorraines.jpg
END:VEVENT
BEGIN:VEVENT
DTSTART;TZID=America/Chicago:20300226T190000
DTEND;TZID=America/Chicago:20300226T210000
DTSTAMP:20260425T103457
CREATED:20240107T230419Z
LAST-MODIFIED:20240107T230831Z
UID:10004118-1898362800-1898370000@litwire.org
SUMMARY:Open Mic (Jazz & Poetry)
DESCRIPTION:
URL:https://litwire.org/event/open-mic-jazz-poetry/2030-02-26/
LOCATION:Sweet Lorraine’s Jazz Club\, 1931 St Claude Ave\, New Orleans\, LA\, 70116\, United States
CATEGORIES:Open Mic
ATTACH;FMTTYPE=image/jpeg:https://litwire.org/wp-content/uploads/2024/01/sweetlorraines.jpg
END:VEVENT
BEGIN:VEVENT
DTSTART;TZID=America/Chicago:20300305T190000
DTEND;TZID=America/Chicago:20300305T210000
DTSTAMP:20260425T103457
CREATED:20240107T230419Z
LAST-MODIFIED:20240107T230831Z
UID:10004125-1898967600-1898974800@litwire.org
SUMMARY:Open Mic (Jazz & Poetry)
DESCRIPTION:
URL:https://litwire.org/event/open-mic-jazz-poetry/2030-03-05/
LOCATION:Sweet Lorraine’s Jazz Club\, 1931 St Claude Ave\, New Orleans\, LA\, 70116\, United States
CATEGORIES:Open Mic
ATTACH;FMTTYPE=image/jpeg:https://litwire.org/wp-content/uploads/2024/01/sweetlorraines.jpg
END:VEVENT
BEGIN:VEVENT
DTSTART;TZID=America/Chicago:20300312T190000
DTEND;TZID=America/Chicago:20300312T210000
DTSTAMP:20260425T103457
CREATED:20240107T230419Z
LAST-MODIFIED:20240107T230831Z
UID:10004135-1899572400-1899579600@litwire.org
SUMMARY:Open Mic (Jazz & Poetry)
DESCRIPTION:
URL:https://litwire.org/event/open-mic-jazz-poetry/2030-03-12/
LOCATION:Sweet Lorraine’s Jazz Club\, 1931 St Claude Ave\, New Orleans\, LA\, 70116\, United States
CATEGORIES:Open Mic
ATTACH;FMTTYPE=image/jpeg:https://litwire.org/wp-content/uploads/2024/01/sweetlorraines.jpg
END:VEVENT
BEGIN:VEVENT
DTSTART;TZID=America/Chicago:20300319T190000
DTEND;TZID=America/Chicago:20300319T210000
DTSTAMP:20260425T103457
CREATED:20240107T230419Z
LAST-MODIFIED:20240107T230831Z
UID:10004140-1900177200-1900184400@litwire.org
SUMMARY:Open Mic (Jazz & Poetry)
DESCRIPTION:
URL:https://litwire.org/event/open-mic-jazz-poetry/2030-03-19/
LOCATION:Sweet Lorraine’s Jazz Club\, 1931 St Claude Ave\, New Orleans\, LA\, 70116\, United States
CATEGORIES:Open Mic
ATTACH;FMTTYPE=image/jpeg:https://litwire.org/wp-content/uploads/2024/01/sweetlorraines.jpg
END:VEVENT
BEGIN:VEVENT
DTSTART;TZID=America/Chicago:20300326T190000
DTEND;TZID=America/Chicago:20300326T210000
DTSTAMP:20260425T103457
CREATED:20240107T230419Z
LAST-MODIFIED:20240107T230831Z
UID:10004145-1900782000-1900789200@litwire.org
SUMMARY:Open Mic (Jazz & Poetry)
DESCRIPTION:
URL:https://litwire.org/event/open-mic-jazz-poetry/2030-03-26/
LOCATION:Sweet Lorraine’s Jazz Club\, 1931 St Claude Ave\, New Orleans\, LA\, 70116\, United States
CATEGORIES:Open Mic
ATTACH;FMTTYPE=image/jpeg:https://litwire.org/wp-content/uploads/2024/01/sweetlorraines.jpg
END:VEVENT
BEGIN:VEVENT
DTSTART;TZID=America/Chicago:20300402T190000
DTEND;TZID=America/Chicago:20300402T210000
DTSTAMP:20260425T103457
CREATED:20240107T230419Z
LAST-MODIFIED:20240107T230831Z
UID:10004159-1901386800-1901394000@litwire.org
SUMMARY:Open Mic (Jazz & Poetry)
DESCRIPTION:
URL:https://litwire.org/event/open-mic-jazz-poetry/2030-04-02/
LOCATION:Sweet Lorraine’s Jazz Club\, 1931 St Claude Ave\, New Orleans\, LA\, 70116\, United States
CATEGORIES:Open Mic
ATTACH;FMTTYPE=image/jpeg:https://litwire.org/wp-content/uploads/2024/01/sweetlorraines.jpg
END:VEVENT
BEGIN:VEVENT
DTSTART;TZID=America/Chicago:20300409T190000
DTEND;TZID=America/Chicago:20300409T210000
DTSTAMP:20260425T103457
CREATED:20240107T230419Z
LAST-MODIFIED:20240107T230831Z
UID:10004180-1901991600-1901998800@litwire.org
SUMMARY:Open Mic (Jazz & Poetry)
DESCRIPTION:
URL:https://litwire.org/event/open-mic-jazz-poetry/2030-04-09/
LOCATION:Sweet Lorraine’s Jazz Club\, 1931 St Claude Ave\, New Orleans\, LA\, 70116\, United States
CATEGORIES:Open Mic
ATTACH;FMTTYPE=image/jpeg:https://litwire.org/wp-content/uploads/2024/01/sweetlorraines.jpg
END:VEVENT
BEGIN:VEVENT
DTSTART;TZID=America/Chicago:20300416T190000
DTEND;TZID=America/Chicago:20300416T210000
DTSTAMP:20260425T103457
CREATED:20240107T230419Z
LAST-MODIFIED:20240107T230831Z
UID:10004186-1902596400-1902603600@litwire.org
SUMMARY:Open Mic (Jazz & Poetry)
DESCRIPTION:
URL:https://litwire.org/event/open-mic-jazz-poetry/2030-04-16/
LOCATION:Sweet Lorraine’s Jazz Club\, 1931 St Claude Ave\, New Orleans\, LA\, 70116\, United States
CATEGORIES:Open Mic
ATTACH;FMTTYPE=image/jpeg:https://litwire.org/wp-content/uploads/2024/01/sweetlorraines.jpg
END:VEVENT
BEGIN:VEVENT
DTSTART;TZID=America/Chicago:20300423T190000
DTEND;TZID=America/Chicago:20300423T210000
DTSTAMP:20260425T103457
CREATED:20240107T230419Z
LAST-MODIFIED:20240107T230831Z
UID:10004190-1903201200-1903208400@litwire.org
SUMMARY:Open Mic (Jazz & Poetry)
DESCRIPTION:
URL:https://litwire.org/event/open-mic-jazz-poetry/2030-04-23/
LOCATION:Sweet Lorraine’s Jazz Club\, 1931 St Claude Ave\, New Orleans\, LA\, 70116\, United States
CATEGORIES:Open Mic
ATTACH;FMTTYPE=image/jpeg:https://litwire.org/wp-content/uploads/2024/01/sweetlorraines.jpg
END:VEVENT
BEGIN:VEVENT
DTSTART;TZID=America/Chicago:20300430T190000
DTEND;TZID=America/Chicago:20300430T210000
DTSTAMP:20260425T103457
CREATED:20240107T230419Z
LAST-MODIFIED:20240107T230831Z
UID:10004196-1903806000-1903813200@litwire.org
SUMMARY:Open Mic (Jazz & Poetry)
DESCRIPTION:
URL:https://litwire.org/event/open-mic-jazz-poetry/2030-04-30/
LOCATION:Sweet Lorraine’s Jazz Club\, 1931 St Claude Ave\, New Orleans\, LA\, 70116\, United States
CATEGORIES:Open Mic
ATTACH;FMTTYPE=image/jpeg:https://litwire.org/wp-content/uploads/2024/01/sweetlorraines.jpg
END:VEVENT
BEGIN:VEVENT
DTSTART;TZID=America/Chicago:20300507T190000
DTEND;TZID=America/Chicago:20300507T210000
DTSTAMP:20260425T103457
CREATED:20240107T230419Z
LAST-MODIFIED:20240107T230831Z
UID:10004207-1904410800-1904418000@litwire.org
SUMMARY:Open Mic (Jazz & Poetry)
DESCRIPTION:
URL:https://litwire.org/event/open-mic-jazz-poetry/2030-05-07/
LOCATION:Sweet Lorraine’s Jazz Club\, 1931 St Claude Ave\, New Orleans\, LA\, 70116\, United States
CATEGORIES:Open Mic
ATTACH;FMTTYPE=image/jpeg:https://litwire.org/wp-content/uploads/2024/01/sweetlorraines.jpg
END:VEVENT
BEGIN:VEVENT
DTSTART;TZID=America/Chicago:20300514T190000
DTEND;TZID=America/Chicago:20300514T210000
DTSTAMP:20260425T103457
CREATED:20240107T230419Z
LAST-MODIFIED:20240107T230831Z
UID:10004212-1905015600-1905022800@litwire.org
SUMMARY:Open Mic (Jazz & Poetry)
DESCRIPTION:
URL:https://litwire.org/event/open-mic-jazz-poetry/2030-05-14/
LOCATION:Sweet Lorraine’s Jazz Club\, 1931 St Claude Ave\, New Orleans\, LA\, 70116\, United States
CATEGORIES:Open Mic
ATTACH;FMTTYPE=image/jpeg:https://litwire.org/wp-content/uploads/2024/01/sweetlorraines.jpg
END:VEVENT
BEGIN:VEVENT
DTSTART;TZID=America/Chicago:20300521T190000
DTEND;TZID=America/Chicago:20300521T210000
DTSTAMP:20260425T103457
CREATED:20240107T230419Z
LAST-MODIFIED:20240107T230831Z
UID:10004217-1905620400-1905627600@litwire.org
SUMMARY:Open Mic (Jazz & Poetry)
DESCRIPTION:
URL:https://litwire.org/event/open-mic-jazz-poetry/2030-05-21/
LOCATION:Sweet Lorraine’s Jazz Club\, 1931 St Claude Ave\, New Orleans\, LA\, 70116\, United States
CATEGORIES:Open Mic
ATTACH;FMTTYPE=image/jpeg:https://litwire.org/wp-content/uploads/2024/01/sweetlorraines.jpg
END:VEVENT
BEGIN:VEVENT
DTSTART;TZID=America/Chicago:20300528T190000
DTEND;TZID=America/Chicago:20300528T210000
DTSTAMP:20260425T103457
CREATED:20240107T230419Z
LAST-MODIFIED:20240107T230831Z
UID:10004223-1906225200-1906232400@litwire.org
SUMMARY:Open Mic (Jazz & Poetry)
DESCRIPTION:
URL:https://litwire.org/event/open-mic-jazz-poetry/2030-05-28/
LOCATION:Sweet Lorraine’s Jazz Club\, 1931 St Claude Ave\, New Orleans\, LA\, 70116\, United States
CATEGORIES:Open Mic
ATTACH;FMTTYPE=image/jpeg:https://litwire.org/wp-content/uploads/2024/01/sweetlorraines.jpg
END:VEVENT
BEGIN:VEVENT
DTSTART;TZID=America/Chicago:20300604T190000
DTEND;TZID=America/Chicago:20300604T210000
DTSTAMP:20260425T103457
CREATED:20240107T230419Z
LAST-MODIFIED:20240107T230831Z
UID:10004227-1906830000-1906837200@litwire.org
SUMMARY:Open Mic (Jazz & Poetry)
DESCRIPTION:
URL:https://litwire.org/event/open-mic-jazz-poetry/2030-06-04/
LOCATION:Sweet Lorraine’s Jazz Club\, 1931 St Claude Ave\, New Orleans\, LA\, 70116\, United States
CATEGORIES:Open Mic
ATTACH;FMTTYPE=image/jpeg:https://litwire.org/wp-content/uploads/2024/01/sweetlorraines.jpg
END:VEVENT
BEGIN:VEVENT
DTSTART;TZID=America/Chicago:20300611T190000
DTEND;TZID=America/Chicago:20300611T210000
DTSTAMP:20260425T103457
CREATED:20240107T230419Z
LAST-MODIFIED:20240107T230831Z
UID:10004439-1907434800-1907442000@litwire.org
SUMMARY:Open Mic (Jazz & Poetry)
DESCRIPTION:
URL:https://litwire.org/event/open-mic-jazz-poetry/2030-06-11/
LOCATION:Sweet Lorraine’s Jazz Club\, 1931 St Claude Ave\, New Orleans\, LA\, 70116\, United States
CATEGORIES:Open Mic
ATTACH;FMTTYPE=image/jpeg:https://litwire.org/wp-content/uploads/2024/01/sweetlorraines.jpg
END:VEVENT
BEGIN:VEVENT
DTSTART;TZID=America/Chicago:20300618T190000
DTEND;TZID=America/Chicago:20300618T210000
DTSTAMP:20260425T103457
CREATED:20240107T230419Z
LAST-MODIFIED:20240107T230831Z
UID:10004442-1908039600-1908046800@litwire.org
SUMMARY:Open Mic (Jazz & Poetry)
DESCRIPTION:
URL:https://litwire.org/event/open-mic-jazz-poetry/2030-06-18/
LOCATION:Sweet Lorraine’s Jazz Club\, 1931 St Claude Ave\, New Orleans\, LA\, 70116\, United States
CATEGORIES:Open Mic
ATTACH;FMTTYPE=image/jpeg:https://litwire.org/wp-content/uploads/2024/01/sweetlorraines.jpg
END:VEVENT
BEGIN:VEVENT
DTSTART;TZID=America/Chicago:20300625T190000
DTEND;TZID=America/Chicago:20300625T210000
DTSTAMP:20260425T103457
CREATED:20240107T230419Z
LAST-MODIFIED:20240107T230831Z
UID:10004446-1908644400-1908651600@litwire.org
SUMMARY:Open Mic (Jazz & Poetry)
DESCRIPTION:
URL:https://litwire.org/event/open-mic-jazz-poetry/2030-06-25/
LOCATION:Sweet Lorraine’s Jazz Club\, 1931 St Claude Ave\, New Orleans\, LA\, 70116\, United States
CATEGORIES:Open Mic
ATTACH;FMTTYPE=image/jpeg:https://litwire.org/wp-content/uploads/2024/01/sweetlorraines.jpg
END:VEVENT
BEGIN:VEVENT
DTSTART;TZID=America/Chicago:20300702T190000
DTEND;TZID=America/Chicago:20300702T210000
DTSTAMP:20260425T103457
CREATED:20240107T230419Z
LAST-MODIFIED:20240107T230831Z
UID:10004460-1909249200-1909256400@litwire.org
SUMMARY:Open Mic (Jazz & Poetry)
DESCRIPTION:
URL:https://litwire.org/event/open-mic-jazz-poetry/2030-07-02/
LOCATION:Sweet Lorraine’s Jazz Club\, 1931 St Claude Ave\, New Orleans\, LA\, 70116\, United States
CATEGORIES:Open Mic
ATTACH;FMTTYPE=image/jpeg:https://litwire.org/wp-content/uploads/2024/01/sweetlorraines.jpg
END:VEVENT
BEGIN:VEVENT
DTSTART;TZID=America/Chicago:20300709T190000
DTEND;TZID=America/Chicago:20300709T210000
DTSTAMP:20260425T103457
CREATED:20240107T230419Z
LAST-MODIFIED:20240107T230831Z
UID:10004465-1909854000-1909861200@litwire.org
SUMMARY:Open Mic (Jazz & Poetry)
DESCRIPTION:
URL:https://litwire.org/event/open-mic-jazz-poetry/2030-07-09/
LOCATION:Sweet Lorraine’s Jazz Club\, 1931 St Claude Ave\, New Orleans\, LA\, 70116\, United States
CATEGORIES:Open Mic
ATTACH;FMTTYPE=image/jpeg:https://litwire.org/wp-content/uploads/2024/01/sweetlorraines.jpg
END:VEVENT
BEGIN:VEVENT
DTSTART;TZID=America/Chicago:20300716T190000
DTEND;TZID=America/Chicago:20300716T210000
DTSTAMP:20260425T103457
CREATED:20240107T230419Z
LAST-MODIFIED:20240107T230831Z
UID:10004469-1910458800-1910466000@litwire.org
SUMMARY:Open Mic (Jazz & Poetry)
DESCRIPTION:
URL:https://litwire.org/event/open-mic-jazz-poetry/2030-07-16/
LOCATION:Sweet Lorraine’s Jazz Club\, 1931 St Claude Ave\, New Orleans\, LA\, 70116\, United States
CATEGORIES:Open Mic
ATTACH;FMTTYPE=image/jpeg:https://litwire.org/wp-content/uploads/2024/01/sweetlorraines.jpg
END:VEVENT
BEGIN:VEVENT
DTSTART;TZID=America/Chicago:20300723T190000
DTEND;TZID=America/Chicago:20300723T210000
DTSTAMP:20260425T103457
CREATED:20240107T230419Z
LAST-MODIFIED:20240107T230831Z
UID:10004475-1911063600-1911070800@litwire.org
SUMMARY:Open Mic (Jazz & Poetry)
DESCRIPTION:
URL:https://litwire.org/event/open-mic-jazz-poetry/2030-07-23/
LOCATION:Sweet Lorraine’s Jazz Club\, 1931 St Claude Ave\, New Orleans\, LA\, 70116\, United States
CATEGORIES:Open Mic
ATTACH;FMTTYPE=image/jpeg:https://litwire.org/wp-content/uploads/2024/01/sweetlorraines.jpg
END:VEVENT
BEGIN:VEVENT
DTSTART;TZID=America/Chicago:20300730T190000
DTEND;TZID=America/Chicago:20300730T210000
DTSTAMP:20260425T103457
CREATED:20240107T230419Z
LAST-MODIFIED:20240107T230831Z
UID:10004479-1911668400-1911675600@litwire.org
SUMMARY:Open Mic (Jazz & Poetry)
DESCRIPTION:
URL:https://litwire.org/event/open-mic-jazz-poetry/2030-07-30/
LOCATION:Sweet Lorraine’s Jazz Club\, 1931 St Claude Ave\, New Orleans\, LA\, 70116\, United States
CATEGORIES:Open Mic
ATTACH;FMTTYPE=image/jpeg:https://litwire.org/wp-content/uploads/2024/01/sweetlorraines.jpg
END:VEVENT
BEGIN:VEVENT
DTSTART;TZID=America/Chicago:20300806T190000
DTEND;TZID=America/Chicago:20300806T210000
DTSTAMP:20260425T103457
CREATED:20240107T230419Z
LAST-MODIFIED:20240107T230831Z
UID:10004744-1912273200-1912280400@litwire.org
SUMMARY:Open Mic (Jazz & Poetry)
DESCRIPTION:
URL:https://litwire.org/event/open-mic-jazz-poetry/2030-08-06/
LOCATION:Sweet Lorraine’s Jazz Club\, 1931 St Claude Ave\, New Orleans\, LA\, 70116\, United States
CATEGORIES:Open Mic
ATTACH;FMTTYPE=image/jpeg:https://litwire.org/wp-content/uploads/2024/01/sweetlorraines.jpg
END:VEVENT
BEGIN:VEVENT
DTSTART;TZID=America/Chicago:20300813T190000
DTEND;TZID=America/Chicago:20300813T210000
DTSTAMP:20260425T103458
CREATED:20240107T230419Z
LAST-MODIFIED:20240107T230831Z
UID:10004747-1912878000-1912885200@litwire.org
SUMMARY:Open Mic (Jazz & Poetry)
DESCRIPTION:
URL:https://litwire.org/event/open-mic-jazz-poetry/2030-08-13/
LOCATION:Sweet Lorraine’s Jazz Club\, 1931 St Claude Ave\, New Orleans\, LA\, 70116\, United States
CATEGORIES:Open Mic
ATTACH;FMTTYPE=image/jpeg:https://litwire.org/wp-content/uploads/2024/01/sweetlorraines.jpg
END:VEVENT
BEGIN:VEVENT
DTSTART;TZID=America/Chicago:20300820T190000
DTEND;TZID=America/Chicago:20300820T210000
DTSTAMP:20260425T103458
CREATED:20240107T230419Z
LAST-MODIFIED:20240107T230831Z
UID:10004753-1913482800-1913490000@litwire.org
SUMMARY:Open Mic (Jazz & Poetry)
DESCRIPTION:
URL:https://litwire.org/event/open-mic-jazz-poetry/2030-08-20/
LOCATION:Sweet Lorraine’s Jazz Club\, 1931 St Claude Ave\, New Orleans\, LA\, 70116\, United States
CATEGORIES:Open Mic
ATTACH;FMTTYPE=image/jpeg:https://litwire.org/wp-content/uploads/2024/01/sweetlorraines.jpg
END:VEVENT
BEGIN:VEVENT
DTSTART;TZID=America/Chicago:20300827T190000
DTEND;TZID=America/Chicago:20300827T210000
DTSTAMP:20260425T103458
CREATED:20240107T230419Z
LAST-MODIFIED:20240107T230831Z
UID:10004768-1914087600-1914094800@litwire.org
SUMMARY:Open Mic (Jazz & Poetry)
DESCRIPTION:
URL:https://litwire.org/event/open-mic-jazz-poetry/2030-08-27/
LOCATION:Sweet Lorraine’s Jazz Club\, 1931 St Claude Ave\, New Orleans\, LA\, 70116\, United States
CATEGORIES:Open Mic
ATTACH;FMTTYPE=image/jpeg:https://litwire.org/wp-content/uploads/2024/01/sweetlorraines.jpg
END:VEVENT
BEGIN:VEVENT
DTSTART;TZID=America/Chicago:20300903T190000
DTEND;TZID=America/Chicago:20300903T210000
DTSTAMP:20260425T103458
CREATED:20240107T230419Z
LAST-MODIFIED:20240107T230831Z
UID:10004774-1914692400-1914699600@litwire.org
SUMMARY:Open Mic (Jazz & Poetry)
DESCRIPTION:
URL:https://litwire.org/event/open-mic-jazz-poetry/2030-09-03/
LOCATION:Sweet Lorraine’s Jazz Club\, 1931 St Claude Ave\, New Orleans\, LA\, 70116\, United States
CATEGORIES:Open Mic
ATTACH;FMTTYPE=image/jpeg:https://litwire.org/wp-content/uploads/2024/01/sweetlorraines.jpg
END:VEVENT
END:VCALENDAR