BEGIN:VCALENDAR
VERSION:2.0
PRODID:-//LitWire - ECPv6.15.20//NONSGML v1.0//EN
CALSCALE:GREGORIAN
METHOD:PUBLISH
X-WR-CALNAME:LitWire
X-ORIGINAL-URL:https://litwire.org
X-WR-CALDESC:Events for LitWire
REFRESH-INTERVAL;VALUE=DURATION:PT1H
X-Robots-Tag:noindex
X-PUBLISHED-TTL:PT1H
BEGIN:VTIMEZONE
TZID:America/Chicago
BEGIN:DAYLIGHT
TZOFFSETFROM:-0600
TZOFFSETTO:-0500
TZNAME:CDT
DTSTART:20250309T080000
END:DAYLIGHT
BEGIN:STANDARD
TZOFFSETFROM:-0500
TZOFFSETTO:-0600
TZNAME:CST
DTSTART:20251102T070000
END:STANDARD
BEGIN:DAYLIGHT
TZOFFSETFROM:-0600
TZOFFSETTO:-0500
TZNAME:CDT
DTSTART:20260308T080000
END:DAYLIGHT
BEGIN:STANDARD
TZOFFSETFROM:-0500
TZOFFSETTO:-0600
TZNAME:CST
DTSTART:20261101T070000
END:STANDARD
BEGIN:DAYLIGHT
TZOFFSETFROM:-0600
TZOFFSETTO:-0500
TZNAME:CDT
DTSTART:20270314T080000
END:DAYLIGHT
BEGIN:STANDARD
TZOFFSETFROM:-0500
TZOFFSETTO:-0600
TZNAME:CST
DTSTART:20271107T070000
END:STANDARD
END:VTIMEZONE
BEGIN:VEVENT
DTSTART;TZID=America/Chicago:20260428T190000
DTEND;TZID=America/Chicago:20260428T210000
DTSTAMP:20260423T101616
CREATED:20240107T230419Z
LAST-MODIFIED:20240107T230831Z
UID:10002836-1777402800-1777410000@litwire.org
SUMMARY:Open Mic (Jazz & Poetry)
DESCRIPTION:
URL:https://litwire.org/event/open-mic-jazz-poetry/2026-04-28/
LOCATION:Sweet Lorraine’s Jazz Club\, 1931 St Claude Ave\, New Orleans\, LA\, 70116\, United States
CATEGORIES:Open Mic
ATTACH;FMTTYPE=image/jpeg:https://litwire.org/wp-content/uploads/2024/01/sweetlorraines.jpg
END:VEVENT
BEGIN:VEVENT
DTSTART;TZID=America/Chicago:20260505T190000
DTEND;TZID=America/Chicago:20260505T210000
DTSTAMP:20260423T101616
CREATED:20240107T230419Z
LAST-MODIFIED:20240107T230831Z
UID:10002837-1778007600-1778014800@litwire.org
SUMMARY:Open Mic (Jazz & Poetry)
DESCRIPTION:
URL:https://litwire.org/event/open-mic-jazz-poetry/2026-05-05/
LOCATION:Sweet Lorraine’s Jazz Club\, 1931 St Claude Ave\, New Orleans\, LA\, 70116\, United States
CATEGORIES:Open Mic
ATTACH;FMTTYPE=image/jpeg:https://litwire.org/wp-content/uploads/2024/01/sweetlorraines.jpg
END:VEVENT
BEGIN:VEVENT
DTSTART;TZID=America/Chicago:20260512T190000
DTEND;TZID=America/Chicago:20260512T210000
DTSTAMP:20260423T101616
CREATED:20240107T230419Z
LAST-MODIFIED:20240107T230831Z
UID:10002838-1778612400-1778619600@litwire.org
SUMMARY:Open Mic (Jazz & Poetry)
DESCRIPTION:
URL:https://litwire.org/event/open-mic-jazz-poetry/2026-05-12/
LOCATION:Sweet Lorraine’s Jazz Club\, 1931 St Claude Ave\, New Orleans\, LA\, 70116\, United States
CATEGORIES:Open Mic
ATTACH;FMTTYPE=image/jpeg:https://litwire.org/wp-content/uploads/2024/01/sweetlorraines.jpg
END:VEVENT
BEGIN:VEVENT
DTSTART;TZID=America/Chicago:20260519T190000
DTEND;TZID=America/Chicago:20260519T210000
DTSTAMP:20260423T101616
CREATED:20240107T230419Z
LAST-MODIFIED:20240107T230831Z
UID:10002839-1779217200-1779224400@litwire.org
SUMMARY:Open Mic (Jazz & Poetry)
DESCRIPTION:
URL:https://litwire.org/event/open-mic-jazz-poetry/2026-05-19/
LOCATION:Sweet Lorraine’s Jazz Club\, 1931 St Claude Ave\, New Orleans\, LA\, 70116\, United States
CATEGORIES:Open Mic
ATTACH;FMTTYPE=image/jpeg:https://litwire.org/wp-content/uploads/2024/01/sweetlorraines.jpg
END:VEVENT
BEGIN:VEVENT
DTSTART;TZID=America/Chicago:20260526T190000
DTEND;TZID=America/Chicago:20260526T210000
DTSTAMP:20260423T101616
CREATED:20240107T230419Z
LAST-MODIFIED:20240107T230831Z
UID:10002840-1779822000-1779829200@litwire.org
SUMMARY:Open Mic (Jazz & Poetry)
DESCRIPTION:
URL:https://litwire.org/event/open-mic-jazz-poetry/2026-05-26/
LOCATION:Sweet Lorraine’s Jazz Club\, 1931 St Claude Ave\, New Orleans\, LA\, 70116\, United States
CATEGORIES:Open Mic
ATTACH;FMTTYPE=image/jpeg:https://litwire.org/wp-content/uploads/2024/01/sweetlorraines.jpg
END:VEVENT
BEGIN:VEVENT
DTSTART;TZID=America/Chicago:20260602T190000
DTEND;TZID=America/Chicago:20260602T210000
DTSTAMP:20260423T101616
CREATED:20240107T230419Z
LAST-MODIFIED:20240107T230831Z
UID:10002841-1780426800-1780434000@litwire.org
SUMMARY:Open Mic (Jazz & Poetry)
DESCRIPTION:
URL:https://litwire.org/event/open-mic-jazz-poetry/2026-06-02/
LOCATION:Sweet Lorraine’s Jazz Club\, 1931 St Claude Ave\, New Orleans\, LA\, 70116\, United States
CATEGORIES:Open Mic
ATTACH;FMTTYPE=image/jpeg:https://litwire.org/wp-content/uploads/2024/01/sweetlorraines.jpg
END:VEVENT
BEGIN:VEVENT
DTSTART;TZID=America/Chicago:20260609T190000
DTEND;TZID=America/Chicago:20260609T210000
DTSTAMP:20260423T101616
CREATED:20240107T230419Z
LAST-MODIFIED:20240107T230831Z
UID:10002842-1781031600-1781038800@litwire.org
SUMMARY:Open Mic (Jazz & Poetry)
DESCRIPTION:
URL:https://litwire.org/event/open-mic-jazz-poetry/2026-06-09/
LOCATION:Sweet Lorraine’s Jazz Club\, 1931 St Claude Ave\, New Orleans\, LA\, 70116\, United States
CATEGORIES:Open Mic
ATTACH;FMTTYPE=image/jpeg:https://litwire.org/wp-content/uploads/2024/01/sweetlorraines.jpg
END:VEVENT
BEGIN:VEVENT
DTSTART;TZID=America/Chicago:20260616T190000
DTEND;TZID=America/Chicago:20260616T210000
DTSTAMP:20260423T101616
CREATED:20240107T230419Z
LAST-MODIFIED:20240107T230831Z
UID:10002843-1781636400-1781643600@litwire.org
SUMMARY:Open Mic (Jazz & Poetry)
DESCRIPTION:
URL:https://litwire.org/event/open-mic-jazz-poetry/2026-06-16/
LOCATION:Sweet Lorraine’s Jazz Club\, 1931 St Claude Ave\, New Orleans\, LA\, 70116\, United States
CATEGORIES:Open Mic
ATTACH;FMTTYPE=image/jpeg:https://litwire.org/wp-content/uploads/2024/01/sweetlorraines.jpg
END:VEVENT
BEGIN:VEVENT
DTSTART;TZID=America/Chicago:20260623T190000
DTEND;TZID=America/Chicago:20260623T210000
DTSTAMP:20260423T101616
CREATED:20240107T230419Z
LAST-MODIFIED:20240107T230831Z
UID:10002844-1782241200-1782248400@litwire.org
SUMMARY:Open Mic (Jazz & Poetry)
DESCRIPTION:
URL:https://litwire.org/event/open-mic-jazz-poetry/2026-06-23/
LOCATION:Sweet Lorraine’s Jazz Club\, 1931 St Claude Ave\, New Orleans\, LA\, 70116\, United States
CATEGORIES:Open Mic
ATTACH;FMTTYPE=image/jpeg:https://litwire.org/wp-content/uploads/2024/01/sweetlorraines.jpg
END:VEVENT
BEGIN:VEVENT
DTSTART;TZID=America/Chicago:20260630T190000
DTEND;TZID=America/Chicago:20260630T210000
DTSTAMP:20260423T101616
CREATED:20240107T230419Z
LAST-MODIFIED:20240107T230831Z
UID:10002845-1782846000-1782853200@litwire.org
SUMMARY:Open Mic (Jazz & Poetry)
DESCRIPTION:
URL:https://litwire.org/event/open-mic-jazz-poetry/2026-06-30/
LOCATION:Sweet Lorraine’s Jazz Club\, 1931 St Claude Ave\, New Orleans\, LA\, 70116\, United States
CATEGORIES:Open Mic
ATTACH;FMTTYPE=image/jpeg:https://litwire.org/wp-content/uploads/2024/01/sweetlorraines.jpg
END:VEVENT
BEGIN:VEVENT
DTSTART;TZID=America/Chicago:20260707T190000
DTEND;TZID=America/Chicago:20260707T210000
DTSTAMP:20260423T101616
CREATED:20240107T230419Z
LAST-MODIFIED:20240107T230831Z
UID:10002846-1783450800-1783458000@litwire.org
SUMMARY:Open Mic (Jazz & Poetry)
DESCRIPTION:
URL:https://litwire.org/event/open-mic-jazz-poetry/2026-07-07/
LOCATION:Sweet Lorraine’s Jazz Club\, 1931 St Claude Ave\, New Orleans\, LA\, 70116\, United States
CATEGORIES:Open Mic
ATTACH;FMTTYPE=image/jpeg:https://litwire.org/wp-content/uploads/2024/01/sweetlorraines.jpg
END:VEVENT
BEGIN:VEVENT
DTSTART;TZID=America/Chicago:20260714T190000
DTEND;TZID=America/Chicago:20260714T210000
DTSTAMP:20260423T101616
CREATED:20240107T230419Z
LAST-MODIFIED:20240107T230831Z
UID:10002847-1784055600-1784062800@litwire.org
SUMMARY:Open Mic (Jazz & Poetry)
DESCRIPTION:
URL:https://litwire.org/event/open-mic-jazz-poetry/2026-07-14/
LOCATION:Sweet Lorraine’s Jazz Club\, 1931 St Claude Ave\, New Orleans\, LA\, 70116\, United States
CATEGORIES:Open Mic
ATTACH;FMTTYPE=image/jpeg:https://litwire.org/wp-content/uploads/2024/01/sweetlorraines.jpg
END:VEVENT
BEGIN:VEVENT
DTSTART;TZID=America/Chicago:20260721T190000
DTEND;TZID=America/Chicago:20260721T210000
DTSTAMP:20260423T101616
CREATED:20240107T230419Z
LAST-MODIFIED:20240107T230831Z
UID:10002848-1784660400-1784667600@litwire.org
SUMMARY:Open Mic (Jazz & Poetry)
DESCRIPTION:
URL:https://litwire.org/event/open-mic-jazz-poetry/2026-07-21/
LOCATION:Sweet Lorraine’s Jazz Club\, 1931 St Claude Ave\, New Orleans\, LA\, 70116\, United States
CATEGORIES:Open Mic
ATTACH;FMTTYPE=image/jpeg:https://litwire.org/wp-content/uploads/2024/01/sweetlorraines.jpg
END:VEVENT
BEGIN:VEVENT
DTSTART;TZID=America/Chicago:20260728T190000
DTEND;TZID=America/Chicago:20260728T210000
DTSTAMP:20260423T101616
CREATED:20240107T230419Z
LAST-MODIFIED:20240107T230831Z
UID:10002849-1785265200-1785272400@litwire.org
SUMMARY:Open Mic (Jazz & Poetry)
DESCRIPTION:
URL:https://litwire.org/event/open-mic-jazz-poetry/2026-07-28/
LOCATION:Sweet Lorraine’s Jazz Club\, 1931 St Claude Ave\, New Orleans\, LA\, 70116\, United States
CATEGORIES:Open Mic
ATTACH;FMTTYPE=image/jpeg:https://litwire.org/wp-content/uploads/2024/01/sweetlorraines.jpg
END:VEVENT
BEGIN:VEVENT
DTSTART;TZID=America/Chicago:20260804T190000
DTEND;TZID=America/Chicago:20260804T210000
DTSTAMP:20260423T101616
CREATED:20240107T230419Z
LAST-MODIFIED:20240107T230831Z
UID:10002850-1785870000-1785877200@litwire.org
SUMMARY:Open Mic (Jazz & Poetry)
DESCRIPTION:
URL:https://litwire.org/event/open-mic-jazz-poetry/2026-08-04/
LOCATION:Sweet Lorraine’s Jazz Club\, 1931 St Claude Ave\, New Orleans\, LA\, 70116\, United States
CATEGORIES:Open Mic
ATTACH;FMTTYPE=image/jpeg:https://litwire.org/wp-content/uploads/2024/01/sweetlorraines.jpg
END:VEVENT
BEGIN:VEVENT
DTSTART;TZID=America/Chicago:20260811T190000
DTEND;TZID=America/Chicago:20260811T210000
DTSTAMP:20260423T101616
CREATED:20240107T230419Z
LAST-MODIFIED:20240107T230831Z
UID:10002851-1786474800-1786482000@litwire.org
SUMMARY:Open Mic (Jazz & Poetry)
DESCRIPTION:
URL:https://litwire.org/event/open-mic-jazz-poetry/2026-08-11/
LOCATION:Sweet Lorraine’s Jazz Club\, 1931 St Claude Ave\, New Orleans\, LA\, 70116\, United States
CATEGORIES:Open Mic
ATTACH;FMTTYPE=image/jpeg:https://litwire.org/wp-content/uploads/2024/01/sweetlorraines.jpg
END:VEVENT
BEGIN:VEVENT
DTSTART;TZID=America/Chicago:20260818T190000
DTEND;TZID=America/Chicago:20260818T210000
DTSTAMP:20260423T101616
CREATED:20240107T230419Z
LAST-MODIFIED:20240107T230831Z
UID:10002852-1787079600-1787086800@litwire.org
SUMMARY:Open Mic (Jazz & Poetry)
DESCRIPTION:
URL:https://litwire.org/event/open-mic-jazz-poetry/2026-08-18/
LOCATION:Sweet Lorraine’s Jazz Club\, 1931 St Claude Ave\, New Orleans\, LA\, 70116\, United States
CATEGORIES:Open Mic
ATTACH;FMTTYPE=image/jpeg:https://litwire.org/wp-content/uploads/2024/01/sweetlorraines.jpg
END:VEVENT
BEGIN:VEVENT
DTSTART;TZID=America/Chicago:20260825T190000
DTEND;TZID=America/Chicago:20260825T210000
DTSTAMP:20260423T101616
CREATED:20240107T230419Z
LAST-MODIFIED:20240107T230831Z
UID:10002853-1787684400-1787691600@litwire.org
SUMMARY:Open Mic (Jazz & Poetry)
DESCRIPTION:
URL:https://litwire.org/event/open-mic-jazz-poetry/2026-08-25/
LOCATION:Sweet Lorraine’s Jazz Club\, 1931 St Claude Ave\, New Orleans\, LA\, 70116\, United States
CATEGORIES:Open Mic
ATTACH;FMTTYPE=image/jpeg:https://litwire.org/wp-content/uploads/2024/01/sweetlorraines.jpg
END:VEVENT
BEGIN:VEVENT
DTSTART;TZID=America/Chicago:20260901T190000
DTEND;TZID=America/Chicago:20260901T210000
DTSTAMP:20260423T101616
CREATED:20240107T230419Z
LAST-MODIFIED:20240107T230831Z
UID:10002854-1788289200-1788296400@litwire.org
SUMMARY:Open Mic (Jazz & Poetry)
DESCRIPTION:
URL:https://litwire.org/event/open-mic-jazz-poetry/2026-09-01/
LOCATION:Sweet Lorraine’s Jazz Club\, 1931 St Claude Ave\, New Orleans\, LA\, 70116\, United States
CATEGORIES:Open Mic
ATTACH;FMTTYPE=image/jpeg:https://litwire.org/wp-content/uploads/2024/01/sweetlorraines.jpg
END:VEVENT
BEGIN:VEVENT
DTSTART;TZID=America/Chicago:20260908T190000
DTEND;TZID=America/Chicago:20260908T210000
DTSTAMP:20260423T101616
CREATED:20240107T230419Z
LAST-MODIFIED:20240107T230831Z
UID:10002855-1788894000-1788901200@litwire.org
SUMMARY:Open Mic (Jazz & Poetry)
DESCRIPTION:
URL:https://litwire.org/event/open-mic-jazz-poetry/2026-09-08/
LOCATION:Sweet Lorraine’s Jazz Club\, 1931 St Claude Ave\, New Orleans\, LA\, 70116\, United States
CATEGORIES:Open Mic
ATTACH;FMTTYPE=image/jpeg:https://litwire.org/wp-content/uploads/2024/01/sweetlorraines.jpg
END:VEVENT
BEGIN:VEVENT
DTSTART;TZID=America/Chicago:20260915T190000
DTEND;TZID=America/Chicago:20260915T210000
DTSTAMP:20260423T101616
CREATED:20240107T230419Z
LAST-MODIFIED:20240107T230831Z
UID:10002856-1789498800-1789506000@litwire.org
SUMMARY:Open Mic (Jazz & Poetry)
DESCRIPTION:
URL:https://litwire.org/event/open-mic-jazz-poetry/2026-09-15/
LOCATION:Sweet Lorraine’s Jazz Club\, 1931 St Claude Ave\, New Orleans\, LA\, 70116\, United States
CATEGORIES:Open Mic
ATTACH;FMTTYPE=image/jpeg:https://litwire.org/wp-content/uploads/2024/01/sweetlorraines.jpg
END:VEVENT
BEGIN:VEVENT
DTSTART;TZID=America/Chicago:20260922T190000
DTEND;TZID=America/Chicago:20260922T210000
DTSTAMP:20260423T101616
CREATED:20240107T230419Z
LAST-MODIFIED:20240107T230831Z
UID:10002857-1790103600-1790110800@litwire.org
SUMMARY:Open Mic (Jazz & Poetry)
DESCRIPTION:
URL:https://litwire.org/event/open-mic-jazz-poetry/2026-09-22/
LOCATION:Sweet Lorraine’s Jazz Club\, 1931 St Claude Ave\, New Orleans\, LA\, 70116\, United States
CATEGORIES:Open Mic
ATTACH;FMTTYPE=image/jpeg:https://litwire.org/wp-content/uploads/2024/01/sweetlorraines.jpg
END:VEVENT
BEGIN:VEVENT
DTSTART;TZID=America/Chicago:20260929T190000
DTEND;TZID=America/Chicago:20260929T210000
DTSTAMP:20260423T101616
CREATED:20240107T230419Z
LAST-MODIFIED:20240107T230831Z
UID:10002858-1790708400-1790715600@litwire.org
SUMMARY:Open Mic (Jazz & Poetry)
DESCRIPTION:
URL:https://litwire.org/event/open-mic-jazz-poetry/2026-09-29/
LOCATION:Sweet Lorraine’s Jazz Club\, 1931 St Claude Ave\, New Orleans\, LA\, 70116\, United States
CATEGORIES:Open Mic
ATTACH;FMTTYPE=image/jpeg:https://litwire.org/wp-content/uploads/2024/01/sweetlorraines.jpg
END:VEVENT
BEGIN:VEVENT
DTSTART;TZID=America/Chicago:20261006T190000
DTEND;TZID=America/Chicago:20261006T210000
DTSTAMP:20260423T101616
CREATED:20240107T230419Z
LAST-MODIFIED:20240107T230831Z
UID:10002859-1791313200-1791320400@litwire.org
SUMMARY:Open Mic (Jazz & Poetry)
DESCRIPTION:
URL:https://litwire.org/event/open-mic-jazz-poetry/2026-10-06/
LOCATION:Sweet Lorraine’s Jazz Club\, 1931 St Claude Ave\, New Orleans\, LA\, 70116\, United States
CATEGORIES:Open Mic
ATTACH;FMTTYPE=image/jpeg:https://litwire.org/wp-content/uploads/2024/01/sweetlorraines.jpg
END:VEVENT
BEGIN:VEVENT
DTSTART;TZID=America/Chicago:20261013T190000
DTEND;TZID=America/Chicago:20261013T210000
DTSTAMP:20260423T101616
CREATED:20240107T230419Z
LAST-MODIFIED:20240107T230831Z
UID:10002860-1791918000-1791925200@litwire.org
SUMMARY:Open Mic (Jazz & Poetry)
DESCRIPTION:
URL:https://litwire.org/event/open-mic-jazz-poetry/2026-10-13/
LOCATION:Sweet Lorraine’s Jazz Club\, 1931 St Claude Ave\, New Orleans\, LA\, 70116\, United States
CATEGORIES:Open Mic
ATTACH;FMTTYPE=image/jpeg:https://litwire.org/wp-content/uploads/2024/01/sweetlorraines.jpg
END:VEVENT
BEGIN:VEVENT
DTSTART;TZID=America/Chicago:20261020T190000
DTEND;TZID=America/Chicago:20261020T210000
DTSTAMP:20260423T101616
CREATED:20240107T230419Z
LAST-MODIFIED:20240107T230831Z
UID:10002861-1792522800-1792530000@litwire.org
SUMMARY:Open Mic (Jazz & Poetry)
DESCRIPTION:
URL:https://litwire.org/event/open-mic-jazz-poetry/2026-10-20/
LOCATION:Sweet Lorraine’s Jazz Club\, 1931 St Claude Ave\, New Orleans\, LA\, 70116\, United States
CATEGORIES:Open Mic
ATTACH;FMTTYPE=image/jpeg:https://litwire.org/wp-content/uploads/2024/01/sweetlorraines.jpg
END:VEVENT
BEGIN:VEVENT
DTSTART;TZID=America/Chicago:20261027T190000
DTEND;TZID=America/Chicago:20261027T210000
DTSTAMP:20260423T101616
CREATED:20240107T230419Z
LAST-MODIFIED:20240107T230831Z
UID:10002862-1793127600-1793134800@litwire.org
SUMMARY:Open Mic (Jazz & Poetry)
DESCRIPTION:
URL:https://litwire.org/event/open-mic-jazz-poetry/2026-10-27/
LOCATION:Sweet Lorraine’s Jazz Club\, 1931 St Claude Ave\, New Orleans\, LA\, 70116\, United States
CATEGORIES:Open Mic
ATTACH;FMTTYPE=image/jpeg:https://litwire.org/wp-content/uploads/2024/01/sweetlorraines.jpg
END:VEVENT
BEGIN:VEVENT
DTSTART;TZID=America/Chicago:20261103T190000
DTEND;TZID=America/Chicago:20261103T210000
DTSTAMP:20260423T101616
CREATED:20240107T230419Z
LAST-MODIFIED:20240107T230831Z
UID:10002863-1793732400-1793739600@litwire.org
SUMMARY:Open Mic (Jazz & Poetry)
DESCRIPTION:
URL:https://litwire.org/event/open-mic-jazz-poetry/2026-11-03/
LOCATION:Sweet Lorraine’s Jazz Club\, 1931 St Claude Ave\, New Orleans\, LA\, 70116\, United States
CATEGORIES:Open Mic
ATTACH;FMTTYPE=image/jpeg:https://litwire.org/wp-content/uploads/2024/01/sweetlorraines.jpg
END:VEVENT
BEGIN:VEVENT
DTSTART;TZID=America/Chicago:20261110T190000
DTEND;TZID=America/Chicago:20261110T210000
DTSTAMP:20260423T101616
CREATED:20240107T230419Z
LAST-MODIFIED:20240107T230831Z
UID:10002864-1794337200-1794344400@litwire.org
SUMMARY:Open Mic (Jazz & Poetry)
DESCRIPTION:
URL:https://litwire.org/event/open-mic-jazz-poetry/2026-11-10/
LOCATION:Sweet Lorraine’s Jazz Club\, 1931 St Claude Ave\, New Orleans\, LA\, 70116\, United States
CATEGORIES:Open Mic
ATTACH;FMTTYPE=image/jpeg:https://litwire.org/wp-content/uploads/2024/01/sweetlorraines.jpg
END:VEVENT
BEGIN:VEVENT
DTSTART;TZID=America/Chicago:20261117T190000
DTEND;TZID=America/Chicago:20261117T210000
DTSTAMP:20260423T101616
CREATED:20240107T230419Z
LAST-MODIFIED:20240107T230831Z
UID:10002865-1794942000-1794949200@litwire.org
SUMMARY:Open Mic (Jazz & Poetry)
DESCRIPTION:
URL:https://litwire.org/event/open-mic-jazz-poetry/2026-11-17/
LOCATION:Sweet Lorraine’s Jazz Club\, 1931 St Claude Ave\, New Orleans\, LA\, 70116\, United States
CATEGORIES:Open Mic
ATTACH;FMTTYPE=image/jpeg:https://litwire.org/wp-content/uploads/2024/01/sweetlorraines.jpg
END:VEVENT
END:VCALENDAR