BEGIN:VCALENDAR
VERSION:2.0
PRODID:-//LitWire - ECPv6.15.20//NONSGML v1.0//EN
CALSCALE:GREGORIAN
METHOD:PUBLISH
X-WR-CALNAME:LitWire
X-ORIGINAL-URL:https://litwire.org
X-WR-CALDESC:Events for LitWire
REFRESH-INTERVAL;VALUE=DURATION:PT1H
X-Robots-Tag:noindex
X-PUBLISHED-TTL:PT1H
BEGIN:VTIMEZONE
TZID:America/Chicago
BEGIN:DAYLIGHT
TZOFFSETFROM:-0600
TZOFFSETTO:-0500
TZNAME:CDT
DTSTART:20250309T080000
END:DAYLIGHT
BEGIN:STANDARD
TZOFFSETFROM:-0500
TZOFFSETTO:-0600
TZNAME:CST
DTSTART:20251102T070000
END:STANDARD
BEGIN:DAYLIGHT
TZOFFSETFROM:-0600
TZOFFSETTO:-0500
TZNAME:CDT
DTSTART:20260308T080000
END:DAYLIGHT
BEGIN:STANDARD
TZOFFSETFROM:-0500
TZOFFSETTO:-0600
TZNAME:CST
DTSTART:20261101T070000
END:STANDARD
BEGIN:DAYLIGHT
TZOFFSETFROM:-0600
TZOFFSETTO:-0500
TZNAME:CDT
DTSTART:20270314T080000
END:DAYLIGHT
BEGIN:STANDARD
TZOFFSETFROM:-0500
TZOFFSETTO:-0600
TZNAME:CST
DTSTART:20271107T070000
END:STANDARD
BEGIN:DAYLIGHT
TZOFFSETFROM:-0600
TZOFFSETTO:-0500
TZNAME:CDT
DTSTART:20280312T080000
END:DAYLIGHT
BEGIN:STANDARD
TZOFFSETFROM:-0500
TZOFFSETTO:-0600
TZNAME:CST
DTSTART:20281105T070000
END:STANDARD
BEGIN:DAYLIGHT
TZOFFSETFROM:-0600
TZOFFSETTO:-0500
TZNAME:CDT
DTSTART:20290311T080000
END:DAYLIGHT
BEGIN:STANDARD
TZOFFSETFROM:-0500
TZOFFSETTO:-0600
TZNAME:CST
DTSTART:20291104T070000
END:STANDARD
END:VTIMEZONE
BEGIN:VEVENT
DTSTART;TZID=America/Chicago:20260424T190000
DTEND;TZID=America/Chicago:20260424T210000
DTSTAMP:20260423T101638
CREATED:20230804T203009Z
LAST-MODIFIED:20230804T203009Z
UID:10001798-1777057200-1777064400@litwire.org
SUMMARY:Poetry and Espresso
DESCRIPTION:Poetry open mic with featured musicians\, on the last Friday of every month. Solo musicians are also invited to play the open mic. Free admission. Please arrive early if you want to perform. \nFive minute limit for poets. Seven to ten minutes for music open-mic singers and musicians. \nPlease arrive early to sign in!
URL:https://litwire.org/event/poetry-and-espresso/2026-04-24/
LOCATION:Roots Plants and Coffee\, 124 B Erlanger Avenue\, Slidell\, LA\, 70458\, United States
CATEGORIES:Open Mic,Poetry
ATTACH;FMTTYPE=image/jpeg:https://litwire.org/wp-content/uploads/2023/08/IMG_8029-scaled.jpeg
ORGANIZER;CN="Dennis Formento":MAILTO:mesechabe@hotmail.com
END:VEVENT
BEGIN:VEVENT
DTSTART;TZID=America/Chicago:20260529T190000
DTEND;TZID=America/Chicago:20260529T210000
DTSTAMP:20260423T101638
CREATED:20230804T203009Z
LAST-MODIFIED:20230804T203009Z
UID:10001799-1780081200-1780088400@litwire.org
SUMMARY:Poetry and Espresso
DESCRIPTION:Poetry open mic with featured musicians\, on the last Friday of every month. Solo musicians are also invited to play the open mic. Free admission. Please arrive early if you want to perform. \nFive minute limit for poets. Seven to ten minutes for music open-mic singers and musicians. \nPlease arrive early to sign in!
URL:https://litwire.org/event/poetry-and-espresso/2026-05-29/
LOCATION:Roots Plants and Coffee\, 124 B Erlanger Avenue\, Slidell\, LA\, 70458\, United States
CATEGORIES:Open Mic,Poetry
ATTACH;FMTTYPE=image/jpeg:https://litwire.org/wp-content/uploads/2023/08/IMG_8029-scaled.jpeg
ORGANIZER;CN="Dennis Formento":MAILTO:mesechabe@hotmail.com
END:VEVENT
BEGIN:VEVENT
DTSTART;TZID=America/Chicago:20260626T190000
DTEND;TZID=America/Chicago:20260626T210000
DTSTAMP:20260423T101638
CREATED:20230804T203009Z
LAST-MODIFIED:20230804T203009Z
UID:10001800-1782500400-1782507600@litwire.org
SUMMARY:Poetry and Espresso
DESCRIPTION:Poetry open mic with featured musicians\, on the last Friday of every month. Solo musicians are also invited to play the open mic. Free admission. Please arrive early if you want to perform. \nFive minute limit for poets. Seven to ten minutes for music open-mic singers and musicians. \nPlease arrive early to sign in!
URL:https://litwire.org/event/poetry-and-espresso/2026-06-26/
LOCATION:Roots Plants and Coffee\, 124 B Erlanger Avenue\, Slidell\, LA\, 70458\, United States
CATEGORIES:Open Mic,Poetry
ATTACH;FMTTYPE=image/jpeg:https://litwire.org/wp-content/uploads/2023/08/IMG_8029-scaled.jpeg
ORGANIZER;CN="Dennis Formento":MAILTO:mesechabe@hotmail.com
END:VEVENT
BEGIN:VEVENT
DTSTART;TZID=America/Chicago:20260731T190000
DTEND;TZID=America/Chicago:20260731T210000
DTSTAMP:20260423T101638
CREATED:20230804T203009Z
LAST-MODIFIED:20230804T203009Z
UID:10001801-1785524400-1785531600@litwire.org
SUMMARY:Poetry and Espresso
DESCRIPTION:Poetry open mic with featured musicians\, on the last Friday of every month. Solo musicians are also invited to play the open mic. Free admission. Please arrive early if you want to perform. \nFive minute limit for poets. Seven to ten minutes for music open-mic singers and musicians. \nPlease arrive early to sign in!
URL:https://litwire.org/event/poetry-and-espresso/2026-07-31/
LOCATION:Roots Plants and Coffee\, 124 B Erlanger Avenue\, Slidell\, LA\, 70458\, United States
CATEGORIES:Open Mic,Poetry
ATTACH;FMTTYPE=image/jpeg:https://litwire.org/wp-content/uploads/2023/08/IMG_8029-scaled.jpeg
ORGANIZER;CN="Dennis Formento":MAILTO:mesechabe@hotmail.com
END:VEVENT
BEGIN:VEVENT
DTSTART;TZID=America/Chicago:20260828T190000
DTEND;TZID=America/Chicago:20260828T210000
DTSTAMP:20260423T101638
CREATED:20230804T203009Z
LAST-MODIFIED:20230804T203009Z
UID:10001802-1787943600-1787950800@litwire.org
SUMMARY:Poetry and Espresso
DESCRIPTION:Poetry open mic with featured musicians\, on the last Friday of every month. Solo musicians are also invited to play the open mic. Free admission. Please arrive early if you want to perform. \nFive minute limit for poets. Seven to ten minutes for music open-mic singers and musicians. \nPlease arrive early to sign in!
URL:https://litwire.org/event/poetry-and-espresso/2026-08-28/
LOCATION:Roots Plants and Coffee\, 124 B Erlanger Avenue\, Slidell\, LA\, 70458\, United States
CATEGORIES:Open Mic,Poetry
ATTACH;FMTTYPE=image/jpeg:https://litwire.org/wp-content/uploads/2023/08/IMG_8029-scaled.jpeg
ORGANIZER;CN="Dennis Formento":MAILTO:mesechabe@hotmail.com
END:VEVENT
BEGIN:VEVENT
DTSTART;TZID=America/Chicago:20260925T190000
DTEND;TZID=America/Chicago:20260925T210000
DTSTAMP:20260423T101638
CREATED:20230804T203009Z
LAST-MODIFIED:20230804T203009Z
UID:10001803-1790362800-1790370000@litwire.org
SUMMARY:Poetry and Espresso
DESCRIPTION:Poetry open mic with featured musicians\, on the last Friday of every month. Solo musicians are also invited to play the open mic. Free admission. Please arrive early if you want to perform. \nFive minute limit for poets. Seven to ten minutes for music open-mic singers and musicians. \nPlease arrive early to sign in!
URL:https://litwire.org/event/poetry-and-espresso/2026-09-25/
LOCATION:Roots Plants and Coffee\, 124 B Erlanger Avenue\, Slidell\, LA\, 70458\, United States
CATEGORIES:Open Mic,Poetry
ATTACH;FMTTYPE=image/jpeg:https://litwire.org/wp-content/uploads/2023/08/IMG_8029-scaled.jpeg
ORGANIZER;CN="Dennis Formento":MAILTO:mesechabe@hotmail.com
END:VEVENT
BEGIN:VEVENT
DTSTART;TZID=America/Chicago:20261030T190000
DTEND;TZID=America/Chicago:20261030T210000
DTSTAMP:20260423T101638
CREATED:20230804T203009Z
LAST-MODIFIED:20230804T203009Z
UID:10001804-1793386800-1793394000@litwire.org
SUMMARY:Poetry and Espresso
DESCRIPTION:Poetry open mic with featured musicians\, on the last Friday of every month. Solo musicians are also invited to play the open mic. Free admission. Please arrive early if you want to perform. \nFive minute limit for poets. Seven to ten minutes for music open-mic singers and musicians. \nPlease arrive early to sign in!
URL:https://litwire.org/event/poetry-and-espresso/2026-10-30/
LOCATION:Roots Plants and Coffee\, 124 B Erlanger Avenue\, Slidell\, LA\, 70458\, United States
CATEGORIES:Open Mic,Poetry
ATTACH;FMTTYPE=image/jpeg:https://litwire.org/wp-content/uploads/2023/08/IMG_8029-scaled.jpeg
ORGANIZER;CN="Dennis Formento":MAILTO:mesechabe@hotmail.com
END:VEVENT
BEGIN:VEVENT
DTSTART;TZID=America/Chicago:20261127T190000
DTEND;TZID=America/Chicago:20261127T210000
DTSTAMP:20260423T101638
CREATED:20230804T203009Z
LAST-MODIFIED:20230804T203009Z
UID:10001805-1795806000-1795813200@litwire.org
SUMMARY:Poetry and Espresso
DESCRIPTION:Poetry open mic with featured musicians\, on the last Friday of every month. Solo musicians are also invited to play the open mic. Free admission. Please arrive early if you want to perform. \nFive minute limit for poets. Seven to ten minutes for music open-mic singers and musicians. \nPlease arrive early to sign in!
URL:https://litwire.org/event/poetry-and-espresso/2026-11-27/
LOCATION:Roots Plants and Coffee\, 124 B Erlanger Avenue\, Slidell\, LA\, 70458\, United States
CATEGORIES:Open Mic,Poetry
ATTACH;FMTTYPE=image/jpeg:https://litwire.org/wp-content/uploads/2023/08/IMG_8029-scaled.jpeg
ORGANIZER;CN="Dennis Formento":MAILTO:mesechabe@hotmail.com
END:VEVENT
BEGIN:VEVENT
DTSTART;TZID=America/Chicago:20261225T190000
DTEND;TZID=America/Chicago:20261225T210000
DTSTAMP:20260423T101638
CREATED:20230804T203009Z
LAST-MODIFIED:20230804T203009Z
UID:10001806-1798225200-1798232400@litwire.org
SUMMARY:Poetry and Espresso
DESCRIPTION:Poetry open mic with featured musicians\, on the last Friday of every month. Solo musicians are also invited to play the open mic. Free admission. Please arrive early if you want to perform. \nFive minute limit for poets. Seven to ten minutes for music open-mic singers and musicians. \nPlease arrive early to sign in!
URL:https://litwire.org/event/poetry-and-espresso/2026-12-25/
LOCATION:Roots Plants and Coffee\, 124 B Erlanger Avenue\, Slidell\, LA\, 70458\, United States
CATEGORIES:Open Mic,Poetry
ATTACH;FMTTYPE=image/jpeg:https://litwire.org/wp-content/uploads/2023/08/IMG_8029-scaled.jpeg
ORGANIZER;CN="Dennis Formento":MAILTO:mesechabe@hotmail.com
END:VEVENT
BEGIN:VEVENT
DTSTART;TZID=America/Chicago:20270129T190000
DTEND;TZID=America/Chicago:20270129T210000
DTSTAMP:20260423T101638
CREATED:20230804T203009Z
LAST-MODIFIED:20230804T203009Z
UID:10001807-1801249200-1801256400@litwire.org
SUMMARY:Poetry and Espresso
DESCRIPTION:Poetry open mic with featured musicians\, on the last Friday of every month. Solo musicians are also invited to play the open mic. Free admission. Please arrive early if you want to perform. \nFive minute limit for poets. Seven to ten minutes for music open-mic singers and musicians. \nPlease arrive early to sign in!
URL:https://litwire.org/event/poetry-and-espresso/2027-01-29/
LOCATION:Roots Plants and Coffee\, 124 B Erlanger Avenue\, Slidell\, LA\, 70458\, United States
CATEGORIES:Open Mic,Poetry
ATTACH;FMTTYPE=image/jpeg:https://litwire.org/wp-content/uploads/2023/08/IMG_8029-scaled.jpeg
ORGANIZER;CN="Dennis Formento":MAILTO:mesechabe@hotmail.com
END:VEVENT
BEGIN:VEVENT
DTSTART;TZID=America/Chicago:20270226T190000
DTEND;TZID=America/Chicago:20270226T210000
DTSTAMP:20260423T101638
CREATED:20230804T203009Z
LAST-MODIFIED:20230804T203009Z
UID:10001808-1803668400-1803675600@litwire.org
SUMMARY:Poetry and Espresso
DESCRIPTION:Poetry open mic with featured musicians\, on the last Friday of every month. Solo musicians are also invited to play the open mic. Free admission. Please arrive early if you want to perform. \nFive minute limit for poets. Seven to ten minutes for music open-mic singers and musicians. \nPlease arrive early to sign in!
URL:https://litwire.org/event/poetry-and-espresso/2027-02-26/
LOCATION:Roots Plants and Coffee\, 124 B Erlanger Avenue\, Slidell\, LA\, 70458\, United States
CATEGORIES:Open Mic,Poetry
ATTACH;FMTTYPE=image/jpeg:https://litwire.org/wp-content/uploads/2023/08/IMG_8029-scaled.jpeg
ORGANIZER;CN="Dennis Formento":MAILTO:mesechabe@hotmail.com
END:VEVENT
BEGIN:VEVENT
DTSTART;TZID=America/Chicago:20270326T190000
DTEND;TZID=America/Chicago:20270326T210000
DTSTAMP:20260423T101638
CREATED:20230804T203009Z
LAST-MODIFIED:20230804T203009Z
UID:10001809-1806087600-1806094800@litwire.org
SUMMARY:Poetry and Espresso
DESCRIPTION:Poetry open mic with featured musicians\, on the last Friday of every month. Solo musicians are also invited to play the open mic. Free admission. Please arrive early if you want to perform. \nFive minute limit for poets. Seven to ten minutes for music open-mic singers and musicians. \nPlease arrive early to sign in!
URL:https://litwire.org/event/poetry-and-espresso/2027-03-26/
LOCATION:Roots Plants and Coffee\, 124 B Erlanger Avenue\, Slidell\, LA\, 70458\, United States
CATEGORIES:Open Mic,Poetry
ATTACH;FMTTYPE=image/jpeg:https://litwire.org/wp-content/uploads/2023/08/IMG_8029-scaled.jpeg
ORGANIZER;CN="Dennis Formento":MAILTO:mesechabe@hotmail.com
END:VEVENT
BEGIN:VEVENT
DTSTART;TZID=America/Chicago:20270430T190000
DTEND;TZID=America/Chicago:20270430T210000
DTSTAMP:20260423T101638
CREATED:20230804T203009Z
LAST-MODIFIED:20230804T203009Z
UID:10001810-1809111600-1809118800@litwire.org
SUMMARY:Poetry and Espresso
DESCRIPTION:Poetry open mic with featured musicians\, on the last Friday of every month. Solo musicians are also invited to play the open mic. Free admission. Please arrive early if you want to perform. \nFive minute limit for poets. Seven to ten minutes for music open-mic singers and musicians. \nPlease arrive early to sign in!
URL:https://litwire.org/event/poetry-and-espresso/2027-04-30/
LOCATION:Roots Plants and Coffee\, 124 B Erlanger Avenue\, Slidell\, LA\, 70458\, United States
CATEGORIES:Open Mic,Poetry
ATTACH;FMTTYPE=image/jpeg:https://litwire.org/wp-content/uploads/2023/08/IMG_8029-scaled.jpeg
ORGANIZER;CN="Dennis Formento":MAILTO:mesechabe@hotmail.com
END:VEVENT
BEGIN:VEVENT
DTSTART;TZID=America/Chicago:20270528T190000
DTEND;TZID=America/Chicago:20270528T210000
DTSTAMP:20260423T101638
CREATED:20230804T203009Z
LAST-MODIFIED:20230804T203009Z
UID:10001811-1811530800-1811538000@litwire.org
SUMMARY:Poetry and Espresso
DESCRIPTION:Poetry open mic with featured musicians\, on the last Friday of every month. Solo musicians are also invited to play the open mic. Free admission. Please arrive early if you want to perform. \nFive minute limit for poets. Seven to ten minutes for music open-mic singers and musicians. \nPlease arrive early to sign in!
URL:https://litwire.org/event/poetry-and-espresso/2027-05-28/
LOCATION:Roots Plants and Coffee\, 124 B Erlanger Avenue\, Slidell\, LA\, 70458\, United States
CATEGORIES:Open Mic,Poetry
ATTACH;FMTTYPE=image/jpeg:https://litwire.org/wp-content/uploads/2023/08/IMG_8029-scaled.jpeg
ORGANIZER;CN="Dennis Formento":MAILTO:mesechabe@hotmail.com
END:VEVENT
BEGIN:VEVENT
DTSTART;TZID=America/Chicago:20270625T190000
DTEND;TZID=America/Chicago:20270625T210000
DTSTAMP:20260423T101638
CREATED:20230804T203009Z
LAST-MODIFIED:20230804T203009Z
UID:10001812-1813950000-1813957200@litwire.org
SUMMARY:Poetry and Espresso
DESCRIPTION:Poetry open mic with featured musicians\, on the last Friday of every month. Solo musicians are also invited to play the open mic. Free admission. Please arrive early if you want to perform. \nFive minute limit for poets. Seven to ten minutes for music open-mic singers and musicians. \nPlease arrive early to sign in!
URL:https://litwire.org/event/poetry-and-espresso/2027-06-25/
LOCATION:Roots Plants and Coffee\, 124 B Erlanger Avenue\, Slidell\, LA\, 70458\, United States
CATEGORIES:Open Mic,Poetry
ATTACH;FMTTYPE=image/jpeg:https://litwire.org/wp-content/uploads/2023/08/IMG_8029-scaled.jpeg
ORGANIZER;CN="Dennis Formento":MAILTO:mesechabe@hotmail.com
END:VEVENT
BEGIN:VEVENT
DTSTART;TZID=America/Chicago:20270730T190000
DTEND;TZID=America/Chicago:20270730T210000
DTSTAMP:20260423T101638
CREATED:20230804T203009Z
LAST-MODIFIED:20230804T203009Z
UID:10001813-1816974000-1816981200@litwire.org
SUMMARY:Poetry and Espresso
DESCRIPTION:Poetry open mic with featured musicians\, on the last Friday of every month. Solo musicians are also invited to play the open mic. Free admission. Please arrive early if you want to perform. \nFive minute limit for poets. Seven to ten minutes for music open-mic singers and musicians. \nPlease arrive early to sign in!
URL:https://litwire.org/event/poetry-and-espresso/2027-07-30/
LOCATION:Roots Plants and Coffee\, 124 B Erlanger Avenue\, Slidell\, LA\, 70458\, United States
CATEGORIES:Open Mic,Poetry
ATTACH;FMTTYPE=image/jpeg:https://litwire.org/wp-content/uploads/2023/08/IMG_8029-scaled.jpeg
ORGANIZER;CN="Dennis Formento":MAILTO:mesechabe@hotmail.com
END:VEVENT
BEGIN:VEVENT
DTSTART;TZID=America/Chicago:20270827T190000
DTEND;TZID=America/Chicago:20270827T210000
DTSTAMP:20260423T101638
CREATED:20230804T203009Z
LAST-MODIFIED:20230804T203009Z
UID:10001814-1819393200-1819400400@litwire.org
SUMMARY:Poetry and Espresso
DESCRIPTION:Poetry open mic with featured musicians\, on the last Friday of every month. Solo musicians are also invited to play the open mic. Free admission. Please arrive early if you want to perform. \nFive minute limit for poets. Seven to ten minutes for music open-mic singers and musicians. \nPlease arrive early to sign in!
URL:https://litwire.org/event/poetry-and-espresso/2027-08-27/
LOCATION:Roots Plants and Coffee\, 124 B Erlanger Avenue\, Slidell\, LA\, 70458\, United States
CATEGORIES:Open Mic,Poetry
ATTACH;FMTTYPE=image/jpeg:https://litwire.org/wp-content/uploads/2023/08/IMG_8029-scaled.jpeg
ORGANIZER;CN="Dennis Formento":MAILTO:mesechabe@hotmail.com
END:VEVENT
BEGIN:VEVENT
DTSTART;TZID=America/Chicago:20270924T190000
DTEND;TZID=America/Chicago:20270924T210000
DTSTAMP:20260423T101638
CREATED:20230804T203009Z
LAST-MODIFIED:20230804T203009Z
UID:10001815-1821812400-1821819600@litwire.org
SUMMARY:Poetry and Espresso
DESCRIPTION:Poetry open mic with featured musicians\, on the last Friday of every month. Solo musicians are also invited to play the open mic. Free admission. Please arrive early if you want to perform. \nFive minute limit for poets. Seven to ten minutes for music open-mic singers and musicians. \nPlease arrive early to sign in!
URL:https://litwire.org/event/poetry-and-espresso/2027-09-24/
LOCATION:Roots Plants and Coffee\, 124 B Erlanger Avenue\, Slidell\, LA\, 70458\, United States
CATEGORIES:Open Mic,Poetry
ATTACH;FMTTYPE=image/jpeg:https://litwire.org/wp-content/uploads/2023/08/IMG_8029-scaled.jpeg
ORGANIZER;CN="Dennis Formento":MAILTO:mesechabe@hotmail.com
END:VEVENT
BEGIN:VEVENT
DTSTART;TZID=America/Chicago:20271029T190000
DTEND;TZID=America/Chicago:20271029T210000
DTSTAMP:20260423T101638
CREATED:20230804T203009Z
LAST-MODIFIED:20230804T203009Z
UID:10001816-1824836400-1824843600@litwire.org
SUMMARY:Poetry and Espresso
DESCRIPTION:Poetry open mic with featured musicians\, on the last Friday of every month. Solo musicians are also invited to play the open mic. Free admission. Please arrive early if you want to perform. \nFive minute limit for poets. Seven to ten minutes for music open-mic singers and musicians. \nPlease arrive early to sign in!
URL:https://litwire.org/event/poetry-and-espresso/2027-10-29/
LOCATION:Roots Plants and Coffee\, 124 B Erlanger Avenue\, Slidell\, LA\, 70458\, United States
CATEGORIES:Open Mic,Poetry
ATTACH;FMTTYPE=image/jpeg:https://litwire.org/wp-content/uploads/2023/08/IMG_8029-scaled.jpeg
ORGANIZER;CN="Dennis Formento":MAILTO:mesechabe@hotmail.com
END:VEVENT
BEGIN:VEVENT
DTSTART;TZID=America/Chicago:20271126T190000
DTEND;TZID=America/Chicago:20271126T210000
DTSTAMP:20260423T101638
CREATED:20230804T203009Z
LAST-MODIFIED:20230804T203009Z
UID:10001817-1827255600-1827262800@litwire.org
SUMMARY:Poetry and Espresso
DESCRIPTION:Poetry open mic with featured musicians\, on the last Friday of every month. Solo musicians are also invited to play the open mic. Free admission. Please arrive early if you want to perform. \nFive minute limit for poets. Seven to ten minutes for music open-mic singers and musicians. \nPlease arrive early to sign in!
URL:https://litwire.org/event/poetry-and-espresso/2027-11-26/
LOCATION:Roots Plants and Coffee\, 124 B Erlanger Avenue\, Slidell\, LA\, 70458\, United States
CATEGORIES:Open Mic,Poetry
ATTACH;FMTTYPE=image/jpeg:https://litwire.org/wp-content/uploads/2023/08/IMG_8029-scaled.jpeg
ORGANIZER;CN="Dennis Formento":MAILTO:mesechabe@hotmail.com
END:VEVENT
BEGIN:VEVENT
DTSTART;TZID=America/Chicago:20271231T190000
DTEND;TZID=America/Chicago:20271231T210000
DTSTAMP:20260423T101638
CREATED:20230804T203009Z
LAST-MODIFIED:20230804T203009Z
UID:10001818-1830279600-1830286800@litwire.org
SUMMARY:Poetry and Espresso
DESCRIPTION:Poetry open mic with featured musicians\, on the last Friday of every month. Solo musicians are also invited to play the open mic. Free admission. Please arrive early if you want to perform. \nFive minute limit for poets. Seven to ten minutes for music open-mic singers and musicians. \nPlease arrive early to sign in!
URL:https://litwire.org/event/poetry-and-espresso/2027-12-31/
LOCATION:Roots Plants and Coffee\, 124 B Erlanger Avenue\, Slidell\, LA\, 70458\, United States
CATEGORIES:Open Mic,Poetry
ATTACH;FMTTYPE=image/jpeg:https://litwire.org/wp-content/uploads/2023/08/IMG_8029-scaled.jpeg
ORGANIZER;CN="Dennis Formento":MAILTO:mesechabe@hotmail.com
END:VEVENT
BEGIN:VEVENT
DTSTART;TZID=America/Chicago:20280128T190000
DTEND;TZID=America/Chicago:20280128T210000
DTSTAMP:20260423T101638
CREATED:20230804T203009Z
LAST-MODIFIED:20230804T203009Z
UID:10001819-1832698800-1832706000@litwire.org
SUMMARY:Poetry and Espresso
DESCRIPTION:Poetry open mic with featured musicians\, on the last Friday of every month. Solo musicians are also invited to play the open mic. Free admission. Please arrive early if you want to perform. \nFive minute limit for poets. Seven to ten minutes for music open-mic singers and musicians. \nPlease arrive early to sign in!
URL:https://litwire.org/event/poetry-and-espresso/2028-01-28/
LOCATION:Roots Plants and Coffee\, 124 B Erlanger Avenue\, Slidell\, LA\, 70458\, United States
CATEGORIES:Open Mic,Poetry
ATTACH;FMTTYPE=image/jpeg:https://litwire.org/wp-content/uploads/2023/08/IMG_8029-scaled.jpeg
ORGANIZER;CN="Dennis Formento":MAILTO:mesechabe@hotmail.com
END:VEVENT
BEGIN:VEVENT
DTSTART;TZID=America/Chicago:20280225T190000
DTEND;TZID=America/Chicago:20280225T210000
DTSTAMP:20260423T101638
CREATED:20230804T203009Z
LAST-MODIFIED:20230804T203009Z
UID:10001820-1835118000-1835125200@litwire.org
SUMMARY:Poetry and Espresso
DESCRIPTION:Poetry open mic with featured musicians\, on the last Friday of every month. Solo musicians are also invited to play the open mic. Free admission. Please arrive early if you want to perform. \nFive minute limit for poets. Seven to ten minutes for music open-mic singers and musicians. \nPlease arrive early to sign in!
URL:https://litwire.org/event/poetry-and-espresso/2028-02-25/
LOCATION:Roots Plants and Coffee\, 124 B Erlanger Avenue\, Slidell\, LA\, 70458\, United States
CATEGORIES:Open Mic,Poetry
ATTACH;FMTTYPE=image/jpeg:https://litwire.org/wp-content/uploads/2023/08/IMG_8029-scaled.jpeg
ORGANIZER;CN="Dennis Formento":MAILTO:mesechabe@hotmail.com
END:VEVENT
BEGIN:VEVENT
DTSTART;TZID=America/Chicago:20280331T190000
DTEND;TZID=America/Chicago:20280331T210000
DTSTAMP:20260423T101638
CREATED:20230804T203009Z
LAST-MODIFIED:20230804T203009Z
UID:10001821-1838142000-1838149200@litwire.org
SUMMARY:Poetry and Espresso
DESCRIPTION:Poetry open mic with featured musicians\, on the last Friday of every month. Solo musicians are also invited to play the open mic. Free admission. Please arrive early if you want to perform. \nFive minute limit for poets. Seven to ten minutes for music open-mic singers and musicians. \nPlease arrive early to sign in!
URL:https://litwire.org/event/poetry-and-espresso/2028-03-31/
LOCATION:Roots Plants and Coffee\, 124 B Erlanger Avenue\, Slidell\, LA\, 70458\, United States
CATEGORIES:Open Mic,Poetry
ATTACH;FMTTYPE=image/jpeg:https://litwire.org/wp-content/uploads/2023/08/IMG_8029-scaled.jpeg
ORGANIZER;CN="Dennis Formento":MAILTO:mesechabe@hotmail.com
END:VEVENT
BEGIN:VEVENT
DTSTART;TZID=America/Chicago:20280428T190000
DTEND;TZID=America/Chicago:20280428T210000
DTSTAMP:20260423T101638
CREATED:20230804T203009Z
LAST-MODIFIED:20230804T203009Z
UID:10001822-1840561200-1840568400@litwire.org
SUMMARY:Poetry and Espresso
DESCRIPTION:Poetry open mic with featured musicians\, on the last Friday of every month. Solo musicians are also invited to play the open mic. Free admission. Please arrive early if you want to perform. \nFive minute limit for poets. Seven to ten minutes for music open-mic singers and musicians. \nPlease arrive early to sign in!
URL:https://litwire.org/event/poetry-and-espresso/2028-04-28/
LOCATION:Roots Plants and Coffee\, 124 B Erlanger Avenue\, Slidell\, LA\, 70458\, United States
CATEGORIES:Open Mic,Poetry
ATTACH;FMTTYPE=image/jpeg:https://litwire.org/wp-content/uploads/2023/08/IMG_8029-scaled.jpeg
ORGANIZER;CN="Dennis Formento":MAILTO:mesechabe@hotmail.com
END:VEVENT
BEGIN:VEVENT
DTSTART;TZID=America/Chicago:20280526T190000
DTEND;TZID=America/Chicago:20280526T210000
DTSTAMP:20260423T101638
CREATED:20230804T203009Z
LAST-MODIFIED:20230804T203009Z
UID:10001823-1842980400-1842987600@litwire.org
SUMMARY:Poetry and Espresso
DESCRIPTION:Poetry open mic with featured musicians\, on the last Friday of every month. Solo musicians are also invited to play the open mic. Free admission. Please arrive early if you want to perform. \nFive minute limit for poets. Seven to ten minutes for music open-mic singers and musicians. \nPlease arrive early to sign in!
URL:https://litwire.org/event/poetry-and-espresso/2028-05-26/
LOCATION:Roots Plants and Coffee\, 124 B Erlanger Avenue\, Slidell\, LA\, 70458\, United States
CATEGORIES:Open Mic,Poetry
ATTACH;FMTTYPE=image/jpeg:https://litwire.org/wp-content/uploads/2023/08/IMG_8029-scaled.jpeg
ORGANIZER;CN="Dennis Formento":MAILTO:mesechabe@hotmail.com
END:VEVENT
BEGIN:VEVENT
DTSTART;TZID=America/Chicago:20280630T190000
DTEND;TZID=America/Chicago:20280630T210000
DTSTAMP:20260423T101638
CREATED:20230804T203009Z
LAST-MODIFIED:20230804T203009Z
UID:10001824-1846004400-1846011600@litwire.org
SUMMARY:Poetry and Espresso
DESCRIPTION:Poetry open mic with featured musicians\, on the last Friday of every month. Solo musicians are also invited to play the open mic. Free admission. Please arrive early if you want to perform. \nFive minute limit for poets. Seven to ten minutes for music open-mic singers and musicians. \nPlease arrive early to sign in!
URL:https://litwire.org/event/poetry-and-espresso/2028-06-30/
LOCATION:Roots Plants and Coffee\, 124 B Erlanger Avenue\, Slidell\, LA\, 70458\, United States
CATEGORIES:Open Mic,Poetry
ATTACH;FMTTYPE=image/jpeg:https://litwire.org/wp-content/uploads/2023/08/IMG_8029-scaled.jpeg
ORGANIZER;CN="Dennis Formento":MAILTO:mesechabe@hotmail.com
END:VEVENT
BEGIN:VEVENT
DTSTART;TZID=America/Chicago:20280728T190000
DTEND;TZID=America/Chicago:20280728T210000
DTSTAMP:20260423T101638
CREATED:20230804T203009Z
LAST-MODIFIED:20230804T203009Z
UID:10001825-1848423600-1848430800@litwire.org
SUMMARY:Poetry and Espresso
DESCRIPTION:Poetry open mic with featured musicians\, on the last Friday of every month. Solo musicians are also invited to play the open mic. Free admission. Please arrive early if you want to perform. \nFive minute limit for poets. Seven to ten minutes for music open-mic singers and musicians. \nPlease arrive early to sign in!
URL:https://litwire.org/event/poetry-and-espresso/2028-07-28/
LOCATION:Roots Plants and Coffee\, 124 B Erlanger Avenue\, Slidell\, LA\, 70458\, United States
CATEGORIES:Open Mic,Poetry
ATTACH;FMTTYPE=image/jpeg:https://litwire.org/wp-content/uploads/2023/08/IMG_8029-scaled.jpeg
ORGANIZER;CN="Dennis Formento":MAILTO:mesechabe@hotmail.com
END:VEVENT
BEGIN:VEVENT
DTSTART;TZID=America/Chicago:20280825T190000
DTEND;TZID=America/Chicago:20280825T210000
DTSTAMP:20260423T101638
CREATED:20230804T203009Z
LAST-MODIFIED:20230804T203009Z
UID:10002562-1850842800-1850850000@litwire.org
SUMMARY:Poetry and Espresso
DESCRIPTION:Poetry open mic with featured musicians\, on the last Friday of every month. Solo musicians are also invited to play the open mic. Free admission. Please arrive early if you want to perform. \nFive minute limit for poets. Seven to ten minutes for music open-mic singers and musicians. \nPlease arrive early to sign in!
URL:https://litwire.org/event/poetry-and-espresso/2028-08-25/
LOCATION:Roots Plants and Coffee\, 124 B Erlanger Avenue\, Slidell\, LA\, 70458\, United States
CATEGORIES:Open Mic,Poetry
ATTACH;FMTTYPE=image/jpeg:https://litwire.org/wp-content/uploads/2023/08/IMG_8029-scaled.jpeg
ORGANIZER;CN="Dennis Formento":MAILTO:mesechabe@hotmail.com
END:VEVENT
BEGIN:VEVENT
DTSTART;TZID=America/Chicago:20280929T190000
DTEND;TZID=America/Chicago:20280929T210000
DTSTAMP:20260423T101638
CREATED:20230804T203009Z
LAST-MODIFIED:20230804T203009Z
UID:10002634-1853866800-1853874000@litwire.org
SUMMARY:Poetry and Espresso
DESCRIPTION:Poetry open mic with featured musicians\, on the last Friday of every month. Solo musicians are also invited to play the open mic. Free admission. Please arrive early if you want to perform. \nFive minute limit for poets. Seven to ten minutes for music open-mic singers and musicians. \nPlease arrive early to sign in!
URL:https://litwire.org/event/poetry-and-espresso/2028-09-29/
LOCATION:Roots Plants and Coffee\, 124 B Erlanger Avenue\, Slidell\, LA\, 70458\, United States
CATEGORIES:Open Mic,Poetry
ATTACH;FMTTYPE=image/jpeg:https://litwire.org/wp-content/uploads/2023/08/IMG_8029-scaled.jpeg
ORGANIZER;CN="Dennis Formento":MAILTO:mesechabe@hotmail.com
END:VEVENT
END:VCALENDAR