BEGIN:VCALENDAR
VERSION:2.0
PRODID:-//LitWire - ECPv6.15.20//NONSGML v1.0//EN
CALSCALE:GREGORIAN
METHOD:PUBLISH
X-ORIGINAL-URL:https://litwire.org
X-WR-CALDESC:Events for LitWire
REFRESH-INTERVAL;VALUE=DURATION:PT1H
X-Robots-Tag:noindex
X-PUBLISHED-TTL:PT1H
BEGIN:VTIMEZONE
TZID:America/Chicago
BEGIN:DAYLIGHT
TZOFFSETFROM:-0600
TZOFFSETTO:-0500
TZNAME:CDT
DTSTART:20250309T080000
END:DAYLIGHT
BEGIN:STANDARD
TZOFFSETFROM:-0500
TZOFFSETTO:-0600
TZNAME:CST
DTSTART:20251102T070000
END:STANDARD
BEGIN:DAYLIGHT
TZOFFSETFROM:-0600
TZOFFSETTO:-0500
TZNAME:CDT
DTSTART:20260308T080000
END:DAYLIGHT
BEGIN:STANDARD
TZOFFSETFROM:-0500
TZOFFSETTO:-0600
TZNAME:CST
DTSTART:20261101T070000
END:STANDARD
BEGIN:DAYLIGHT
TZOFFSETFROM:-0600
TZOFFSETTO:-0500
TZNAME:CDT
DTSTART:20270314T080000
END:DAYLIGHT
BEGIN:STANDARD
TZOFFSETFROM:-0500
TZOFFSETTO:-0600
TZNAME:CST
DTSTART:20271107T070000
END:STANDARD
END:VTIMEZONE
BEGIN:VEVENT
DTSTART;TZID=America/Chicago:20260426T140000
DTEND;TZID=America/Chicago:20260426T160000
DTSTAMP:20260423T101637
CREATED:20260329T002011Z
LAST-MODIFIED:20260329T002011Z
UID:10005053-1777212000-1777219200@litwire.org
SUMMARY:People Program's Poetry Class Hosts its 14th Annual Event
DESCRIPTION:A Poetry Reading by Louisiana Poet Laureate Gina Ferrara.
URL:https://litwire.org/event/people-programs-poetry-class-hosts-its-14th-annual-event/
LOCATION:People Program Lakeshore Campus\, 2240 Lakeshore Dr.\, New Orleans\, 70122
CATEGORIES:Poetry
ATTACH;FMTTYPE=image/png:https://litwire.org/wp-content/uploads/2026/03/Screen-Shot-2026-03-28-at-7.16.18-PM.png
ORGANIZER;CN="Ellen Kocher Plaisance":MAILTO:peoplepoets@yahoo.com
END:VEVENT
END:VCALENDAR