BEGIN:VCALENDAR
VERSION:2.0
PRODID:-//LitWire - ECPv6.15.20//NONSGML v1.0//EN
CALSCALE:GREGORIAN
METHOD:PUBLISH
X-WR-CALNAME:LitWire
X-ORIGINAL-URL:https://litwire.org
X-WR-CALDESC:Events for LitWire
REFRESH-INTERVAL;VALUE=DURATION:PT1H
X-Robots-Tag:noindex
X-PUBLISHED-TTL:PT1H
BEGIN:VTIMEZONE
TZID:America/Chicago
BEGIN:DAYLIGHT
TZOFFSETFROM:-0600
TZOFFSETTO:-0500
TZNAME:CDT
DTSTART:20270314T080000
END:DAYLIGHT
BEGIN:STANDARD
TZOFFSETFROM:-0500
TZOFFSETTO:-0600
TZNAME:CST
DTSTART:20271107T070000
END:STANDARD
BEGIN:DAYLIGHT
TZOFFSETFROM:-0600
TZOFFSETTO:-0500
TZNAME:CDT
DTSTART:20280312T080000
END:DAYLIGHT
BEGIN:STANDARD
TZOFFSETFROM:-0500
TZOFFSETTO:-0600
TZNAME:CST
DTSTART:20281105T070000
END:STANDARD
BEGIN:DAYLIGHT
TZOFFSETFROM:-0600
TZOFFSETTO:-0500
TZNAME:CDT
DTSTART:20290311T080000
END:DAYLIGHT
BEGIN:STANDARD
TZOFFSETFROM:-0500
TZOFFSETTO:-0600
TZNAME:CST
DTSTART:20291104T070000
END:STANDARD
END:VTIMEZONE
BEGIN:VEVENT
DTSTART;TZID=America/Chicago:20280322T210000
DTEND;TZID=America/Chicago:20280322T233000
DTSTAMP:20260423T131052
CREATED:20230802T021019Z
LAST-MODIFIED:20240309T172257Z
UID:10001733-1837371600-1837380600@litwire.org
SUMMARY:Poets on Poets
DESCRIPTION:Café Istanbul presents Poets on Poets every Wednesday 10:00 pm – 2:00 am.\n\nDoors open for 9:00 pm.\n\n$5 drinks all night long.
URL:https://litwire.org/event/poets-on-poets/2028-03-22/
LOCATION:Cafe Istanbul\, 2372 St Claude Ave\, New Orleans\, LA\, 70117\, United States
CATEGORIES:Open Mic,Poetry
ATTACH;FMTTYPE=image/jpeg:https://litwire.org/wp-content/uploads/2023/08/poets-on-poets.jpg
END:VEVENT
BEGIN:VEVENT
DTSTART;TZID=America/Chicago:20280329T210000
DTEND;TZID=America/Chicago:20280329T233000
DTSTAMP:20260423T131052
CREATED:20230802T021019Z
LAST-MODIFIED:20240309T172257Z
UID:10001734-1837976400-1837985400@litwire.org
SUMMARY:Poets on Poets
DESCRIPTION:Café Istanbul presents Poets on Poets every Wednesday 10:00 pm – 2:00 am.\n\nDoors open for 9:00 pm.\n\n$5 drinks all night long.
URL:https://litwire.org/event/poets-on-poets/2028-03-29/
LOCATION:Cafe Istanbul\, 2372 St Claude Ave\, New Orleans\, LA\, 70117\, United States
CATEGORIES:Open Mic,Poetry
ATTACH;FMTTYPE=image/jpeg:https://litwire.org/wp-content/uploads/2023/08/poets-on-poets.jpg
END:VEVENT
BEGIN:VEVENT
DTSTART;TZID=America/Chicago:20280405T210000
DTEND;TZID=America/Chicago:20280405T233000
DTSTAMP:20260423T131052
CREATED:20230802T021019Z
LAST-MODIFIED:20240309T172257Z
UID:10001735-1838581200-1838590200@litwire.org
SUMMARY:Poets on Poets
DESCRIPTION:Café Istanbul presents Poets on Poets every Wednesday 10:00 pm – 2:00 am.\n\nDoors open for 9:00 pm.\n\n$5 drinks all night long.
URL:https://litwire.org/event/poets-on-poets/2028-04-05/
LOCATION:Cafe Istanbul\, 2372 St Claude Ave\, New Orleans\, LA\, 70117\, United States
CATEGORIES:Open Mic,Poetry
ATTACH;FMTTYPE=image/jpeg:https://litwire.org/wp-content/uploads/2023/08/poets-on-poets.jpg
END:VEVENT
BEGIN:VEVENT
DTSTART;TZID=America/Chicago:20280412T210000
DTEND;TZID=America/Chicago:20280412T233000
DTSTAMP:20260423T131052
CREATED:20230802T021019Z
LAST-MODIFIED:20240309T172257Z
UID:10001736-1839186000-1839195000@litwire.org
SUMMARY:Poets on Poets
DESCRIPTION:Café Istanbul presents Poets on Poets every Wednesday 10:00 pm – 2:00 am.\n\nDoors open for 9:00 pm.\n\n$5 drinks all night long.
URL:https://litwire.org/event/poets-on-poets/2028-04-12/
LOCATION:Cafe Istanbul\, 2372 St Claude Ave\, New Orleans\, LA\, 70117\, United States
CATEGORIES:Open Mic,Poetry
ATTACH;FMTTYPE=image/jpeg:https://litwire.org/wp-content/uploads/2023/08/poets-on-poets.jpg
END:VEVENT
BEGIN:VEVENT
DTSTART;TZID=America/Chicago:20280419T210000
DTEND;TZID=America/Chicago:20280419T233000
DTSTAMP:20260423T131052
CREATED:20230802T021019Z
LAST-MODIFIED:20240309T172257Z
UID:10001737-1839790800-1839799800@litwire.org
SUMMARY:Poets on Poets
DESCRIPTION:Café Istanbul presents Poets on Poets every Wednesday 10:00 pm – 2:00 am.\n\nDoors open for 9:00 pm.\n\n$5 drinks all night long.
URL:https://litwire.org/event/poets-on-poets/2028-04-19/
LOCATION:Cafe Istanbul\, 2372 St Claude Ave\, New Orleans\, LA\, 70117\, United States
CATEGORIES:Open Mic,Poetry
ATTACH;FMTTYPE=image/jpeg:https://litwire.org/wp-content/uploads/2023/08/poets-on-poets.jpg
END:VEVENT
BEGIN:VEVENT
DTSTART;TZID=America/Chicago:20280426T210000
DTEND;TZID=America/Chicago:20280426T233000
DTSTAMP:20260423T131052
CREATED:20230802T021019Z
LAST-MODIFIED:20240309T172257Z
UID:10001738-1840395600-1840404600@litwire.org
SUMMARY:Poets on Poets
DESCRIPTION:Café Istanbul presents Poets on Poets every Wednesday 10:00 pm – 2:00 am.\n\nDoors open for 9:00 pm.\n\n$5 drinks all night long.
URL:https://litwire.org/event/poets-on-poets/2028-04-26/
LOCATION:Cafe Istanbul\, 2372 St Claude Ave\, New Orleans\, LA\, 70117\, United States
CATEGORIES:Open Mic,Poetry
ATTACH;FMTTYPE=image/jpeg:https://litwire.org/wp-content/uploads/2023/08/poets-on-poets.jpg
END:VEVENT
BEGIN:VEVENT
DTSTART;TZID=America/Chicago:20280503T210000
DTEND;TZID=America/Chicago:20280503T233000
DTSTAMP:20260423T131052
CREATED:20230802T021019Z
LAST-MODIFIED:20240309T172257Z
UID:10001739-1841000400-1841009400@litwire.org
SUMMARY:Poets on Poets
DESCRIPTION:Café Istanbul presents Poets on Poets every Wednesday 10:00 pm – 2:00 am.\n\nDoors open for 9:00 pm.\n\n$5 drinks all night long.
URL:https://litwire.org/event/poets-on-poets/2028-05-03/
LOCATION:Cafe Istanbul\, 2372 St Claude Ave\, New Orleans\, LA\, 70117\, United States
CATEGORIES:Open Mic,Poetry
ATTACH;FMTTYPE=image/jpeg:https://litwire.org/wp-content/uploads/2023/08/poets-on-poets.jpg
END:VEVENT
BEGIN:VEVENT
DTSTART;TZID=America/Chicago:20280510T210000
DTEND;TZID=America/Chicago:20280510T233000
DTSTAMP:20260423T131052
CREATED:20230802T021019Z
LAST-MODIFIED:20240309T172257Z
UID:10001740-1841605200-1841614200@litwire.org
SUMMARY:Poets on Poets
DESCRIPTION:Café Istanbul presents Poets on Poets every Wednesday 10:00 pm – 2:00 am.\n\nDoors open for 9:00 pm.\n\n$5 drinks all night long.
URL:https://litwire.org/event/poets-on-poets/2028-05-10/
LOCATION:Cafe Istanbul\, 2372 St Claude Ave\, New Orleans\, LA\, 70117\, United States
CATEGORIES:Open Mic,Poetry
ATTACH;FMTTYPE=image/jpeg:https://litwire.org/wp-content/uploads/2023/08/poets-on-poets.jpg
END:VEVENT
BEGIN:VEVENT
DTSTART;TZID=America/Chicago:20280517T210000
DTEND;TZID=America/Chicago:20280517T233000
DTSTAMP:20260423T131052
CREATED:20230802T021019Z
LAST-MODIFIED:20240309T172257Z
UID:10001741-1842210000-1842219000@litwire.org
SUMMARY:Poets on Poets
DESCRIPTION:Café Istanbul presents Poets on Poets every Wednesday 10:00 pm – 2:00 am.\n\nDoors open for 9:00 pm.\n\n$5 drinks all night long.
URL:https://litwire.org/event/poets-on-poets/2028-05-17/
LOCATION:Cafe Istanbul\, 2372 St Claude Ave\, New Orleans\, LA\, 70117\, United States
CATEGORIES:Open Mic,Poetry
ATTACH;FMTTYPE=image/jpeg:https://litwire.org/wp-content/uploads/2023/08/poets-on-poets.jpg
END:VEVENT
BEGIN:VEVENT
DTSTART;TZID=America/Chicago:20280524T210000
DTEND;TZID=America/Chicago:20280524T233000
DTSTAMP:20260423T131052
CREATED:20230802T021019Z
LAST-MODIFIED:20240309T172257Z
UID:10001742-1842814800-1842823800@litwire.org
SUMMARY:Poets on Poets
DESCRIPTION:Café Istanbul presents Poets on Poets every Wednesday 10:00 pm – 2:00 am.\n\nDoors open for 9:00 pm.\n\n$5 drinks all night long.
URL:https://litwire.org/event/poets-on-poets/2028-05-24/
LOCATION:Cafe Istanbul\, 2372 St Claude Ave\, New Orleans\, LA\, 70117\, United States
CATEGORIES:Open Mic,Poetry
ATTACH;FMTTYPE=image/jpeg:https://litwire.org/wp-content/uploads/2023/08/poets-on-poets.jpg
END:VEVENT
BEGIN:VEVENT
DTSTART;TZID=America/Chicago:20280531T210000
DTEND;TZID=America/Chicago:20280531T233000
DTSTAMP:20260423T131052
CREATED:20230802T021019Z
LAST-MODIFIED:20240309T172257Z
UID:10001743-1843419600-1843428600@litwire.org
SUMMARY:Poets on Poets
DESCRIPTION:Café Istanbul presents Poets on Poets every Wednesday 10:00 pm – 2:00 am.\n\nDoors open for 9:00 pm.\n\n$5 drinks all night long.
URL:https://litwire.org/event/poets-on-poets/2028-05-31/
LOCATION:Cafe Istanbul\, 2372 St Claude Ave\, New Orleans\, LA\, 70117\, United States
CATEGORIES:Open Mic,Poetry
ATTACH;FMTTYPE=image/jpeg:https://litwire.org/wp-content/uploads/2023/08/poets-on-poets.jpg
END:VEVENT
BEGIN:VEVENT
DTSTART;TZID=America/Chicago:20280607T210000
DTEND;TZID=America/Chicago:20280607T233000
DTSTAMP:20260423T131052
CREATED:20230802T021019Z
LAST-MODIFIED:20240309T172257Z
UID:10001744-1844024400-1844033400@litwire.org
SUMMARY:Poets on Poets
DESCRIPTION:Café Istanbul presents Poets on Poets every Wednesday 10:00 pm – 2:00 am.\n\nDoors open for 9:00 pm.\n\n$5 drinks all night long.
URL:https://litwire.org/event/poets-on-poets/2028-06-07/
LOCATION:Cafe Istanbul\, 2372 St Claude Ave\, New Orleans\, LA\, 70117\, United States
CATEGORIES:Open Mic,Poetry
ATTACH;FMTTYPE=image/jpeg:https://litwire.org/wp-content/uploads/2023/08/poets-on-poets.jpg
END:VEVENT
BEGIN:VEVENT
DTSTART;TZID=America/Chicago:20280614T210000
DTEND;TZID=America/Chicago:20280614T233000
DTSTAMP:20260423T131052
CREATED:20230802T021019Z
LAST-MODIFIED:20240309T172257Z
UID:10001745-1844629200-1844638200@litwire.org
SUMMARY:Poets on Poets
DESCRIPTION:Café Istanbul presents Poets on Poets every Wednesday 10:00 pm – 2:00 am.\n\nDoors open for 9:00 pm.\n\n$5 drinks all night long.
URL:https://litwire.org/event/poets-on-poets/2028-06-14/
LOCATION:Cafe Istanbul\, 2372 St Claude Ave\, New Orleans\, LA\, 70117\, United States
CATEGORIES:Open Mic,Poetry
ATTACH;FMTTYPE=image/jpeg:https://litwire.org/wp-content/uploads/2023/08/poets-on-poets.jpg
END:VEVENT
BEGIN:VEVENT
DTSTART;TZID=America/Chicago:20280621T210000
DTEND;TZID=America/Chicago:20280621T233000
DTSTAMP:20260423T131052
CREATED:20230802T021019Z
LAST-MODIFIED:20240309T172257Z
UID:10001746-1845234000-1845243000@litwire.org
SUMMARY:Poets on Poets
DESCRIPTION:Café Istanbul presents Poets on Poets every Wednesday 10:00 pm – 2:00 am.\n\nDoors open for 9:00 pm.\n\n$5 drinks all night long.
URL:https://litwire.org/event/poets-on-poets/2028-06-21/
LOCATION:Cafe Istanbul\, 2372 St Claude Ave\, New Orleans\, LA\, 70117\, United States
CATEGORIES:Open Mic,Poetry
ATTACH;FMTTYPE=image/jpeg:https://litwire.org/wp-content/uploads/2023/08/poets-on-poets.jpg
END:VEVENT
BEGIN:VEVENT
DTSTART;TZID=America/Chicago:20280628T210000
DTEND;TZID=America/Chicago:20280628T233000
DTSTAMP:20260423T131052
CREATED:20230802T021019Z
LAST-MODIFIED:20240309T172257Z
UID:10001747-1845838800-1845847800@litwire.org
SUMMARY:Poets on Poets
DESCRIPTION:Café Istanbul presents Poets on Poets every Wednesday 10:00 pm – 2:00 am.\n\nDoors open for 9:00 pm.\n\n$5 drinks all night long.
URL:https://litwire.org/event/poets-on-poets/2028-06-28/
LOCATION:Cafe Istanbul\, 2372 St Claude Ave\, New Orleans\, LA\, 70117\, United States
CATEGORIES:Open Mic,Poetry
ATTACH;FMTTYPE=image/jpeg:https://litwire.org/wp-content/uploads/2023/08/poets-on-poets.jpg
END:VEVENT
BEGIN:VEVENT
DTSTART;TZID=America/Chicago:20280705T210000
DTEND;TZID=America/Chicago:20280705T233000
DTSTAMP:20260423T131052
CREATED:20230802T021019Z
LAST-MODIFIED:20240309T172257Z
UID:10001748-1846443600-1846452600@litwire.org
SUMMARY:Poets on Poets
DESCRIPTION:Café Istanbul presents Poets on Poets every Wednesday 10:00 pm – 2:00 am.\n\nDoors open for 9:00 pm.\n\n$5 drinks all night long.
URL:https://litwire.org/event/poets-on-poets/2028-07-05/
LOCATION:Cafe Istanbul\, 2372 St Claude Ave\, New Orleans\, LA\, 70117\, United States
CATEGORIES:Open Mic,Poetry
ATTACH;FMTTYPE=image/jpeg:https://litwire.org/wp-content/uploads/2023/08/poets-on-poets.jpg
END:VEVENT
BEGIN:VEVENT
DTSTART;TZID=America/Chicago:20280712T210000
DTEND;TZID=America/Chicago:20280712T233000
DTSTAMP:20260423T131052
CREATED:20230802T021019Z
LAST-MODIFIED:20240309T172257Z
UID:10001749-1847048400-1847057400@litwire.org
SUMMARY:Poets on Poets
DESCRIPTION:Café Istanbul presents Poets on Poets every Wednesday 10:00 pm – 2:00 am.\n\nDoors open for 9:00 pm.\n\n$5 drinks all night long.
URL:https://litwire.org/event/poets-on-poets/2028-07-12/
LOCATION:Cafe Istanbul\, 2372 St Claude Ave\, New Orleans\, LA\, 70117\, United States
CATEGORIES:Open Mic,Poetry
ATTACH;FMTTYPE=image/jpeg:https://litwire.org/wp-content/uploads/2023/08/poets-on-poets.jpg
END:VEVENT
BEGIN:VEVENT
DTSTART;TZID=America/Chicago:20280719T210000
DTEND;TZID=America/Chicago:20280719T233000
DTSTAMP:20260423T131052
CREATED:20230802T021019Z
LAST-MODIFIED:20240309T172257Z
UID:10001750-1847653200-1847662200@litwire.org
SUMMARY:Poets on Poets
DESCRIPTION:Café Istanbul presents Poets on Poets every Wednesday 10:00 pm – 2:00 am.\n\nDoors open for 9:00 pm.\n\n$5 drinks all night long.
URL:https://litwire.org/event/poets-on-poets/2028-07-19/
LOCATION:Cafe Istanbul\, 2372 St Claude Ave\, New Orleans\, LA\, 70117\, United States
CATEGORIES:Open Mic,Poetry
ATTACH;FMTTYPE=image/jpeg:https://litwire.org/wp-content/uploads/2023/08/poets-on-poets.jpg
END:VEVENT
BEGIN:VEVENT
DTSTART;TZID=America/Chicago:20280726T210000
DTEND;TZID=America/Chicago:20280726T233000
DTSTAMP:20260423T131052
CREATED:20230802T021019Z
LAST-MODIFIED:20240309T172257Z
UID:10001751-1848258000-1848267000@litwire.org
SUMMARY:Poets on Poets
DESCRIPTION:Café Istanbul presents Poets on Poets every Wednesday 10:00 pm – 2:00 am.\n\nDoors open for 9:00 pm.\n\n$5 drinks all night long.
URL:https://litwire.org/event/poets-on-poets/2028-07-26/
LOCATION:Cafe Istanbul\, 2372 St Claude Ave\, New Orleans\, LA\, 70117\, United States
CATEGORIES:Open Mic,Poetry
ATTACH;FMTTYPE=image/jpeg:https://litwire.org/wp-content/uploads/2023/08/poets-on-poets.jpg
END:VEVENT
BEGIN:VEVENT
DTSTART;TZID=America/Chicago:20280802T210000
DTEND;TZID=America/Chicago:20280802T233000
DTSTAMP:20260423T131052
CREATED:20230802T021019Z
LAST-MODIFIED:20240309T172257Z
UID:10002523-1848862800-1848871800@litwire.org
SUMMARY:Poets on Poets
DESCRIPTION:Café Istanbul presents Poets on Poets every Wednesday 10:00 pm – 2:00 am.\n\nDoors open for 9:00 pm.\n\n$5 drinks all night long.
URL:https://litwire.org/event/poets-on-poets/2028-08-02/
LOCATION:Cafe Istanbul\, 2372 St Claude Ave\, New Orleans\, LA\, 70117\, United States
CATEGORIES:Open Mic,Poetry
ATTACH;FMTTYPE=image/jpeg:https://litwire.org/wp-content/uploads/2023/08/poets-on-poets.jpg
END:VEVENT
BEGIN:VEVENT
DTSTART;TZID=America/Chicago:20280809T210000
DTEND;TZID=America/Chicago:20280809T233000
DTSTAMP:20260423T131052
CREATED:20230802T021019Z
LAST-MODIFIED:20240309T172257Z
UID:10002524-1849467600-1849476600@litwire.org
SUMMARY:Poets on Poets
DESCRIPTION:Café Istanbul presents Poets on Poets every Wednesday 10:00 pm – 2:00 am.\n\nDoors open for 9:00 pm.\n\n$5 drinks all night long.
URL:https://litwire.org/event/poets-on-poets/2028-08-09/
LOCATION:Cafe Istanbul\, 2372 St Claude Ave\, New Orleans\, LA\, 70117\, United States
CATEGORIES:Open Mic,Poetry
ATTACH;FMTTYPE=image/jpeg:https://litwire.org/wp-content/uploads/2023/08/poets-on-poets.jpg
END:VEVENT
BEGIN:VEVENT
DTSTART;TZID=America/Chicago:20280816T210000
DTEND;TZID=America/Chicago:20280816T233000
DTSTAMP:20260423T131052
CREATED:20230802T021019Z
LAST-MODIFIED:20240309T172257Z
UID:10002525-1850072400-1850081400@litwire.org
SUMMARY:Poets on Poets
DESCRIPTION:Café Istanbul presents Poets on Poets every Wednesday 10:00 pm – 2:00 am.\n\nDoors open for 9:00 pm.\n\n$5 drinks all night long.
URL:https://litwire.org/event/poets-on-poets/2028-08-16/
LOCATION:Cafe Istanbul\, 2372 St Claude Ave\, New Orleans\, LA\, 70117\, United States
CATEGORIES:Open Mic,Poetry
ATTACH;FMTTYPE=image/jpeg:https://litwire.org/wp-content/uploads/2023/08/poets-on-poets.jpg
END:VEVENT
BEGIN:VEVENT
DTSTART;TZID=America/Chicago:20280823T210000
DTEND;TZID=America/Chicago:20280823T233000
DTSTAMP:20260423T131052
CREATED:20230802T021019Z
LAST-MODIFIED:20240309T172257Z
UID:10002526-1850677200-1850686200@litwire.org
SUMMARY:Poets on Poets
DESCRIPTION:Café Istanbul presents Poets on Poets every Wednesday 10:00 pm – 2:00 am.\n\nDoors open for 9:00 pm.\n\n$5 drinks all night long.
URL:https://litwire.org/event/poets-on-poets/2028-08-23/
LOCATION:Cafe Istanbul\, 2372 St Claude Ave\, New Orleans\, LA\, 70117\, United States
CATEGORIES:Open Mic,Poetry
ATTACH;FMTTYPE=image/jpeg:https://litwire.org/wp-content/uploads/2023/08/poets-on-poets.jpg
END:VEVENT
BEGIN:VEVENT
DTSTART;TZID=America/Chicago:20280830T210000
DTEND;TZID=America/Chicago:20280830T233000
DTSTAMP:20260423T131052
CREATED:20230802T021019Z
LAST-MODIFIED:20240309T172257Z
UID:10002527-1851282000-1851291000@litwire.org
SUMMARY:Poets on Poets
DESCRIPTION:Café Istanbul presents Poets on Poets every Wednesday 10:00 pm – 2:00 am.\n\nDoors open for 9:00 pm.\n\n$5 drinks all night long.
URL:https://litwire.org/event/poets-on-poets/2028-08-30/
LOCATION:Cafe Istanbul\, 2372 St Claude Ave\, New Orleans\, LA\, 70117\, United States
CATEGORIES:Open Mic,Poetry
ATTACH;FMTTYPE=image/jpeg:https://litwire.org/wp-content/uploads/2023/08/poets-on-poets.jpg
END:VEVENT
BEGIN:VEVENT
DTSTART;TZID=America/Chicago:20280906T210000
DTEND;TZID=America/Chicago:20280906T233000
DTSTAMP:20260423T131052
CREATED:20230802T021019Z
LAST-MODIFIED:20240309T172257Z
UID:10002529-1851886800-1851895800@litwire.org
SUMMARY:Poets on Poets
DESCRIPTION:Café Istanbul presents Poets on Poets every Wednesday 10:00 pm – 2:00 am.\n\nDoors open for 9:00 pm.\n\n$5 drinks all night long.
URL:https://litwire.org/event/poets-on-poets/2028-09-06/
LOCATION:Cafe Istanbul\, 2372 St Claude Ave\, New Orleans\, LA\, 70117\, United States
CATEGORIES:Open Mic,Poetry
ATTACH;FMTTYPE=image/jpeg:https://litwire.org/wp-content/uploads/2023/08/poets-on-poets.jpg
END:VEVENT
BEGIN:VEVENT
DTSTART;TZID=America/Chicago:20280913T210000
DTEND;TZID=America/Chicago:20280913T233000
DTSTAMP:20260423T131052
CREATED:20230802T021019Z
LAST-MODIFIED:20240309T172257Z
UID:10002548-1852491600-1852500600@litwire.org
SUMMARY:Poets on Poets
DESCRIPTION:Café Istanbul presents Poets on Poets every Wednesday 10:00 pm – 2:00 am.\n\nDoors open for 9:00 pm.\n\n$5 drinks all night long.
URL:https://litwire.org/event/poets-on-poets/2028-09-13/
LOCATION:Cafe Istanbul\, 2372 St Claude Ave\, New Orleans\, LA\, 70117\, United States
CATEGORIES:Open Mic,Poetry
ATTACH;FMTTYPE=image/jpeg:https://litwire.org/wp-content/uploads/2023/08/poets-on-poets.jpg
END:VEVENT
BEGIN:VEVENT
DTSTART;TZID=America/Chicago:20280920T210000
DTEND;TZID=America/Chicago:20280920T233000
DTSTAMP:20260423T131052
CREATED:20230802T021019Z
LAST-MODIFIED:20240309T172257Z
UID:10002561-1853096400-1853105400@litwire.org
SUMMARY:Poets on Poets
DESCRIPTION:Café Istanbul presents Poets on Poets every Wednesday 10:00 pm – 2:00 am.\n\nDoors open for 9:00 pm.\n\n$5 drinks all night long.
URL:https://litwire.org/event/poets-on-poets/2028-09-20/
LOCATION:Cafe Istanbul\, 2372 St Claude Ave\, New Orleans\, LA\, 70117\, United States
CATEGORIES:Open Mic,Poetry
ATTACH;FMTTYPE=image/jpeg:https://litwire.org/wp-content/uploads/2023/08/poets-on-poets.jpg
END:VEVENT
BEGIN:VEVENT
DTSTART;TZID=America/Chicago:20280927T210000
DTEND;TZID=America/Chicago:20280927T233000
DTSTAMP:20260423T131052
CREATED:20230802T021019Z
LAST-MODIFIED:20240309T172257Z
UID:10002569-1853701200-1853710200@litwire.org
SUMMARY:Poets on Poets
DESCRIPTION:Café Istanbul presents Poets on Poets every Wednesday 10:00 pm – 2:00 am.\n\nDoors open for 9:00 pm.\n\n$5 drinks all night long.
URL:https://litwire.org/event/poets-on-poets/2028-09-27/
LOCATION:Cafe Istanbul\, 2372 St Claude Ave\, New Orleans\, LA\, 70117\, United States
CATEGORIES:Open Mic,Poetry
ATTACH;FMTTYPE=image/jpeg:https://litwire.org/wp-content/uploads/2023/08/poets-on-poets.jpg
END:VEVENT
BEGIN:VEVENT
DTSTART;TZID=America/Chicago:20281004T210000
DTEND;TZID=America/Chicago:20281004T233000
DTSTAMP:20260423T131052
CREATED:20230802T021019Z
LAST-MODIFIED:20240309T172257Z
UID:10002593-1854306000-1854315000@litwire.org
SUMMARY:Poets on Poets
DESCRIPTION:Café Istanbul presents Poets on Poets every Wednesday 10:00 pm – 2:00 am.\n\nDoors open for 9:00 pm.\n\n$5 drinks all night long.
URL:https://litwire.org/event/poets-on-poets/2028-10-04/
LOCATION:Cafe Istanbul\, 2372 St Claude Ave\, New Orleans\, LA\, 70117\, United States
CATEGORIES:Open Mic,Poetry
ATTACH;FMTTYPE=image/jpeg:https://litwire.org/wp-content/uploads/2023/08/poets-on-poets.jpg
END:VEVENT
BEGIN:VEVENT
DTSTART;TZID=America/Chicago:20281011T210000
DTEND;TZID=America/Chicago:20281011T233000
DTSTAMP:20260423T131052
CREATED:20230802T021019Z
LAST-MODIFIED:20240309T172257Z
UID:10002596-1854910800-1854919800@litwire.org
SUMMARY:Poets on Poets
DESCRIPTION:Café Istanbul presents Poets on Poets every Wednesday 10:00 pm – 2:00 am.\n\nDoors open for 9:00 pm.\n\n$5 drinks all night long.
URL:https://litwire.org/event/poets-on-poets/2028-10-11/
LOCATION:Cafe Istanbul\, 2372 St Claude Ave\, New Orleans\, LA\, 70117\, United States
CATEGORIES:Open Mic,Poetry
ATTACH;FMTTYPE=image/jpeg:https://litwire.org/wp-content/uploads/2023/08/poets-on-poets.jpg
END:VEVENT
END:VCALENDAR