BEGIN:VCALENDAR
VERSION:2.0
PRODID:-//LitWire - ECPv6.15.20//NONSGML v1.0//EN
CALSCALE:GREGORIAN
METHOD:PUBLISH
X-WR-CALNAME:LitWire
X-ORIGINAL-URL:https://litwire.org
X-WR-CALDESC:Events for LitWire
REFRESH-INTERVAL;VALUE=DURATION:PT1H
X-Robots-Tag:noindex
X-PUBLISHED-TTL:PT1H
BEGIN:VTIMEZONE
TZID:America/Chicago
BEGIN:DAYLIGHT
TZOFFSETFROM:-0600
TZOFFSETTO:-0500
TZNAME:CDT
DTSTART:20250309T080000
END:DAYLIGHT
BEGIN:STANDARD
TZOFFSETFROM:-0500
TZOFFSETTO:-0600
TZNAME:CST
DTSTART:20251102T070000
END:STANDARD
BEGIN:DAYLIGHT
TZOFFSETFROM:-0600
TZOFFSETTO:-0500
TZNAME:CDT
DTSTART:20260308T080000
END:DAYLIGHT
BEGIN:STANDARD
TZOFFSETFROM:-0500
TZOFFSETTO:-0600
TZNAME:CST
DTSTART:20261101T070000
END:STANDARD
BEGIN:DAYLIGHT
TZOFFSETFROM:-0600
TZOFFSETTO:-0500
TZNAME:CDT
DTSTART:20270314T080000
END:DAYLIGHT
BEGIN:STANDARD
TZOFFSETFROM:-0500
TZOFFSETTO:-0600
TZNAME:CST
DTSTART:20271107T070000
END:STANDARD
END:VTIMEZONE
BEGIN:VEVENT
DTSTART;TZID=America/Chicago:20260429T210000
DTEND;TZID=America/Chicago:20260429T233000
DTSTAMP:20260423T130829
CREATED:20230802T021019Z
LAST-MODIFIED:20240309T172257Z
UID:10001634-1777496400-1777505400@litwire.org
SUMMARY:Poets on Poets
DESCRIPTION:Café Istanbul presents Poets on Poets every Wednesday 10:00 pm – 2:00 am.\n\nDoors open for 9:00 pm.\n\n$5 drinks all night long.
URL:https://litwire.org/event/poets-on-poets/2026-04-29/
LOCATION:Cafe Istanbul\, 2372 St Claude Ave\, New Orleans\, LA\, 70117\, United States
CATEGORIES:Open Mic,Poetry
ATTACH;FMTTYPE=image/jpeg:https://litwire.org/wp-content/uploads/2023/08/poets-on-poets.jpg
END:VEVENT
BEGIN:VEVENT
DTSTART;TZID=America/Chicago:20260506T210000
DTEND;TZID=America/Chicago:20260506T233000
DTSTAMP:20260423T130829
CREATED:20230802T021019Z
LAST-MODIFIED:20240309T172257Z
UID:10001635-1778101200-1778110200@litwire.org
SUMMARY:Poets on Poets
DESCRIPTION:Café Istanbul presents Poets on Poets every Wednesday 10:00 pm – 2:00 am.\n\nDoors open for 9:00 pm.\n\n$5 drinks all night long.
URL:https://litwire.org/event/poets-on-poets/2026-05-06/
LOCATION:Cafe Istanbul\, 2372 St Claude Ave\, New Orleans\, LA\, 70117\, United States
CATEGORIES:Open Mic,Poetry
ATTACH;FMTTYPE=image/jpeg:https://litwire.org/wp-content/uploads/2023/08/poets-on-poets.jpg
END:VEVENT
BEGIN:VEVENT
DTSTART;TZID=America/Chicago:20260513T210000
DTEND;TZID=America/Chicago:20260513T233000
DTSTAMP:20260423T130829
CREATED:20230802T021019Z
LAST-MODIFIED:20240309T172257Z
UID:10001636-1778706000-1778715000@litwire.org
SUMMARY:Poets on Poets
DESCRIPTION:Café Istanbul presents Poets on Poets every Wednesday 10:00 pm – 2:00 am.\n\nDoors open for 9:00 pm.\n\n$5 drinks all night long.
URL:https://litwire.org/event/poets-on-poets/2026-05-13/
LOCATION:Cafe Istanbul\, 2372 St Claude Ave\, New Orleans\, LA\, 70117\, United States
CATEGORIES:Open Mic,Poetry
ATTACH;FMTTYPE=image/jpeg:https://litwire.org/wp-content/uploads/2023/08/poets-on-poets.jpg
END:VEVENT
BEGIN:VEVENT
DTSTART;TZID=America/Chicago:20260520T210000
DTEND;TZID=America/Chicago:20260520T233000
DTSTAMP:20260423T130829
CREATED:20230802T021019Z
LAST-MODIFIED:20240309T172257Z
UID:10001637-1779310800-1779319800@litwire.org
SUMMARY:Poets on Poets
DESCRIPTION:Café Istanbul presents Poets on Poets every Wednesday 10:00 pm – 2:00 am.\n\nDoors open for 9:00 pm.\n\n$5 drinks all night long.
URL:https://litwire.org/event/poets-on-poets/2026-05-20/
LOCATION:Cafe Istanbul\, 2372 St Claude Ave\, New Orleans\, LA\, 70117\, United States
CATEGORIES:Open Mic,Poetry
ATTACH;FMTTYPE=image/jpeg:https://litwire.org/wp-content/uploads/2023/08/poets-on-poets.jpg
END:VEVENT
BEGIN:VEVENT
DTSTART;TZID=America/Chicago:20260527T210000
DTEND;TZID=America/Chicago:20260527T233000
DTSTAMP:20260423T130829
CREATED:20230802T021019Z
LAST-MODIFIED:20240309T172257Z
UID:10001638-1779915600-1779924600@litwire.org
SUMMARY:Poets on Poets
DESCRIPTION:Café Istanbul presents Poets on Poets every Wednesday 10:00 pm – 2:00 am.\n\nDoors open for 9:00 pm.\n\n$5 drinks all night long.
URL:https://litwire.org/event/poets-on-poets/2026-05-27/
LOCATION:Cafe Istanbul\, 2372 St Claude Ave\, New Orleans\, LA\, 70117\, United States
CATEGORIES:Open Mic,Poetry
ATTACH;FMTTYPE=image/jpeg:https://litwire.org/wp-content/uploads/2023/08/poets-on-poets.jpg
END:VEVENT
BEGIN:VEVENT
DTSTART;TZID=America/Chicago:20260603T210000
DTEND;TZID=America/Chicago:20260603T233000
DTSTAMP:20260423T130829
CREATED:20230802T021019Z
LAST-MODIFIED:20240309T172257Z
UID:10001639-1780520400-1780529400@litwire.org
SUMMARY:Poets on Poets
DESCRIPTION:Café Istanbul presents Poets on Poets every Wednesday 10:00 pm – 2:00 am.\n\nDoors open for 9:00 pm.\n\n$5 drinks all night long.
URL:https://litwire.org/event/poets-on-poets/2026-06-03/
LOCATION:Cafe Istanbul\, 2372 St Claude Ave\, New Orleans\, LA\, 70117\, United States
CATEGORIES:Open Mic,Poetry
ATTACH;FMTTYPE=image/jpeg:https://litwire.org/wp-content/uploads/2023/08/poets-on-poets.jpg
END:VEVENT
BEGIN:VEVENT
DTSTART;TZID=America/Chicago:20260610T210000
DTEND;TZID=America/Chicago:20260610T233000
DTSTAMP:20260423T130829
CREATED:20230802T021019Z
LAST-MODIFIED:20240309T172257Z
UID:10001640-1781125200-1781134200@litwire.org
SUMMARY:Poets on Poets
DESCRIPTION:Café Istanbul presents Poets on Poets every Wednesday 10:00 pm – 2:00 am.\n\nDoors open for 9:00 pm.\n\n$5 drinks all night long.
URL:https://litwire.org/event/poets-on-poets/2026-06-10/
LOCATION:Cafe Istanbul\, 2372 St Claude Ave\, New Orleans\, LA\, 70117\, United States
CATEGORIES:Open Mic,Poetry
ATTACH;FMTTYPE=image/jpeg:https://litwire.org/wp-content/uploads/2023/08/poets-on-poets.jpg
END:VEVENT
BEGIN:VEVENT
DTSTART;TZID=America/Chicago:20260617T210000
DTEND;TZID=America/Chicago:20260617T233000
DTSTAMP:20260423T130829
CREATED:20230802T021019Z
LAST-MODIFIED:20240309T172257Z
UID:10001641-1781730000-1781739000@litwire.org
SUMMARY:Poets on Poets
DESCRIPTION:Café Istanbul presents Poets on Poets every Wednesday 10:00 pm – 2:00 am.\n\nDoors open for 9:00 pm.\n\n$5 drinks all night long.
URL:https://litwire.org/event/poets-on-poets/2026-06-17/
LOCATION:Cafe Istanbul\, 2372 St Claude Ave\, New Orleans\, LA\, 70117\, United States
CATEGORIES:Open Mic,Poetry
ATTACH;FMTTYPE=image/jpeg:https://litwire.org/wp-content/uploads/2023/08/poets-on-poets.jpg
END:VEVENT
BEGIN:VEVENT
DTSTART;TZID=America/Chicago:20260624T210000
DTEND;TZID=America/Chicago:20260624T233000
DTSTAMP:20260423T130829
CREATED:20230802T021019Z
LAST-MODIFIED:20240309T172257Z
UID:10001642-1782334800-1782343800@litwire.org
SUMMARY:Poets on Poets
DESCRIPTION:Café Istanbul presents Poets on Poets every Wednesday 10:00 pm – 2:00 am.\n\nDoors open for 9:00 pm.\n\n$5 drinks all night long.
URL:https://litwire.org/event/poets-on-poets/2026-06-24/
LOCATION:Cafe Istanbul\, 2372 St Claude Ave\, New Orleans\, LA\, 70117\, United States
CATEGORIES:Open Mic,Poetry
ATTACH;FMTTYPE=image/jpeg:https://litwire.org/wp-content/uploads/2023/08/poets-on-poets.jpg
END:VEVENT
BEGIN:VEVENT
DTSTART;TZID=America/Chicago:20260701T210000
DTEND;TZID=America/Chicago:20260701T233000
DTSTAMP:20260423T130829
CREATED:20230802T021019Z
LAST-MODIFIED:20240309T172257Z
UID:10001643-1782939600-1782948600@litwire.org
SUMMARY:Poets on Poets
DESCRIPTION:Café Istanbul presents Poets on Poets every Wednesday 10:00 pm – 2:00 am.\n\nDoors open for 9:00 pm.\n\n$5 drinks all night long.
URL:https://litwire.org/event/poets-on-poets/2026-07-01/
LOCATION:Cafe Istanbul\, 2372 St Claude Ave\, New Orleans\, LA\, 70117\, United States
CATEGORIES:Open Mic,Poetry
ATTACH;FMTTYPE=image/jpeg:https://litwire.org/wp-content/uploads/2023/08/poets-on-poets.jpg
END:VEVENT
BEGIN:VEVENT
DTSTART;TZID=America/Chicago:20260708T210000
DTEND;TZID=America/Chicago:20260708T233000
DTSTAMP:20260423T130829
CREATED:20230802T021019Z
LAST-MODIFIED:20240309T172257Z
UID:10001644-1783544400-1783553400@litwire.org
SUMMARY:Poets on Poets
DESCRIPTION:Café Istanbul presents Poets on Poets every Wednesday 10:00 pm – 2:00 am.\n\nDoors open for 9:00 pm.\n\n$5 drinks all night long.
URL:https://litwire.org/event/poets-on-poets/2026-07-08/
LOCATION:Cafe Istanbul\, 2372 St Claude Ave\, New Orleans\, LA\, 70117\, United States
CATEGORIES:Open Mic,Poetry
ATTACH;FMTTYPE=image/jpeg:https://litwire.org/wp-content/uploads/2023/08/poets-on-poets.jpg
END:VEVENT
BEGIN:VEVENT
DTSTART;TZID=America/Chicago:20260715T210000
DTEND;TZID=America/Chicago:20260715T233000
DTSTAMP:20260423T130829
CREATED:20230802T021019Z
LAST-MODIFIED:20240309T172257Z
UID:10001645-1784149200-1784158200@litwire.org
SUMMARY:Poets on Poets
DESCRIPTION:Café Istanbul presents Poets on Poets every Wednesday 10:00 pm – 2:00 am.\n\nDoors open for 9:00 pm.\n\n$5 drinks all night long.
URL:https://litwire.org/event/poets-on-poets/2026-07-15/
LOCATION:Cafe Istanbul\, 2372 St Claude Ave\, New Orleans\, LA\, 70117\, United States
CATEGORIES:Open Mic,Poetry
ATTACH;FMTTYPE=image/jpeg:https://litwire.org/wp-content/uploads/2023/08/poets-on-poets.jpg
END:VEVENT
BEGIN:VEVENT
DTSTART;TZID=America/Chicago:20260722T210000
DTEND;TZID=America/Chicago:20260722T233000
DTSTAMP:20260423T130829
CREATED:20230802T021019Z
LAST-MODIFIED:20240309T172257Z
UID:10001646-1784754000-1784763000@litwire.org
SUMMARY:Poets on Poets
DESCRIPTION:Café Istanbul presents Poets on Poets every Wednesday 10:00 pm – 2:00 am.\n\nDoors open for 9:00 pm.\n\n$5 drinks all night long.
URL:https://litwire.org/event/poets-on-poets/2026-07-22/
LOCATION:Cafe Istanbul\, 2372 St Claude Ave\, New Orleans\, LA\, 70117\, United States
CATEGORIES:Open Mic,Poetry
ATTACH;FMTTYPE=image/jpeg:https://litwire.org/wp-content/uploads/2023/08/poets-on-poets.jpg
END:VEVENT
BEGIN:VEVENT
DTSTART;TZID=America/Chicago:20260729T210000
DTEND;TZID=America/Chicago:20260729T233000
DTSTAMP:20260423T130829
CREATED:20230802T021019Z
LAST-MODIFIED:20240309T172257Z
UID:10001647-1785358800-1785367800@litwire.org
SUMMARY:Poets on Poets
DESCRIPTION:Café Istanbul presents Poets on Poets every Wednesday 10:00 pm – 2:00 am.\n\nDoors open for 9:00 pm.\n\n$5 drinks all night long.
URL:https://litwire.org/event/poets-on-poets/2026-07-29/
LOCATION:Cafe Istanbul\, 2372 St Claude Ave\, New Orleans\, LA\, 70117\, United States
CATEGORIES:Open Mic,Poetry
ATTACH;FMTTYPE=image/jpeg:https://litwire.org/wp-content/uploads/2023/08/poets-on-poets.jpg
END:VEVENT
BEGIN:VEVENT
DTSTART;TZID=America/Chicago:20260805T210000
DTEND;TZID=America/Chicago:20260805T233000
DTSTAMP:20260423T130829
CREATED:20230802T021019Z
LAST-MODIFIED:20240309T172257Z
UID:10001648-1785963600-1785972600@litwire.org
SUMMARY:Poets on Poets
DESCRIPTION:Café Istanbul presents Poets on Poets every Wednesday 10:00 pm – 2:00 am.\n\nDoors open for 9:00 pm.\n\n$5 drinks all night long.
URL:https://litwire.org/event/poets-on-poets/2026-08-05/
LOCATION:Cafe Istanbul\, 2372 St Claude Ave\, New Orleans\, LA\, 70117\, United States
CATEGORIES:Open Mic,Poetry
ATTACH;FMTTYPE=image/jpeg:https://litwire.org/wp-content/uploads/2023/08/poets-on-poets.jpg
END:VEVENT
BEGIN:VEVENT
DTSTART;TZID=America/Chicago:20260812T210000
DTEND;TZID=America/Chicago:20260812T233000
DTSTAMP:20260423T130829
CREATED:20230802T021019Z
LAST-MODIFIED:20240309T172257Z
UID:10001649-1786568400-1786577400@litwire.org
SUMMARY:Poets on Poets
DESCRIPTION:Café Istanbul presents Poets on Poets every Wednesday 10:00 pm – 2:00 am.\n\nDoors open for 9:00 pm.\n\n$5 drinks all night long.
URL:https://litwire.org/event/poets-on-poets/2026-08-12/
LOCATION:Cafe Istanbul\, 2372 St Claude Ave\, New Orleans\, LA\, 70117\, United States
CATEGORIES:Open Mic,Poetry
ATTACH;FMTTYPE=image/jpeg:https://litwire.org/wp-content/uploads/2023/08/poets-on-poets.jpg
END:VEVENT
BEGIN:VEVENT
DTSTART;TZID=America/Chicago:20260819T210000
DTEND;TZID=America/Chicago:20260819T233000
DTSTAMP:20260423T130829
CREATED:20230802T021019Z
LAST-MODIFIED:20240309T172257Z
UID:10001650-1787173200-1787182200@litwire.org
SUMMARY:Poets on Poets
DESCRIPTION:Café Istanbul presents Poets on Poets every Wednesday 10:00 pm – 2:00 am.\n\nDoors open for 9:00 pm.\n\n$5 drinks all night long.
URL:https://litwire.org/event/poets-on-poets/2026-08-19/
LOCATION:Cafe Istanbul\, 2372 St Claude Ave\, New Orleans\, LA\, 70117\, United States
CATEGORIES:Open Mic,Poetry
ATTACH;FMTTYPE=image/jpeg:https://litwire.org/wp-content/uploads/2023/08/poets-on-poets.jpg
END:VEVENT
BEGIN:VEVENT
DTSTART;TZID=America/Chicago:20260826T210000
DTEND;TZID=America/Chicago:20260826T233000
DTSTAMP:20260423T130829
CREATED:20230802T021019Z
LAST-MODIFIED:20240309T172257Z
UID:10001651-1787778000-1787787000@litwire.org
SUMMARY:Poets on Poets
DESCRIPTION:Café Istanbul presents Poets on Poets every Wednesday 10:00 pm – 2:00 am.\n\nDoors open for 9:00 pm.\n\n$5 drinks all night long.
URL:https://litwire.org/event/poets-on-poets/2026-08-26/
LOCATION:Cafe Istanbul\, 2372 St Claude Ave\, New Orleans\, LA\, 70117\, United States
CATEGORIES:Open Mic,Poetry
ATTACH;FMTTYPE=image/jpeg:https://litwire.org/wp-content/uploads/2023/08/poets-on-poets.jpg
END:VEVENT
BEGIN:VEVENT
DTSTART;TZID=America/Chicago:20260902T210000
DTEND;TZID=America/Chicago:20260902T233000
DTSTAMP:20260423T130829
CREATED:20230802T021019Z
LAST-MODIFIED:20240309T172257Z
UID:10001652-1788382800-1788391800@litwire.org
SUMMARY:Poets on Poets
DESCRIPTION:Café Istanbul presents Poets on Poets every Wednesday 10:00 pm – 2:00 am.\n\nDoors open for 9:00 pm.\n\n$5 drinks all night long.
URL:https://litwire.org/event/poets-on-poets/2026-09-02/
LOCATION:Cafe Istanbul\, 2372 St Claude Ave\, New Orleans\, LA\, 70117\, United States
CATEGORIES:Open Mic,Poetry
ATTACH;FMTTYPE=image/jpeg:https://litwire.org/wp-content/uploads/2023/08/poets-on-poets.jpg
END:VEVENT
BEGIN:VEVENT
DTSTART;TZID=America/Chicago:20260909T210000
DTEND;TZID=America/Chicago:20260909T233000
DTSTAMP:20260423T130829
CREATED:20230802T021019Z
LAST-MODIFIED:20240309T172257Z
UID:10001653-1788987600-1788996600@litwire.org
SUMMARY:Poets on Poets
DESCRIPTION:Café Istanbul presents Poets on Poets every Wednesday 10:00 pm – 2:00 am.\n\nDoors open for 9:00 pm.\n\n$5 drinks all night long.
URL:https://litwire.org/event/poets-on-poets/2026-09-09/
LOCATION:Cafe Istanbul\, 2372 St Claude Ave\, New Orleans\, LA\, 70117\, United States
CATEGORIES:Open Mic,Poetry
ATTACH;FMTTYPE=image/jpeg:https://litwire.org/wp-content/uploads/2023/08/poets-on-poets.jpg
END:VEVENT
BEGIN:VEVENT
DTSTART;TZID=America/Chicago:20260916T210000
DTEND;TZID=America/Chicago:20260916T233000
DTSTAMP:20260423T130829
CREATED:20230802T021019Z
LAST-MODIFIED:20240309T172257Z
UID:10001654-1789592400-1789601400@litwire.org
SUMMARY:Poets on Poets
DESCRIPTION:Café Istanbul presents Poets on Poets every Wednesday 10:00 pm – 2:00 am.\n\nDoors open for 9:00 pm.\n\n$5 drinks all night long.
URL:https://litwire.org/event/poets-on-poets/2026-09-16/
LOCATION:Cafe Istanbul\, 2372 St Claude Ave\, New Orleans\, LA\, 70117\, United States
CATEGORIES:Open Mic,Poetry
ATTACH;FMTTYPE=image/jpeg:https://litwire.org/wp-content/uploads/2023/08/poets-on-poets.jpg
END:VEVENT
BEGIN:VEVENT
DTSTART;TZID=America/Chicago:20260923T210000
DTEND;TZID=America/Chicago:20260923T233000
DTSTAMP:20260423T130829
CREATED:20230802T021019Z
LAST-MODIFIED:20240309T172257Z
UID:10001655-1790197200-1790206200@litwire.org
SUMMARY:Poets on Poets
DESCRIPTION:Café Istanbul presents Poets on Poets every Wednesday 10:00 pm – 2:00 am.\n\nDoors open for 9:00 pm.\n\n$5 drinks all night long.
URL:https://litwire.org/event/poets-on-poets/2026-09-23/
LOCATION:Cafe Istanbul\, 2372 St Claude Ave\, New Orleans\, LA\, 70117\, United States
CATEGORIES:Open Mic,Poetry
ATTACH;FMTTYPE=image/jpeg:https://litwire.org/wp-content/uploads/2023/08/poets-on-poets.jpg
END:VEVENT
BEGIN:VEVENT
DTSTART;TZID=America/Chicago:20260930T210000
DTEND;TZID=America/Chicago:20260930T233000
DTSTAMP:20260423T130829
CREATED:20230802T021019Z
LAST-MODIFIED:20240309T172257Z
UID:10001656-1790802000-1790811000@litwire.org
SUMMARY:Poets on Poets
DESCRIPTION:Café Istanbul presents Poets on Poets every Wednesday 10:00 pm – 2:00 am.\n\nDoors open for 9:00 pm.\n\n$5 drinks all night long.
URL:https://litwire.org/event/poets-on-poets/2026-09-30/
LOCATION:Cafe Istanbul\, 2372 St Claude Ave\, New Orleans\, LA\, 70117\, United States
CATEGORIES:Open Mic,Poetry
ATTACH;FMTTYPE=image/jpeg:https://litwire.org/wp-content/uploads/2023/08/poets-on-poets.jpg
END:VEVENT
BEGIN:VEVENT
DTSTART;TZID=America/Chicago:20261007T210000
DTEND;TZID=America/Chicago:20261007T233000
DTSTAMP:20260423T130829
CREATED:20230802T021019Z
LAST-MODIFIED:20240309T172257Z
UID:10001657-1791406800-1791415800@litwire.org
SUMMARY:Poets on Poets
DESCRIPTION:Café Istanbul presents Poets on Poets every Wednesday 10:00 pm – 2:00 am.\n\nDoors open for 9:00 pm.\n\n$5 drinks all night long.
URL:https://litwire.org/event/poets-on-poets/2026-10-07/
LOCATION:Cafe Istanbul\, 2372 St Claude Ave\, New Orleans\, LA\, 70117\, United States
CATEGORIES:Open Mic,Poetry
ATTACH;FMTTYPE=image/jpeg:https://litwire.org/wp-content/uploads/2023/08/poets-on-poets.jpg
END:VEVENT
BEGIN:VEVENT
DTSTART;TZID=America/Chicago:20261014T210000
DTEND;TZID=America/Chicago:20261014T233000
DTSTAMP:20260423T130829
CREATED:20230802T021019Z
LAST-MODIFIED:20240309T172257Z
UID:10001658-1792011600-1792020600@litwire.org
SUMMARY:Poets on Poets
DESCRIPTION:Café Istanbul presents Poets on Poets every Wednesday 10:00 pm – 2:00 am.\n\nDoors open for 9:00 pm.\n\n$5 drinks all night long.
URL:https://litwire.org/event/poets-on-poets/2026-10-14/
LOCATION:Cafe Istanbul\, 2372 St Claude Ave\, New Orleans\, LA\, 70117\, United States
CATEGORIES:Open Mic,Poetry
ATTACH;FMTTYPE=image/jpeg:https://litwire.org/wp-content/uploads/2023/08/poets-on-poets.jpg
END:VEVENT
BEGIN:VEVENT
DTSTART;TZID=America/Chicago:20261021T210000
DTEND;TZID=America/Chicago:20261021T233000
DTSTAMP:20260423T130829
CREATED:20230802T021019Z
LAST-MODIFIED:20240309T172257Z
UID:10001659-1792616400-1792625400@litwire.org
SUMMARY:Poets on Poets
DESCRIPTION:Café Istanbul presents Poets on Poets every Wednesday 10:00 pm – 2:00 am.\n\nDoors open for 9:00 pm.\n\n$5 drinks all night long.
URL:https://litwire.org/event/poets-on-poets/2026-10-21/
LOCATION:Cafe Istanbul\, 2372 St Claude Ave\, New Orleans\, LA\, 70117\, United States
CATEGORIES:Open Mic,Poetry
ATTACH;FMTTYPE=image/jpeg:https://litwire.org/wp-content/uploads/2023/08/poets-on-poets.jpg
END:VEVENT
BEGIN:VEVENT
DTSTART;TZID=America/Chicago:20261028T210000
DTEND;TZID=America/Chicago:20261028T233000
DTSTAMP:20260423T130829
CREATED:20230802T021019Z
LAST-MODIFIED:20240309T172257Z
UID:10001660-1793221200-1793230200@litwire.org
SUMMARY:Poets on Poets
DESCRIPTION:Café Istanbul presents Poets on Poets every Wednesday 10:00 pm – 2:00 am.\n\nDoors open for 9:00 pm.\n\n$5 drinks all night long.
URL:https://litwire.org/event/poets-on-poets/2026-10-28/
LOCATION:Cafe Istanbul\, 2372 St Claude Ave\, New Orleans\, LA\, 70117\, United States
CATEGORIES:Open Mic,Poetry
ATTACH;FMTTYPE=image/jpeg:https://litwire.org/wp-content/uploads/2023/08/poets-on-poets.jpg
END:VEVENT
BEGIN:VEVENT
DTSTART;TZID=America/Chicago:20261104T210000
DTEND;TZID=America/Chicago:20261104T233000
DTSTAMP:20260423T130829
CREATED:20230802T021019Z
LAST-MODIFIED:20240309T172257Z
UID:10001661-1793826000-1793835000@litwire.org
SUMMARY:Poets on Poets
DESCRIPTION:Café Istanbul presents Poets on Poets every Wednesday 10:00 pm – 2:00 am.\n\nDoors open for 9:00 pm.\n\n$5 drinks all night long.
URL:https://litwire.org/event/poets-on-poets/2026-11-04/
LOCATION:Cafe Istanbul\, 2372 St Claude Ave\, New Orleans\, LA\, 70117\, United States
CATEGORIES:Open Mic,Poetry
ATTACH;FMTTYPE=image/jpeg:https://litwire.org/wp-content/uploads/2023/08/poets-on-poets.jpg
END:VEVENT
BEGIN:VEVENT
DTSTART;TZID=America/Chicago:20261111T210000
DTEND;TZID=America/Chicago:20261111T233000
DTSTAMP:20260423T130829
CREATED:20230802T021019Z
LAST-MODIFIED:20240309T172257Z
UID:10001662-1794430800-1794439800@litwire.org
SUMMARY:Poets on Poets
DESCRIPTION:Café Istanbul presents Poets on Poets every Wednesday 10:00 pm – 2:00 am.\n\nDoors open for 9:00 pm.\n\n$5 drinks all night long.
URL:https://litwire.org/event/poets-on-poets/2026-11-11/
LOCATION:Cafe Istanbul\, 2372 St Claude Ave\, New Orleans\, LA\, 70117\, United States
CATEGORIES:Open Mic,Poetry
ATTACH;FMTTYPE=image/jpeg:https://litwire.org/wp-content/uploads/2023/08/poets-on-poets.jpg
END:VEVENT
BEGIN:VEVENT
DTSTART;TZID=America/Chicago:20261118T210000
DTEND;TZID=America/Chicago:20261118T233000
DTSTAMP:20260423T130829
CREATED:20230802T021019Z
LAST-MODIFIED:20240309T172257Z
UID:10001663-1795035600-1795044600@litwire.org
SUMMARY:Poets on Poets
DESCRIPTION:Café Istanbul presents Poets on Poets every Wednesday 10:00 pm – 2:00 am.\n\nDoors open for 9:00 pm.\n\n$5 drinks all night long.
URL:https://litwire.org/event/poets-on-poets/2026-11-18/
LOCATION:Cafe Istanbul\, 2372 St Claude Ave\, New Orleans\, LA\, 70117\, United States
CATEGORIES:Open Mic,Poetry
ATTACH;FMTTYPE=image/jpeg:https://litwire.org/wp-content/uploads/2023/08/poets-on-poets.jpg
END:VEVENT
END:VCALENDAR