BEGIN:VCALENDAR
VERSION:2.0
PRODID:-//LitWire - ECPv6.15.20//NONSGML v1.0//EN
CALSCALE:GREGORIAN
METHOD:PUBLISH
X-ORIGINAL-URL:https://litwire.org
X-WR-CALDESC:Events for LitWire
REFRESH-INTERVAL;VALUE=DURATION:PT1H
X-Robots-Tag:noindex
X-PUBLISHED-TTL:PT1H
BEGIN:VTIMEZONE
TZID:America/Chicago
BEGIN:DAYLIGHT
TZOFFSETFROM:-0600
TZOFFSETTO:-0500
TZNAME:CDT
DTSTART:20250309T080000
END:DAYLIGHT
BEGIN:STANDARD
TZOFFSETFROM:-0500
TZOFFSETTO:-0600
TZNAME:CST
DTSTART:20251102T070000
END:STANDARD
BEGIN:DAYLIGHT
TZOFFSETFROM:-0600
TZOFFSETTO:-0500
TZNAME:CDT
DTSTART:20260308T080000
END:DAYLIGHT
BEGIN:STANDARD
TZOFFSETFROM:-0500
TZOFFSETTO:-0600
TZNAME:CST
DTSTART:20261101T070000
END:STANDARD
BEGIN:DAYLIGHT
TZOFFSETFROM:-0600
TZOFFSETTO:-0500
TZNAME:CDT
DTSTART:20270314T080000
END:DAYLIGHT
BEGIN:STANDARD
TZOFFSETFROM:-0500
TZOFFSETTO:-0600
TZNAME:CST
DTSTART:20271107T070000
END:STANDARD
END:VTIMEZONE
BEGIN:VEVENT
DTSTART;TZID=America/Chicago:20260412T100000
DTEND;TZID=America/Chicago:20260412T130000
DTSTAMP:20260423T114100
CREATED:20260319T154339Z
LAST-MODIFIED:20260319T154339Z
UID:10005038-1775988000-1775998800@litwire.org
SUMMARY:Creating Characters Who Read as Real--a writing workshop with Allison Alsup
DESCRIPTION:Stories hinge on credible\, compelling characters. It doesn’t matter the genre—most contemporary narratives demand character-driven storylines. And for those writing personal essays\, there’s no escaping the “I” on the page. Whether based in the writer’s real life experience or completely invented\, intimacy and psychological depth are what modern readers crave. The rub is not all details are created equal. Knowing every tidbit of your character’s life doesn’t necessarily advance the story and may end up obscuring it. \nThis workshop’s goal is to hone in those character essentials that make the people on our pages feel real and true. We’ll explore the kinds of targeted questions writers can—and should–ask long before reaching the end of a draft. Through discussion\, short excerpts and hands on exercises\, we’ll explore key aspects of character development\, including: the core relationship between character and conflict\, what makes for a “telling” detail\,” and the fundamental role of backstory and secondary characters. \nWriters can expect to leave with character-building strategies applicable to any future narrative as well as a deeply rendered character profile for their current project. (They can also expect to learn a heck of a lot by hearing the ideas of other participants.) \nAll levels\, from absolute newbie to experienced writers\, and all prose genres welcome. Participants with either works in progress or well-considered ideas for narratives will most benefit from our session.
URL:https://litwire.org/event/creating-characters-who-read-as-real-a-writing-workshop-with-allison-alsup/
LOCATION:Burnt Canoe Studios\, 4820 Banks Street\, New Orleans\, 70119
CATEGORIES:Workshop
ATTACH;FMTTYPE=image/jpeg:https://litwire.org/wp-content/uploads/2026/03/Allison-BW-Cropped.jpg
ORGANIZER;CN="New Orleans Writers Workshop":MAILTO:jessica@neworleanswriters.com
END:VEVENT
END:VCALENDAR