BEGIN:VCALENDAR
VERSION:2.0
PRODID:-//LitWire - ECPv6.15.20//NONSGML v1.0//EN
CALSCALE:GREGORIAN
METHOD:PUBLISH
X-ORIGINAL-URL:https://litwire.org
X-WR-CALDESC:Events for LitWire
REFRESH-INTERVAL;VALUE=DURATION:PT1H
X-Robots-Tag:noindex
X-PUBLISHED-TTL:PT1H
BEGIN:VTIMEZONE
TZID:America/Chicago
BEGIN:DAYLIGHT
TZOFFSETFROM:-0600
TZOFFSETTO:-0500
TZNAME:CDT
DTSTART:20250309T080000
END:DAYLIGHT
BEGIN:STANDARD
TZOFFSETFROM:-0500
TZOFFSETTO:-0600
TZNAME:CST
DTSTART:20251102T070000
END:STANDARD
BEGIN:DAYLIGHT
TZOFFSETFROM:-0600
TZOFFSETTO:-0500
TZNAME:CDT
DTSTART:20260308T080000
END:DAYLIGHT
BEGIN:STANDARD
TZOFFSETFROM:-0500
TZOFFSETTO:-0600
TZNAME:CST
DTSTART:20261101T070000
END:STANDARD
BEGIN:DAYLIGHT
TZOFFSETFROM:-0600
TZOFFSETTO:-0500
TZNAME:CDT
DTSTART:20270314T080000
END:DAYLIGHT
BEGIN:STANDARD
TZOFFSETFROM:-0500
TZOFFSETTO:-0600
TZNAME:CST
DTSTART:20271107T070000
END:STANDARD
END:VTIMEZONE
BEGIN:VEVENT
DTSTART;TZID=America/Chicago:20260402T190000
DTEND;TZID=America/Chicago:20260402T210000
DTSTAMP:20260423T180654
CREATED:20260122T185807Z
LAST-MODIFIED:20260122T185807Z
UID:10004919-1775156400-1775163600@litwire.org
SUMMARY:Literary Night At The Coffeehouse
DESCRIPTION:All poets\, writers\, rappers\, spell spinners\, whisperers\, and lovers of the Spoken Word. \nOpen Mic Poet’s Night every 1st and 3rd Thursday of the month.
URL:https://litwire.org/event/literary-night-at-the-coffeehouse/2026-04-02/
LOCATION:The Neutral Ground Coffee House\, 5110 Danneel St\, New Orleans\, LA\, 70115\, United States
CATEGORIES:Open Mic
ATTACH;FMTTYPE=image/jpeg:https://litwire.org/wp-content/uploads/2026/01/IMG_3994-scaled.jpeg
END:VEVENT
END:VCALENDAR