BEGIN:VCALENDAR
VERSION:2.0
PRODID:-//LitWire - ECPv6.15.20//NONSGML v1.0//EN
CALSCALE:GREGORIAN
METHOD:PUBLISH
X-WR-CALNAME:LitWire
X-ORIGINAL-URL:https://litwire.org
X-WR-CALDESC:Events for LitWire
REFRESH-INTERVAL;VALUE=DURATION:PT1H
X-Robots-Tag:noindex
X-PUBLISHED-TTL:PT1H
BEGIN:VTIMEZONE
TZID:America/Chicago
BEGIN:DAYLIGHT
TZOFFSETFROM:-0600
TZOFFSETTO:-0500
TZNAME:CDT
DTSTART:20250309T080000
END:DAYLIGHT
BEGIN:STANDARD
TZOFFSETFROM:-0500
TZOFFSETTO:-0600
TZNAME:CST
DTSTART:20251102T070000
END:STANDARD
BEGIN:DAYLIGHT
TZOFFSETFROM:-0600
TZOFFSETTO:-0500
TZNAME:CDT
DTSTART:20260308T080000
END:DAYLIGHT
BEGIN:STANDARD
TZOFFSETFROM:-0500
TZOFFSETTO:-0600
TZNAME:CST
DTSTART:20261101T070000
END:STANDARD
BEGIN:DAYLIGHT
TZOFFSETFROM:-0600
TZOFFSETTO:-0500
TZNAME:CDT
DTSTART:20270314T080000
END:DAYLIGHT
BEGIN:STANDARD
TZOFFSETFROM:-0500
TZOFFSETTO:-0600
TZNAME:CST
DTSTART:20271107T070000
END:STANDARD
END:VTIMEZONE
BEGIN:VEVENT
DTSTART;TZID=America/Chicago:20260603T210000
DTEND;TZID=America/Chicago:20260603T233000
DTSTAMP:20260423T175848
CREATED:20230802T021019Z
LAST-MODIFIED:20240309T172257Z
UID:10001639-1780520400-1780529400@litwire.org
SUMMARY:Poets on Poets
DESCRIPTION:Café Istanbul presents Poets on Poets every Wednesday 10:00 pm – 2:00 am.\n\nDoors open for 9:00 pm.\n\n$5 drinks all night long.
URL:https://litwire.org/event/poets-on-poets/2026-06-03/
LOCATION:Cafe Istanbul\, 2372 St Claude Ave\, New Orleans\, LA\, 70117\, United States
CATEGORIES:Open Mic,Poetry
ATTACH;FMTTYPE=image/jpeg:https://litwire.org/wp-content/uploads/2023/08/poets-on-poets.jpg
END:VEVENT
BEGIN:VEVENT
DTSTART;TZID=America/Chicago:20260607T163000
DTEND;TZID=America/Chicago:20260607T180000
DTSTAMP:20260423T175848
CREATED:20230801T234325Z
LAST-MODIFIED:20230801T234325Z
UID:10001247-1780849800-1780855200@litwire.org
SUMMARY:The Everette Maddox Memorial Reading Series
DESCRIPTION:Sundays at 4:20 pm \nThe Maple Leaf Bar hosts the longest continuously running poetry reading series in North America. It is free and open to the public. The poetry series has been a platform for a great diversity of writers to present their work\, from the published and well-established to the novice poet alike. The reading series was founded in 1979 by Franz Heldner\, Bob Stock\, and the consummate poet laureate of the Maple Leaf Bar\, Everette Maddox. \nThe series gained popularity around the same time that James Booker\, the flamboyantly wonderful one-eyed piano virtuoso\, held court at The Leaf. Everette Maddox\, another well-loved outrageous personality of the time\, helped popularized the series with his humor\, charisma and whit. Maddox ran the series for nearly 10 years\, until his death in 1989. Since then\, the torch has been carried on by poet Nancy Harris aka “Ape Woman.” \nTo date\, there have been four published anthologies of poets who have read their work at the Maple Leaf: The Maple Leaf Rag (1980)\, The Maple Leaf Rag 15th Anniversary Anthology (1994)\, the Maple Leaf Rag III (2006)\, and Maple Leaf Rag IV (2010). \nAdditionally\, the Maple Leaf is portrayed in many books and stories by New Orleans writers. It is thinly disguised as “The Raintree Street Bar” in the Ellen Gilchrist short story “The Raintree Street Bar and Washerteria” (The Leaf was once a small Laundromat). Poems inspired by the Maple Leaf or about the bar can be found in Mirror Wars and Shards\, by Nancy Harris; Body and Soul and Rhythm & Booze\, by Julie Kane; and The Everette Maddox Song Book\, Bar Scotch and American Waste by Everette Maddox. \nAmerican Waste is a collection of Maddox’ final poems\, written at the Maple Leaf\, Muddy Waters (which was once located across the street) and at the Carrollton Station. Maddox penned the final version of his poems on bar napkins\, fliers\, and beer coasters which were collected by Hank Staples\, the current owner of the Maple Leaf Bar. After Maddox’ death\, his friends decided to publish the posthumous collection of poems. \nThe readings are held every Sunday at 4:20 p.m. If you are going to be in New Orleans and would like to read\, please contact us at least a month or more in advance. \nFor more info\, go to: https://www.mapleleafbar.com/poetry-night or contact Nancy Harris on Facebook.
URL:https://litwire.org/event/the-everette-maddox-memorial-reading-series/2026-06-07/
LOCATION:Maple Leaf Bar\, 8316 Oak St\, New Orleans\, LA\, 70118\, United States
CATEGORIES:Open Mic
ATTACH;FMTTYPE=image/png:https://litwire.org/wp-content/uploads/2023/08/maple-leaf.png
ORGANIZER;CN="Nancy Harris":MAILTO:apewoman@bellsouth.net
END:VEVENT
BEGIN:VEVENT
DTSTART;TZID=America/Chicago:20260610T210000
DTEND;TZID=America/Chicago:20260610T233000
DTSTAMP:20260423T175848
CREATED:20230802T021019Z
LAST-MODIFIED:20240309T172257Z
UID:10001640-1781125200-1781134200@litwire.org
SUMMARY:Poets on Poets
DESCRIPTION:Café Istanbul presents Poets on Poets every Wednesday 10:00 pm – 2:00 am.\n\nDoors open for 9:00 pm.\n\n$5 drinks all night long.
URL:https://litwire.org/event/poets-on-poets/2026-06-10/
LOCATION:Cafe Istanbul\, 2372 St Claude Ave\, New Orleans\, LA\, 70117\, United States
CATEGORIES:Open Mic,Poetry
ATTACH;FMTTYPE=image/jpeg:https://litwire.org/wp-content/uploads/2023/08/poets-on-poets.jpg
END:VEVENT
BEGIN:VEVENT
DTSTART;TZID=America/Chicago:20260614T163000
DTEND;TZID=America/Chicago:20260614T180000
DTSTAMP:20260423T175848
CREATED:20230801T234325Z
LAST-MODIFIED:20230801T234325Z
UID:10001248-1781454600-1781460000@litwire.org
SUMMARY:The Everette Maddox Memorial Reading Series
DESCRIPTION:Sundays at 4:20 pm \nThe Maple Leaf Bar hosts the longest continuously running poetry reading series in North America. It is free and open to the public. The poetry series has been a platform for a great diversity of writers to present their work\, from the published and well-established to the novice poet alike. The reading series was founded in 1979 by Franz Heldner\, Bob Stock\, and the consummate poet laureate of the Maple Leaf Bar\, Everette Maddox. \nThe series gained popularity around the same time that James Booker\, the flamboyantly wonderful one-eyed piano virtuoso\, held court at The Leaf. Everette Maddox\, another well-loved outrageous personality of the time\, helped popularized the series with his humor\, charisma and whit. Maddox ran the series for nearly 10 years\, until his death in 1989. Since then\, the torch has been carried on by poet Nancy Harris aka “Ape Woman.” \nTo date\, there have been four published anthologies of poets who have read their work at the Maple Leaf: The Maple Leaf Rag (1980)\, The Maple Leaf Rag 15th Anniversary Anthology (1994)\, the Maple Leaf Rag III (2006)\, and Maple Leaf Rag IV (2010). \nAdditionally\, the Maple Leaf is portrayed in many books and stories by New Orleans writers. It is thinly disguised as “The Raintree Street Bar” in the Ellen Gilchrist short story “The Raintree Street Bar and Washerteria” (The Leaf was once a small Laundromat). Poems inspired by the Maple Leaf or about the bar can be found in Mirror Wars and Shards\, by Nancy Harris; Body and Soul and Rhythm & Booze\, by Julie Kane; and The Everette Maddox Song Book\, Bar Scotch and American Waste by Everette Maddox. \nAmerican Waste is a collection of Maddox’ final poems\, written at the Maple Leaf\, Muddy Waters (which was once located across the street) and at the Carrollton Station. Maddox penned the final version of his poems on bar napkins\, fliers\, and beer coasters which were collected by Hank Staples\, the current owner of the Maple Leaf Bar. After Maddox’ death\, his friends decided to publish the posthumous collection of poems. \nThe readings are held every Sunday at 4:20 p.m. If you are going to be in New Orleans and would like to read\, please contact us at least a month or more in advance. \nFor more info\, go to: https://www.mapleleafbar.com/poetry-night or contact Nancy Harris on Facebook.
URL:https://litwire.org/event/the-everette-maddox-memorial-reading-series/2026-06-14/
LOCATION:Maple Leaf Bar\, 8316 Oak St\, New Orleans\, LA\, 70118\, United States
CATEGORIES:Open Mic
ATTACH;FMTTYPE=image/png:https://litwire.org/wp-content/uploads/2023/08/maple-leaf.png
ORGANIZER;CN="Nancy Harris":MAILTO:apewoman@bellsouth.net
END:VEVENT
BEGIN:VEVENT
DTSTART;TZID=America/Chicago:20260617T210000
DTEND;TZID=America/Chicago:20260617T233000
DTSTAMP:20260423T175848
CREATED:20230802T021019Z
LAST-MODIFIED:20240309T172257Z
UID:10001641-1781730000-1781739000@litwire.org
SUMMARY:Poets on Poets
DESCRIPTION:Café Istanbul presents Poets on Poets every Wednesday 10:00 pm – 2:00 am.\n\nDoors open for 9:00 pm.\n\n$5 drinks all night long.
URL:https://litwire.org/event/poets-on-poets/2026-06-17/
LOCATION:Cafe Istanbul\, 2372 St Claude Ave\, New Orleans\, LA\, 70117\, United States
CATEGORIES:Open Mic,Poetry
ATTACH;FMTTYPE=image/jpeg:https://litwire.org/wp-content/uploads/2023/08/poets-on-poets.jpg
END:VEVENT
BEGIN:VEVENT
DTSTART;TZID=America/Chicago:20260621T163000
DTEND;TZID=America/Chicago:20260621T180000
DTSTAMP:20260423T175848
CREATED:20230801T234325Z
LAST-MODIFIED:20230801T234325Z
UID:10001249-1782059400-1782064800@litwire.org
SUMMARY:The Everette Maddox Memorial Reading Series
DESCRIPTION:Sundays at 4:20 pm \nThe Maple Leaf Bar hosts the longest continuously running poetry reading series in North America. It is free and open to the public. The poetry series has been a platform for a great diversity of writers to present their work\, from the published and well-established to the novice poet alike. The reading series was founded in 1979 by Franz Heldner\, Bob Stock\, and the consummate poet laureate of the Maple Leaf Bar\, Everette Maddox. \nThe series gained popularity around the same time that James Booker\, the flamboyantly wonderful one-eyed piano virtuoso\, held court at The Leaf. Everette Maddox\, another well-loved outrageous personality of the time\, helped popularized the series with his humor\, charisma and whit. Maddox ran the series for nearly 10 years\, until his death in 1989. Since then\, the torch has been carried on by poet Nancy Harris aka “Ape Woman.” \nTo date\, there have been four published anthologies of poets who have read their work at the Maple Leaf: The Maple Leaf Rag (1980)\, The Maple Leaf Rag 15th Anniversary Anthology (1994)\, the Maple Leaf Rag III (2006)\, and Maple Leaf Rag IV (2010). \nAdditionally\, the Maple Leaf is portrayed in many books and stories by New Orleans writers. It is thinly disguised as “The Raintree Street Bar” in the Ellen Gilchrist short story “The Raintree Street Bar and Washerteria” (The Leaf was once a small Laundromat). Poems inspired by the Maple Leaf or about the bar can be found in Mirror Wars and Shards\, by Nancy Harris; Body and Soul and Rhythm & Booze\, by Julie Kane; and The Everette Maddox Song Book\, Bar Scotch and American Waste by Everette Maddox. \nAmerican Waste is a collection of Maddox’ final poems\, written at the Maple Leaf\, Muddy Waters (which was once located across the street) and at the Carrollton Station. Maddox penned the final version of his poems on bar napkins\, fliers\, and beer coasters which were collected by Hank Staples\, the current owner of the Maple Leaf Bar. After Maddox’ death\, his friends decided to publish the posthumous collection of poems. \nThe readings are held every Sunday at 4:20 p.m. If you are going to be in New Orleans and would like to read\, please contact us at least a month or more in advance. \nFor more info\, go to: https://www.mapleleafbar.com/poetry-night or contact Nancy Harris on Facebook.
URL:https://litwire.org/event/the-everette-maddox-memorial-reading-series/2026-06-21/
LOCATION:Maple Leaf Bar\, 8316 Oak St\, New Orleans\, LA\, 70118\, United States
CATEGORIES:Open Mic
ATTACH;FMTTYPE=image/png:https://litwire.org/wp-content/uploads/2023/08/maple-leaf.png
ORGANIZER;CN="Nancy Harris":MAILTO:apewoman@bellsouth.net
END:VEVENT
BEGIN:VEVENT
DTSTART;TZID=America/Chicago:20260624T210000
DTEND;TZID=America/Chicago:20260624T233000
DTSTAMP:20260423T175848
CREATED:20230802T021019Z
LAST-MODIFIED:20240309T172257Z
UID:10001642-1782334800-1782343800@litwire.org
SUMMARY:Poets on Poets
DESCRIPTION:Café Istanbul presents Poets on Poets every Wednesday 10:00 pm – 2:00 am.\n\nDoors open for 9:00 pm.\n\n$5 drinks all night long.
URL:https://litwire.org/event/poets-on-poets/2026-06-24/
LOCATION:Cafe Istanbul\, 2372 St Claude Ave\, New Orleans\, LA\, 70117\, United States
CATEGORIES:Open Mic,Poetry
ATTACH;FMTTYPE=image/jpeg:https://litwire.org/wp-content/uploads/2023/08/poets-on-poets.jpg
END:VEVENT
BEGIN:VEVENT
DTSTART;TZID=America/Chicago:20260626T190000
DTEND;TZID=America/Chicago:20260626T210000
DTSTAMP:20260423T175848
CREATED:20230804T203009Z
LAST-MODIFIED:20230804T203009Z
UID:10001800-1782500400-1782507600@litwire.org
SUMMARY:Poetry and Espresso
DESCRIPTION:Poetry open mic with featured musicians\, on the last Friday of every month. Solo musicians are also invited to play the open mic. Free admission. Please arrive early if you want to perform. \nFive minute limit for poets. Seven to ten minutes for music open-mic singers and musicians. \nPlease arrive early to sign in!
URL:https://litwire.org/event/poetry-and-espresso/2026-06-26/
LOCATION:Roots Plants and Coffee\, 124 B Erlanger Avenue\, Slidell\, LA\, 70458\, United States
CATEGORIES:Open Mic,Poetry
ATTACH;FMTTYPE=image/jpeg:https://litwire.org/wp-content/uploads/2023/08/IMG_8029-scaled.jpeg
ORGANIZER;CN="Dennis Formento":MAILTO:mesechabe@hotmail.com
END:VEVENT
BEGIN:VEVENT
DTSTART;TZID=America/Chicago:20260628T163000
DTEND;TZID=America/Chicago:20260628T180000
DTSTAMP:20260423T175848
CREATED:20230801T234325Z
LAST-MODIFIED:20230801T234325Z
UID:10001250-1782664200-1782669600@litwire.org
SUMMARY:The Everette Maddox Memorial Reading Series
DESCRIPTION:Sundays at 4:20 pm \nThe Maple Leaf Bar hosts the longest continuously running poetry reading series in North America. It is free and open to the public. The poetry series has been a platform for a great diversity of writers to present their work\, from the published and well-established to the novice poet alike. The reading series was founded in 1979 by Franz Heldner\, Bob Stock\, and the consummate poet laureate of the Maple Leaf Bar\, Everette Maddox. \nThe series gained popularity around the same time that James Booker\, the flamboyantly wonderful one-eyed piano virtuoso\, held court at The Leaf. Everette Maddox\, another well-loved outrageous personality of the time\, helped popularized the series with his humor\, charisma and whit. Maddox ran the series for nearly 10 years\, until his death in 1989. Since then\, the torch has been carried on by poet Nancy Harris aka “Ape Woman.” \nTo date\, there have been four published anthologies of poets who have read their work at the Maple Leaf: The Maple Leaf Rag (1980)\, The Maple Leaf Rag 15th Anniversary Anthology (1994)\, the Maple Leaf Rag III (2006)\, and Maple Leaf Rag IV (2010). \nAdditionally\, the Maple Leaf is portrayed in many books and stories by New Orleans writers. It is thinly disguised as “The Raintree Street Bar” in the Ellen Gilchrist short story “The Raintree Street Bar and Washerteria” (The Leaf was once a small Laundromat). Poems inspired by the Maple Leaf or about the bar can be found in Mirror Wars and Shards\, by Nancy Harris; Body and Soul and Rhythm & Booze\, by Julie Kane; and The Everette Maddox Song Book\, Bar Scotch and American Waste by Everette Maddox. \nAmerican Waste is a collection of Maddox’ final poems\, written at the Maple Leaf\, Muddy Waters (which was once located across the street) and at the Carrollton Station. Maddox penned the final version of his poems on bar napkins\, fliers\, and beer coasters which were collected by Hank Staples\, the current owner of the Maple Leaf Bar. After Maddox’ death\, his friends decided to publish the posthumous collection of poems. \nThe readings are held every Sunday at 4:20 p.m. If you are going to be in New Orleans and would like to read\, please contact us at least a month or more in advance. \nFor more info\, go to: https://www.mapleleafbar.com/poetry-night or contact Nancy Harris on Facebook.
URL:https://litwire.org/event/the-everette-maddox-memorial-reading-series/2026-06-28/
LOCATION:Maple Leaf Bar\, 8316 Oak St\, New Orleans\, LA\, 70118\, United States
CATEGORIES:Open Mic
ATTACH;FMTTYPE=image/png:https://litwire.org/wp-content/uploads/2023/08/maple-leaf.png
ORGANIZER;CN="Nancy Harris":MAILTO:apewoman@bellsouth.net
END:VEVENT
END:VCALENDAR