BEGIN:VCALENDAR
VERSION:2.0
PRODID:-//LitWire - ECPv6.15.20//NONSGML v1.0//EN
CALSCALE:GREGORIAN
METHOD:PUBLISH
X-WR-CALNAME:LitWire
X-ORIGINAL-URL:https://litwire.org
X-WR-CALDESC:Events for LitWire
REFRESH-INTERVAL;VALUE=DURATION:PT1H
X-Robots-Tag:noindex
X-PUBLISHED-TTL:PT1H
BEGIN:VTIMEZONE
TZID:America/Chicago
BEGIN:DAYLIGHT
TZOFFSETFROM:-0600
TZOFFSETTO:-0500
TZNAME:CDT
DTSTART:20250309T080000
END:DAYLIGHT
BEGIN:STANDARD
TZOFFSETFROM:-0500
TZOFFSETTO:-0600
TZNAME:CST
DTSTART:20251102T070000
END:STANDARD
BEGIN:DAYLIGHT
TZOFFSETFROM:-0600
TZOFFSETTO:-0500
TZNAME:CDT
DTSTART:20260308T080000
END:DAYLIGHT
BEGIN:STANDARD
TZOFFSETFROM:-0500
TZOFFSETTO:-0600
TZNAME:CST
DTSTART:20261101T070000
END:STANDARD
BEGIN:DAYLIGHT
TZOFFSETFROM:-0600
TZOFFSETTO:-0500
TZNAME:CDT
DTSTART:20270314T080000
END:DAYLIGHT
BEGIN:STANDARD
TZOFFSETFROM:-0500
TZOFFSETTO:-0600
TZNAME:CST
DTSTART:20271107T070000
END:STANDARD
END:VTIMEZONE
BEGIN:VEVENT
DTSTART;TZID=America/Chicago:20260515T180000
DTEND;TZID=America/Chicago:20260515T190000
DTSTAMP:20260425T132330
CREATED:20260425T020922Z
LAST-MODIFIED:20260425T020922Z
UID:10005088-1778868000-1778871600@litwire.org
SUMMARY:Evening Storytime with Johnette Downing
DESCRIPTION:We’re heading to Parleaux Beer Lab for a cozy Evening Storytime! \nJoin us on Friday\, May 15 at 6pm as local author and musician Johnette Downing shares a song and a story with us. Settle in with a pint of Parleaux’s small-batch craft beer (or a juice box for the little ones) and enjoy a family-friendly reading. \nAfter storytime\, kids are invited to stick around for a fun activity inspired by one of Johnette’s books.
URL:https://litwire.org/event/evening-storytime-with-johnette-downing/
LOCATION:Parleaux Beer Lab\, 634 Lesseps St.\, New Orleans\, LA\, 70117\, United States
CATEGORIES:In-Person,Storytelling
ATTACH;FMTTYPE=image/png:https://litwire.org/wp-content/uploads/2026/04/Storytime-at-Parleaux-May-Banner.png
ORGANIZER;CN="Book Banter Books":MAILTO:BookBanterBooks@gmail.com
END:VEVENT
END:VCALENDAR