BEGIN:VCALENDAR
VERSION:2.0
PRODID:-//LitWire - ECPv6.15.20//NONSGML v1.0//EN
CALSCALE:GREGORIAN
METHOD:PUBLISH
X-ORIGINAL-URL:https://litwire.org
X-WR-CALDESC:Events for LitWire
REFRESH-INTERVAL;VALUE=DURATION:PT1H
X-Robots-Tag:noindex
X-PUBLISHED-TTL:PT1H
BEGIN:VTIMEZONE
TZID:America/Chicago
BEGIN:DAYLIGHT
TZOFFSETFROM:-0600
TZOFFSETTO:-0500
TZNAME:CDT
DTSTART:20270314T080000
END:DAYLIGHT
BEGIN:STANDARD
TZOFFSETFROM:-0500
TZOFFSETTO:-0600
TZNAME:CST
DTSTART:20271107T070000
END:STANDARD
BEGIN:DAYLIGHT
TZOFFSETFROM:-0600
TZOFFSETTO:-0500
TZNAME:CDT
DTSTART:20280312T080000
END:DAYLIGHT
BEGIN:STANDARD
TZOFFSETFROM:-0500
TZOFFSETTO:-0600
TZNAME:CST
DTSTART:20281105T070000
END:STANDARD
BEGIN:DAYLIGHT
TZOFFSETFROM:-0600
TZOFFSETTO:-0500
TZNAME:CDT
DTSTART:20290311T080000
END:DAYLIGHT
BEGIN:STANDARD
TZOFFSETFROM:-0500
TZOFFSETTO:-0600
TZNAME:CST
DTSTART:20291104T070000
END:STANDARD
BEGIN:DAYLIGHT
TZOFFSETFROM:-0600
TZOFFSETTO:-0500
TZNAME:CDT
DTSTART:20300310T080000
END:DAYLIGHT
BEGIN:STANDARD
TZOFFSETFROM:-0500
TZOFFSETTO:-0600
TZNAME:CST
DTSTART:20301103T070000
END:STANDARD
END:VTIMEZONE
BEGIN:VEVENT
DTSTART;TZID=America/Chicago:20280713T200000
DTEND;TZID=America/Chicago:20280713T223000
DTSTAMP:20260424T101836
CREATED:20250806T182910Z
LAST-MODIFIED:20250806T182910Z
UID:10004635-1847131200-1847140200@litwire.org
SUMMARY:The Magic Mic
DESCRIPTION:7 minutes of magic on the mic. Show us your magic\, share in the magic of others. Tell your tales\, share your songs\, make music\, melodies and memories with us. ALL ACTs OPEN! Starts at 8pm every Thursday at Poor Boys!
URL:https://litwire.org/event/the-magic-mic/2028-07-13/
LOCATION:Poor Boys Bar\, 1328 St Bernard Ave\, New Orleans\, L\, 70116\, United States
CATEGORIES:Conversation,Erotica,Flash Fiction,In-Person,Non-Fiction,Open Mic,Poetry,Poetry Slam,Q&A,Slam,Spoken Word,Story Slam,Storytelling,Talk
ATTACH;FMTTYPE=image/jpeg:https://litwire.org/wp-content/uploads/2025/08/music.jpg
ORGANIZER;CN="Flavius":MAILTO:flaviusbentley@gmail.com
END:VEVENT
BEGIN:VEVENT
DTSTART;TZID=America/Chicago:20280720T200000
DTEND;TZID=America/Chicago:20280720T223000
DTSTAMP:20260424T101836
CREATED:20250806T182910Z
LAST-MODIFIED:20250806T182910Z
UID:10004636-1847736000-1847745000@litwire.org
SUMMARY:The Magic Mic
DESCRIPTION:7 minutes of magic on the mic. Show us your magic\, share in the magic of others. Tell your tales\, share your songs\, make music\, melodies and memories with us. ALL ACTs OPEN! Starts at 8pm every Thursday at Poor Boys!
URL:https://litwire.org/event/the-magic-mic/2028-07-20/
LOCATION:Poor Boys Bar\, 1328 St Bernard Ave\, New Orleans\, L\, 70116\, United States
CATEGORIES:Conversation,Erotica,Flash Fiction,In-Person,Non-Fiction,Open Mic,Poetry,Poetry Slam,Q&A,Slam,Spoken Word,Story Slam,Storytelling,Talk
ATTACH;FMTTYPE=image/jpeg:https://litwire.org/wp-content/uploads/2025/08/music.jpg
ORGANIZER;CN="Flavius":MAILTO:flaviusbentley@gmail.com
END:VEVENT
BEGIN:VEVENT
DTSTART;TZID=America/Chicago:20280727T200000
DTEND;TZID=America/Chicago:20280727T223000
DTSTAMP:20260424T101836
CREATED:20250806T182910Z
LAST-MODIFIED:20250806T182910Z
UID:10004637-1848340800-1848349800@litwire.org
SUMMARY:The Magic Mic
DESCRIPTION:7 minutes of magic on the mic. Show us your magic\, share in the magic of others. Tell your tales\, share your songs\, make music\, melodies and memories with us. ALL ACTs OPEN! Starts at 8pm every Thursday at Poor Boys!
URL:https://litwire.org/event/the-magic-mic/2028-07-27/
LOCATION:Poor Boys Bar\, 1328 St Bernard Ave\, New Orleans\, L\, 70116\, United States
CATEGORIES:Conversation,Erotica,Flash Fiction,In-Person,Non-Fiction,Open Mic,Poetry,Poetry Slam,Q&A,Slam,Spoken Word,Story Slam,Storytelling,Talk
ATTACH;FMTTYPE=image/jpeg:https://litwire.org/wp-content/uploads/2025/08/music.jpg
ORGANIZER;CN="Flavius":MAILTO:flaviusbentley@gmail.com
END:VEVENT
BEGIN:VEVENT
DTSTART;TZID=America/Chicago:20280803T200000
DTEND;TZID=America/Chicago:20280803T223000
DTSTAMP:20260424T101836
CREATED:20250806T182910Z
LAST-MODIFIED:20250806T182910Z
UID:10004638-1848945600-1848954600@litwire.org
SUMMARY:The Magic Mic
DESCRIPTION:7 minutes of magic on the mic. Show us your magic\, share in the magic of others. Tell your tales\, share your songs\, make music\, melodies and memories with us. ALL ACTs OPEN! Starts at 8pm every Thursday at Poor Boys!
URL:https://litwire.org/event/the-magic-mic/2028-08-03/
LOCATION:Poor Boys Bar\, 1328 St Bernard Ave\, New Orleans\, L\, 70116\, United States
CATEGORIES:Conversation,Erotica,Flash Fiction,In-Person,Non-Fiction,Open Mic,Poetry,Poetry Slam,Q&A,Slam,Spoken Word,Story Slam,Storytelling,Talk
ATTACH;FMTTYPE=image/jpeg:https://litwire.org/wp-content/uploads/2025/08/music.jpg
ORGANIZER;CN="Flavius":MAILTO:flaviusbentley@gmail.com
END:VEVENT
BEGIN:VEVENT
DTSTART;TZID=America/Chicago:20280810T200000
DTEND;TZID=America/Chicago:20280810T223000
DTSTAMP:20260424T101836
CREATED:20250806T182910Z
LAST-MODIFIED:20250806T182910Z
UID:10004639-1849550400-1849559400@litwire.org
SUMMARY:The Magic Mic
DESCRIPTION:7 minutes of magic on the mic. Show us your magic\, share in the magic of others. Tell your tales\, share your songs\, make music\, melodies and memories with us. ALL ACTs OPEN! Starts at 8pm every Thursday at Poor Boys!
URL:https://litwire.org/event/the-magic-mic/2028-08-10/
LOCATION:Poor Boys Bar\, 1328 St Bernard Ave\, New Orleans\, L\, 70116\, United States
CATEGORIES:Conversation,Erotica,Flash Fiction,In-Person,Non-Fiction,Open Mic,Poetry,Poetry Slam,Q&A,Slam,Spoken Word,Story Slam,Storytelling,Talk
ATTACH;FMTTYPE=image/jpeg:https://litwire.org/wp-content/uploads/2025/08/music.jpg
ORGANIZER;CN="Flavius":MAILTO:flaviusbentley@gmail.com
END:VEVENT
BEGIN:VEVENT
DTSTART;TZID=America/Chicago:20280817T200000
DTEND;TZID=America/Chicago:20280817T223000
DTSTAMP:20260424T101836
CREATED:20250806T182910Z
LAST-MODIFIED:20250806T182910Z
UID:10004640-1850155200-1850164200@litwire.org
SUMMARY:The Magic Mic
DESCRIPTION:7 minutes of magic on the mic. Show us your magic\, share in the magic of others. Tell your tales\, share your songs\, make music\, melodies and memories with us. ALL ACTs OPEN! Starts at 8pm every Thursday at Poor Boys!
URL:https://litwire.org/event/the-magic-mic/2028-08-17/
LOCATION:Poor Boys Bar\, 1328 St Bernard Ave\, New Orleans\, L\, 70116\, United States
CATEGORIES:Conversation,Erotica,Flash Fiction,In-Person,Non-Fiction,Open Mic,Poetry,Poetry Slam,Q&A,Slam,Spoken Word,Story Slam,Storytelling,Talk
ATTACH;FMTTYPE=image/jpeg:https://litwire.org/wp-content/uploads/2025/08/music.jpg
ORGANIZER;CN="Flavius":MAILTO:flaviusbentley@gmail.com
END:VEVENT
BEGIN:VEVENT
DTSTART;TZID=America/Chicago:20280824T200000
DTEND;TZID=America/Chicago:20280824T223000
DTSTAMP:20260424T101836
CREATED:20250806T182910Z
LAST-MODIFIED:20250806T182910Z
UID:10004641-1850760000-1850769000@litwire.org
SUMMARY:The Magic Mic
DESCRIPTION:7 minutes of magic on the mic. Show us your magic\, share in the magic of others. Tell your tales\, share your songs\, make music\, melodies and memories with us. ALL ACTs OPEN! Starts at 8pm every Thursday at Poor Boys!
URL:https://litwire.org/event/the-magic-mic/2028-08-24/
LOCATION:Poor Boys Bar\, 1328 St Bernard Ave\, New Orleans\, L\, 70116\, United States
CATEGORIES:Conversation,Erotica,Flash Fiction,In-Person,Non-Fiction,Open Mic,Poetry,Poetry Slam,Q&A,Slam,Spoken Word,Story Slam,Storytelling,Talk
ATTACH;FMTTYPE=image/jpeg:https://litwire.org/wp-content/uploads/2025/08/music.jpg
ORGANIZER;CN="Flavius":MAILTO:flaviusbentley@gmail.com
END:VEVENT
BEGIN:VEVENT
DTSTART;TZID=America/Chicago:20280831T200000
DTEND;TZID=America/Chicago:20280831T223000
DTSTAMP:20260424T101836
CREATED:20250806T182910Z
LAST-MODIFIED:20250806T182910Z
UID:10004642-1851364800-1851373800@litwire.org
SUMMARY:The Magic Mic
DESCRIPTION:7 minutes of magic on the mic. Show us your magic\, share in the magic of others. Tell your tales\, share your songs\, make music\, melodies and memories with us. ALL ACTs OPEN! Starts at 8pm every Thursday at Poor Boys!
URL:https://litwire.org/event/the-magic-mic/2028-08-31/
LOCATION:Poor Boys Bar\, 1328 St Bernard Ave\, New Orleans\, L\, 70116\, United States
CATEGORIES:Conversation,Erotica,Flash Fiction,In-Person,Non-Fiction,Open Mic,Poetry,Poetry Slam,Q&A,Slam,Spoken Word,Story Slam,Storytelling,Talk
ATTACH;FMTTYPE=image/jpeg:https://litwire.org/wp-content/uploads/2025/08/music.jpg
ORGANIZER;CN="Flavius":MAILTO:flaviusbentley@gmail.com
END:VEVENT
BEGIN:VEVENT
DTSTART;TZID=America/Chicago:20280907T200000
DTEND;TZID=America/Chicago:20280907T223000
DTSTAMP:20260424T101836
CREATED:20250806T182910Z
LAST-MODIFIED:20250806T182910Z
UID:10004643-1851969600-1851978600@litwire.org
SUMMARY:The Magic Mic
DESCRIPTION:7 minutes of magic on the mic. Show us your magic\, share in the magic of others. Tell your tales\, share your songs\, make music\, melodies and memories with us. ALL ACTs OPEN! Starts at 8pm every Thursday at Poor Boys!
URL:https://litwire.org/event/the-magic-mic/2028-09-07/
LOCATION:Poor Boys Bar\, 1328 St Bernard Ave\, New Orleans\, L\, 70116\, United States
CATEGORIES:Conversation,Erotica,Flash Fiction,In-Person,Non-Fiction,Open Mic,Poetry,Poetry Slam,Q&A,Slam,Spoken Word,Story Slam,Storytelling,Talk
ATTACH;FMTTYPE=image/jpeg:https://litwire.org/wp-content/uploads/2025/08/music.jpg
ORGANIZER;CN="Flavius":MAILTO:flaviusbentley@gmail.com
END:VEVENT
BEGIN:VEVENT
DTSTART;TZID=America/Chicago:20280914T200000
DTEND;TZID=America/Chicago:20280914T223000
DTSTAMP:20260424T101836
CREATED:20250806T182910Z
LAST-MODIFIED:20250806T182910Z
UID:10004644-1852574400-1852583400@litwire.org
SUMMARY:The Magic Mic
DESCRIPTION:7 minutes of magic on the mic. Show us your magic\, share in the magic of others. Tell your tales\, share your songs\, make music\, melodies and memories with us. ALL ACTs OPEN! Starts at 8pm every Thursday at Poor Boys!
URL:https://litwire.org/event/the-magic-mic/2028-09-14/
LOCATION:Poor Boys Bar\, 1328 St Bernard Ave\, New Orleans\, L\, 70116\, United States
CATEGORIES:Conversation,Erotica,Flash Fiction,In-Person,Non-Fiction,Open Mic,Poetry,Poetry Slam,Q&A,Slam,Spoken Word,Story Slam,Storytelling,Talk
ATTACH;FMTTYPE=image/jpeg:https://litwire.org/wp-content/uploads/2025/08/music.jpg
ORGANIZER;CN="Flavius":MAILTO:flaviusbentley@gmail.com
END:VEVENT
BEGIN:VEVENT
DTSTART;TZID=America/Chicago:20280921T200000
DTEND;TZID=America/Chicago:20280921T223000
DTSTAMP:20260424T101836
CREATED:20250806T182910Z
LAST-MODIFIED:20250806T182910Z
UID:10004645-1853179200-1853188200@litwire.org
SUMMARY:The Magic Mic
DESCRIPTION:7 minutes of magic on the mic. Show us your magic\, share in the magic of others. Tell your tales\, share your songs\, make music\, melodies and memories with us. ALL ACTs OPEN! Starts at 8pm every Thursday at Poor Boys!
URL:https://litwire.org/event/the-magic-mic/2028-09-21/
LOCATION:Poor Boys Bar\, 1328 St Bernard Ave\, New Orleans\, L\, 70116\, United States
CATEGORIES:Conversation,Erotica,Flash Fiction,In-Person,Non-Fiction,Open Mic,Poetry,Poetry Slam,Q&A,Slam,Spoken Word,Story Slam,Storytelling,Talk
ATTACH;FMTTYPE=image/jpeg:https://litwire.org/wp-content/uploads/2025/08/music.jpg
ORGANIZER;CN="Flavius":MAILTO:flaviusbentley@gmail.com
END:VEVENT
BEGIN:VEVENT
DTSTART;TZID=America/Chicago:20280928T200000
DTEND;TZID=America/Chicago:20280928T223000
DTSTAMP:20260424T101836
CREATED:20250806T182910Z
LAST-MODIFIED:20250806T182910Z
UID:10004646-1853784000-1853793000@litwire.org
SUMMARY:The Magic Mic
DESCRIPTION:7 minutes of magic on the mic. Show us your magic\, share in the magic of others. Tell your tales\, share your songs\, make music\, melodies and memories with us. ALL ACTs OPEN! Starts at 8pm every Thursday at Poor Boys!
URL:https://litwire.org/event/the-magic-mic/2028-09-28/
LOCATION:Poor Boys Bar\, 1328 St Bernard Ave\, New Orleans\, L\, 70116\, United States
CATEGORIES:Conversation,Erotica,Flash Fiction,In-Person,Non-Fiction,Open Mic,Poetry,Poetry Slam,Q&A,Slam,Spoken Word,Story Slam,Storytelling,Talk
ATTACH;FMTTYPE=image/jpeg:https://litwire.org/wp-content/uploads/2025/08/music.jpg
ORGANIZER;CN="Flavius":MAILTO:flaviusbentley@gmail.com
END:VEVENT
BEGIN:VEVENT
DTSTART;TZID=America/Chicago:20281005T200000
DTEND;TZID=America/Chicago:20281005T223000
DTSTAMP:20260424T101836
CREATED:20250806T182910Z
LAST-MODIFIED:20250806T182910Z
UID:10004647-1854388800-1854397800@litwire.org
SUMMARY:The Magic Mic
DESCRIPTION:7 minutes of magic on the mic. Show us your magic\, share in the magic of others. Tell your tales\, share your songs\, make music\, melodies and memories with us. ALL ACTs OPEN! Starts at 8pm every Thursday at Poor Boys!
URL:https://litwire.org/event/the-magic-mic/2028-10-05/
LOCATION:Poor Boys Bar\, 1328 St Bernard Ave\, New Orleans\, L\, 70116\, United States
CATEGORIES:Conversation,Erotica,Flash Fiction,In-Person,Non-Fiction,Open Mic,Poetry,Poetry Slam,Q&A,Slam,Spoken Word,Story Slam,Storytelling,Talk
ATTACH;FMTTYPE=image/jpeg:https://litwire.org/wp-content/uploads/2025/08/music.jpg
ORGANIZER;CN="Flavius":MAILTO:flaviusbentley@gmail.com
END:VEVENT
BEGIN:VEVENT
DTSTART;TZID=America/Chicago:20281012T200000
DTEND;TZID=America/Chicago:20281012T223000
DTSTAMP:20260424T101836
CREATED:20250806T182910Z
LAST-MODIFIED:20250806T182910Z
UID:10004648-1854993600-1855002600@litwire.org
SUMMARY:The Magic Mic
DESCRIPTION:7 minutes of magic on the mic. Show us your magic\, share in the magic of others. Tell your tales\, share your songs\, make music\, melodies and memories with us. ALL ACTs OPEN! Starts at 8pm every Thursday at Poor Boys!
URL:https://litwire.org/event/the-magic-mic/2028-10-12/
LOCATION:Poor Boys Bar\, 1328 St Bernard Ave\, New Orleans\, L\, 70116\, United States
CATEGORIES:Conversation,Erotica,Flash Fiction,In-Person,Non-Fiction,Open Mic,Poetry,Poetry Slam,Q&A,Slam,Spoken Word,Story Slam,Storytelling,Talk
ATTACH;FMTTYPE=image/jpeg:https://litwire.org/wp-content/uploads/2025/08/music.jpg
ORGANIZER;CN="Flavius":MAILTO:flaviusbentley@gmail.com
END:VEVENT
BEGIN:VEVENT
DTSTART;TZID=America/Chicago:20281019T200000
DTEND;TZID=America/Chicago:20281019T223000
DTSTAMP:20260424T101836
CREATED:20250806T182910Z
LAST-MODIFIED:20250806T182910Z
UID:10004649-1855598400-1855607400@litwire.org
SUMMARY:The Magic Mic
DESCRIPTION:7 minutes of magic on the mic. Show us your magic\, share in the magic of others. Tell your tales\, share your songs\, make music\, melodies and memories with us. ALL ACTs OPEN! Starts at 8pm every Thursday at Poor Boys!
URL:https://litwire.org/event/the-magic-mic/2028-10-19/
LOCATION:Poor Boys Bar\, 1328 St Bernard Ave\, New Orleans\, L\, 70116\, United States
CATEGORIES:Conversation,Erotica,Flash Fiction,In-Person,Non-Fiction,Open Mic,Poetry,Poetry Slam,Q&A,Slam,Spoken Word,Story Slam,Storytelling,Talk
ATTACH;FMTTYPE=image/jpeg:https://litwire.org/wp-content/uploads/2025/08/music.jpg
ORGANIZER;CN="Flavius":MAILTO:flaviusbentley@gmail.com
END:VEVENT
BEGIN:VEVENT
DTSTART;TZID=America/Chicago:20281026T200000
DTEND;TZID=America/Chicago:20281026T223000
DTSTAMP:20260424T101836
CREATED:20250806T182910Z
LAST-MODIFIED:20250806T182910Z
UID:10004650-1856203200-1856212200@litwire.org
SUMMARY:The Magic Mic
DESCRIPTION:7 minutes of magic on the mic. Show us your magic\, share in the magic of others. Tell your tales\, share your songs\, make music\, melodies and memories with us. ALL ACTs OPEN! Starts at 8pm every Thursday at Poor Boys!
URL:https://litwire.org/event/the-magic-mic/2028-10-26/
LOCATION:Poor Boys Bar\, 1328 St Bernard Ave\, New Orleans\, L\, 70116\, United States
CATEGORIES:Conversation,Erotica,Flash Fiction,In-Person,Non-Fiction,Open Mic,Poetry,Poetry Slam,Q&A,Slam,Spoken Word,Story Slam,Storytelling,Talk
ATTACH;FMTTYPE=image/jpeg:https://litwire.org/wp-content/uploads/2025/08/music.jpg
ORGANIZER;CN="Flavius":MAILTO:flaviusbentley@gmail.com
END:VEVENT
BEGIN:VEVENT
DTSTART;TZID=America/Chicago:20281102T200000
DTEND;TZID=America/Chicago:20281102T223000
DTSTAMP:20260424T101836
CREATED:20250806T182910Z
LAST-MODIFIED:20250806T182910Z
UID:10004651-1856808000-1856817000@litwire.org
SUMMARY:The Magic Mic
DESCRIPTION:7 minutes of magic on the mic. Show us your magic\, share in the magic of others. Tell your tales\, share your songs\, make music\, melodies and memories with us. ALL ACTs OPEN! Starts at 8pm every Thursday at Poor Boys!
URL:https://litwire.org/event/the-magic-mic/2028-11-02/
LOCATION:Poor Boys Bar\, 1328 St Bernard Ave\, New Orleans\, L\, 70116\, United States
CATEGORIES:Conversation,Erotica,Flash Fiction,In-Person,Non-Fiction,Open Mic,Poetry,Poetry Slam,Q&A,Slam,Spoken Word,Story Slam,Storytelling,Talk
ATTACH;FMTTYPE=image/jpeg:https://litwire.org/wp-content/uploads/2025/08/music.jpg
ORGANIZER;CN="Flavius":MAILTO:flaviusbentley@gmail.com
END:VEVENT
BEGIN:VEVENT
DTSTART;TZID=America/Chicago:20281109T200000
DTEND;TZID=America/Chicago:20281109T223000
DTSTAMP:20260424T101836
CREATED:20250806T182910Z
LAST-MODIFIED:20250806T182910Z
UID:10004652-1857412800-1857421800@litwire.org
SUMMARY:The Magic Mic
DESCRIPTION:7 minutes of magic on the mic. Show us your magic\, share in the magic of others. Tell your tales\, share your songs\, make music\, melodies and memories with us. ALL ACTs OPEN! Starts at 8pm every Thursday at Poor Boys!
URL:https://litwire.org/event/the-magic-mic/2028-11-09/
LOCATION:Poor Boys Bar\, 1328 St Bernard Ave\, New Orleans\, L\, 70116\, United States
CATEGORIES:Conversation,Erotica,Flash Fiction,In-Person,Non-Fiction,Open Mic,Poetry,Poetry Slam,Q&A,Slam,Spoken Word,Story Slam,Storytelling,Talk
ATTACH;FMTTYPE=image/jpeg:https://litwire.org/wp-content/uploads/2025/08/music.jpg
ORGANIZER;CN="Flavius":MAILTO:flaviusbentley@gmail.com
END:VEVENT
BEGIN:VEVENT
DTSTART;TZID=America/Chicago:20281116T200000
DTEND;TZID=America/Chicago:20281116T223000
DTSTAMP:20260424T101836
CREATED:20250806T182910Z
LAST-MODIFIED:20250806T182910Z
UID:10004653-1858017600-1858026600@litwire.org
SUMMARY:The Magic Mic
DESCRIPTION:7 minutes of magic on the mic. Show us your magic\, share in the magic of others. Tell your tales\, share your songs\, make music\, melodies and memories with us. ALL ACTs OPEN! Starts at 8pm every Thursday at Poor Boys!
URL:https://litwire.org/event/the-magic-mic/2028-11-16/
LOCATION:Poor Boys Bar\, 1328 St Bernard Ave\, New Orleans\, L\, 70116\, United States
CATEGORIES:Conversation,Erotica,Flash Fiction,In-Person,Non-Fiction,Open Mic,Poetry,Poetry Slam,Q&A,Slam,Spoken Word,Story Slam,Storytelling,Talk
ATTACH;FMTTYPE=image/jpeg:https://litwire.org/wp-content/uploads/2025/08/music.jpg
ORGANIZER;CN="Flavius":MAILTO:flaviusbentley@gmail.com
END:VEVENT
BEGIN:VEVENT
DTSTART;TZID=America/Chicago:20281123T200000
DTEND;TZID=America/Chicago:20281123T223000
DTSTAMP:20260424T101836
CREATED:20250806T182910Z
LAST-MODIFIED:20250806T182910Z
UID:10004654-1858622400-1858631400@litwire.org
SUMMARY:The Magic Mic
DESCRIPTION:7 minutes of magic on the mic. Show us your magic\, share in the magic of others. Tell your tales\, share your songs\, make music\, melodies and memories with us. ALL ACTs OPEN! Starts at 8pm every Thursday at Poor Boys!
URL:https://litwire.org/event/the-magic-mic/2028-11-23/
LOCATION:Poor Boys Bar\, 1328 St Bernard Ave\, New Orleans\, L\, 70116\, United States
CATEGORIES:Conversation,Erotica,Flash Fiction,In-Person,Non-Fiction,Open Mic,Poetry,Poetry Slam,Q&A,Slam,Spoken Word,Story Slam,Storytelling,Talk
ATTACH;FMTTYPE=image/jpeg:https://litwire.org/wp-content/uploads/2025/08/music.jpg
ORGANIZER;CN="Flavius":MAILTO:flaviusbentley@gmail.com
END:VEVENT
BEGIN:VEVENT
DTSTART;TZID=America/Chicago:20281130T200000
DTEND;TZID=America/Chicago:20281130T223000
DTSTAMP:20260424T101836
CREATED:20250806T182910Z
LAST-MODIFIED:20250806T182910Z
UID:10004655-1859227200-1859236200@litwire.org
SUMMARY:The Magic Mic
DESCRIPTION:7 minutes of magic on the mic. Show us your magic\, share in the magic of others. Tell your tales\, share your songs\, make music\, melodies and memories with us. ALL ACTs OPEN! Starts at 8pm every Thursday at Poor Boys!
URL:https://litwire.org/event/the-magic-mic/2028-11-30/
LOCATION:Poor Boys Bar\, 1328 St Bernard Ave\, New Orleans\, L\, 70116\, United States
CATEGORIES:Conversation,Erotica,Flash Fiction,In-Person,Non-Fiction,Open Mic,Poetry,Poetry Slam,Q&A,Slam,Spoken Word,Story Slam,Storytelling,Talk
ATTACH;FMTTYPE=image/jpeg:https://litwire.org/wp-content/uploads/2025/08/music.jpg
ORGANIZER;CN="Flavius":MAILTO:flaviusbentley@gmail.com
END:VEVENT
BEGIN:VEVENT
DTSTART;TZID=America/Chicago:20281207T200000
DTEND;TZID=America/Chicago:20281207T223000
DTSTAMP:20260424T101836
CREATED:20250806T182910Z
LAST-MODIFIED:20250806T182910Z
UID:10004656-1859832000-1859841000@litwire.org
SUMMARY:The Magic Mic
DESCRIPTION:7 minutes of magic on the mic. Show us your magic\, share in the magic of others. Tell your tales\, share your songs\, make music\, melodies and memories with us. ALL ACTs OPEN! Starts at 8pm every Thursday at Poor Boys!
URL:https://litwire.org/event/the-magic-mic/2028-12-07/
LOCATION:Poor Boys Bar\, 1328 St Bernard Ave\, New Orleans\, L\, 70116\, United States
CATEGORIES:Conversation,Erotica,Flash Fiction,In-Person,Non-Fiction,Open Mic,Poetry,Poetry Slam,Q&A,Slam,Spoken Word,Story Slam,Storytelling,Talk
ATTACH;FMTTYPE=image/jpeg:https://litwire.org/wp-content/uploads/2025/08/music.jpg
ORGANIZER;CN="Flavius":MAILTO:flaviusbentley@gmail.com
END:VEVENT
BEGIN:VEVENT
DTSTART;TZID=America/Chicago:20281214T200000
DTEND;TZID=America/Chicago:20281214T223000
DTSTAMP:20260424T101836
CREATED:20250806T182910Z
LAST-MODIFIED:20250806T182910Z
UID:10004657-1860436800-1860445800@litwire.org
SUMMARY:The Magic Mic
DESCRIPTION:7 minutes of magic on the mic. Show us your magic\, share in the magic of others. Tell your tales\, share your songs\, make music\, melodies and memories with us. ALL ACTs OPEN! Starts at 8pm every Thursday at Poor Boys!
URL:https://litwire.org/event/the-magic-mic/2028-12-14/
LOCATION:Poor Boys Bar\, 1328 St Bernard Ave\, New Orleans\, L\, 70116\, United States
CATEGORIES:Conversation,Erotica,Flash Fiction,In-Person,Non-Fiction,Open Mic,Poetry,Poetry Slam,Q&A,Slam,Spoken Word,Story Slam,Storytelling,Talk
ATTACH;FMTTYPE=image/jpeg:https://litwire.org/wp-content/uploads/2025/08/music.jpg
ORGANIZER;CN="Flavius":MAILTO:flaviusbentley@gmail.com
END:VEVENT
BEGIN:VEVENT
DTSTART;TZID=America/Chicago:20281221T200000
DTEND;TZID=America/Chicago:20281221T223000
DTSTAMP:20260424T101836
CREATED:20250806T182910Z
LAST-MODIFIED:20250806T182910Z
UID:10004658-1861041600-1861050600@litwire.org
SUMMARY:The Magic Mic
DESCRIPTION:7 minutes of magic on the mic. Show us your magic\, share in the magic of others. Tell your tales\, share your songs\, make music\, melodies and memories with us. ALL ACTs OPEN! Starts at 8pm every Thursday at Poor Boys!
URL:https://litwire.org/event/the-magic-mic/2028-12-21/
LOCATION:Poor Boys Bar\, 1328 St Bernard Ave\, New Orleans\, L\, 70116\, United States
CATEGORIES:Conversation,Erotica,Flash Fiction,In-Person,Non-Fiction,Open Mic,Poetry,Poetry Slam,Q&A,Slam,Spoken Word,Story Slam,Storytelling,Talk
ATTACH;FMTTYPE=image/jpeg:https://litwire.org/wp-content/uploads/2025/08/music.jpg
ORGANIZER;CN="Flavius":MAILTO:flaviusbentley@gmail.com
END:VEVENT
BEGIN:VEVENT
DTSTART;TZID=America/Chicago:20281228T200000
DTEND;TZID=America/Chicago:20281228T223000
DTSTAMP:20260424T101836
CREATED:20250806T182910Z
LAST-MODIFIED:20250806T182910Z
UID:10004659-1861646400-1861655400@litwire.org
SUMMARY:The Magic Mic
DESCRIPTION:7 minutes of magic on the mic. Show us your magic\, share in the magic of others. Tell your tales\, share your songs\, make music\, melodies and memories with us. ALL ACTs OPEN! Starts at 8pm every Thursday at Poor Boys!
URL:https://litwire.org/event/the-magic-mic/2028-12-28/
LOCATION:Poor Boys Bar\, 1328 St Bernard Ave\, New Orleans\, L\, 70116\, United States
CATEGORIES:Conversation,Erotica,Flash Fiction,In-Person,Non-Fiction,Open Mic,Poetry,Poetry Slam,Q&A,Slam,Spoken Word,Story Slam,Storytelling,Talk
ATTACH;FMTTYPE=image/jpeg:https://litwire.org/wp-content/uploads/2025/08/music.jpg
ORGANIZER;CN="Flavius":MAILTO:flaviusbentley@gmail.com
END:VEVENT
BEGIN:VEVENT
DTSTART;TZID=America/Chicago:20290104T200000
DTEND;TZID=America/Chicago:20290104T223000
DTSTAMP:20260424T101836
CREATED:20250806T182910Z
LAST-MODIFIED:20250806T182910Z
UID:10004660-1862251200-1862260200@litwire.org
SUMMARY:The Magic Mic
DESCRIPTION:7 minutes of magic on the mic. Show us your magic\, share in the magic of others. Tell your tales\, share your songs\, make music\, melodies and memories with us. ALL ACTs OPEN! Starts at 8pm every Thursday at Poor Boys!
URL:https://litwire.org/event/the-magic-mic/2029-01-04/
LOCATION:Poor Boys Bar\, 1328 St Bernard Ave\, New Orleans\, L\, 70116\, United States
CATEGORIES:Conversation,Erotica,Flash Fiction,In-Person,Non-Fiction,Open Mic,Poetry,Poetry Slam,Q&A,Slam,Spoken Word,Story Slam,Storytelling,Talk
ATTACH;FMTTYPE=image/jpeg:https://litwire.org/wp-content/uploads/2025/08/music.jpg
ORGANIZER;CN="Flavius":MAILTO:flaviusbentley@gmail.com
END:VEVENT
BEGIN:VEVENT
DTSTART;TZID=America/Chicago:20290111T200000
DTEND;TZID=America/Chicago:20290111T223000
DTSTAMP:20260424T101836
CREATED:20250806T182910Z
LAST-MODIFIED:20250806T182910Z
UID:10004661-1862856000-1862865000@litwire.org
SUMMARY:The Magic Mic
DESCRIPTION:7 minutes of magic on the mic. Show us your magic\, share in the magic of others. Tell your tales\, share your songs\, make music\, melodies and memories with us. ALL ACTs OPEN! Starts at 8pm every Thursday at Poor Boys!
URL:https://litwire.org/event/the-magic-mic/2029-01-11/
LOCATION:Poor Boys Bar\, 1328 St Bernard Ave\, New Orleans\, L\, 70116\, United States
CATEGORIES:Conversation,Erotica,Flash Fiction,In-Person,Non-Fiction,Open Mic,Poetry,Poetry Slam,Q&A,Slam,Spoken Word,Story Slam,Storytelling,Talk
ATTACH;FMTTYPE=image/jpeg:https://litwire.org/wp-content/uploads/2025/08/music.jpg
ORGANIZER;CN="Flavius":MAILTO:flaviusbentley@gmail.com
END:VEVENT
BEGIN:VEVENT
DTSTART;TZID=America/Chicago:20290118T200000
DTEND;TZID=America/Chicago:20290118T223000
DTSTAMP:20260424T101836
CREATED:20250806T182910Z
LAST-MODIFIED:20250806T182910Z
UID:10004662-1863460800-1863469800@litwire.org
SUMMARY:The Magic Mic
DESCRIPTION:7 minutes of magic on the mic. Show us your magic\, share in the magic of others. Tell your tales\, share your songs\, make music\, melodies and memories with us. ALL ACTs OPEN! Starts at 8pm every Thursday at Poor Boys!
URL:https://litwire.org/event/the-magic-mic/2029-01-18/
LOCATION:Poor Boys Bar\, 1328 St Bernard Ave\, New Orleans\, L\, 70116\, United States
CATEGORIES:Conversation,Erotica,Flash Fiction,In-Person,Non-Fiction,Open Mic,Poetry,Poetry Slam,Q&A,Slam,Spoken Word,Story Slam,Storytelling,Talk
ATTACH;FMTTYPE=image/jpeg:https://litwire.org/wp-content/uploads/2025/08/music.jpg
ORGANIZER;CN="Flavius":MAILTO:flaviusbentley@gmail.com
END:VEVENT
BEGIN:VEVENT
DTSTART;TZID=America/Chicago:20290125T200000
DTEND;TZID=America/Chicago:20290125T223000
DTSTAMP:20260424T101836
CREATED:20250806T182910Z
LAST-MODIFIED:20250806T182910Z
UID:10004663-1864065600-1864074600@litwire.org
SUMMARY:The Magic Mic
DESCRIPTION:7 minutes of magic on the mic. Show us your magic\, share in the magic of others. Tell your tales\, share your songs\, make music\, melodies and memories with us. ALL ACTs OPEN! Starts at 8pm every Thursday at Poor Boys!
URL:https://litwire.org/event/the-magic-mic/2029-01-25/
LOCATION:Poor Boys Bar\, 1328 St Bernard Ave\, New Orleans\, L\, 70116\, United States
CATEGORIES:Conversation,Erotica,Flash Fiction,In-Person,Non-Fiction,Open Mic,Poetry,Poetry Slam,Q&A,Slam,Spoken Word,Story Slam,Storytelling,Talk
ATTACH;FMTTYPE=image/jpeg:https://litwire.org/wp-content/uploads/2025/08/music.jpg
ORGANIZER;CN="Flavius":MAILTO:flaviusbentley@gmail.com
END:VEVENT
BEGIN:VEVENT
DTSTART;TZID=America/Chicago:20290201T200000
DTEND;TZID=America/Chicago:20290201T223000
DTSTAMP:20260424T101836
CREATED:20250806T182910Z
LAST-MODIFIED:20250806T182910Z
UID:10004664-1864670400-1864679400@litwire.org
SUMMARY:The Magic Mic
DESCRIPTION:7 minutes of magic on the mic. Show us your magic\, share in the magic of others. Tell your tales\, share your songs\, make music\, melodies and memories with us. ALL ACTs OPEN! Starts at 8pm every Thursday at Poor Boys!
URL:https://litwire.org/event/the-magic-mic/2029-02-01/
LOCATION:Poor Boys Bar\, 1328 St Bernard Ave\, New Orleans\, L\, 70116\, United States
CATEGORIES:Conversation,Erotica,Flash Fiction,In-Person,Non-Fiction,Open Mic,Poetry,Poetry Slam,Q&A,Slam,Spoken Word,Story Slam,Storytelling,Talk
ATTACH;FMTTYPE=image/jpeg:https://litwire.org/wp-content/uploads/2025/08/music.jpg
ORGANIZER;CN="Flavius":MAILTO:flaviusbentley@gmail.com
END:VEVENT
END:VCALENDAR