BEGIN:VCALENDAR
VERSION:2.0
PRODID:-//LitWire - ECPv6.15.20//NONSGML v1.0//EN
CALSCALE:GREGORIAN
METHOD:PUBLISH
X-WR-CALNAME:LitWire
X-ORIGINAL-URL:https://litwire.org
X-WR-CALDESC:Events for LitWire
REFRESH-INTERVAL;VALUE=DURATION:PT1H
X-Robots-Tag:noindex
X-PUBLISHED-TTL:PT1H
BEGIN:VTIMEZONE
TZID:America/Chicago
BEGIN:DAYLIGHT
TZOFFSETFROM:-0600
TZOFFSETTO:-0500
TZNAME:CDT
DTSTART:20280312T080000
END:DAYLIGHT
BEGIN:STANDARD
TZOFFSETFROM:-0500
TZOFFSETTO:-0600
TZNAME:CST
DTSTART:20281105T070000
END:STANDARD
BEGIN:DAYLIGHT
TZOFFSETFROM:-0600
TZOFFSETTO:-0500
TZNAME:CDT
DTSTART:20290311T080000
END:DAYLIGHT
BEGIN:STANDARD
TZOFFSETFROM:-0500
TZOFFSETTO:-0600
TZNAME:CST
DTSTART:20291104T070000
END:STANDARD
BEGIN:DAYLIGHT
TZOFFSETFROM:-0600
TZOFFSETTO:-0500
TZNAME:CDT
DTSTART:20300310T080000
END:DAYLIGHT
BEGIN:STANDARD
TZOFFSETFROM:-0500
TZOFFSETTO:-0600
TZNAME:CST
DTSTART:20301103T070000
END:STANDARD
BEGIN:DAYLIGHT
TZOFFSETFROM:-0600
TZOFFSETTO:-0500
TZNAME:CDT
DTSTART:20310309T080000
END:DAYLIGHT
BEGIN:STANDARD
TZOFFSETFROM:-0500
TZOFFSETTO:-0600
TZNAME:CST
DTSTART:20311102T070000
END:STANDARD
END:VTIMEZONE
BEGIN:VEVENT
DTSTART;TZID=America/Chicago:20290823T200000
DTEND;TZID=America/Chicago:20290823T223000
DTSTAMP:20260425T112826
CREATED:20250806T182910Z
LAST-MODIFIED:20250806T182910Z
UID:10004693-1882209600-1882218600@litwire.org
SUMMARY:The Magic Mic
DESCRIPTION:7 minutes of magic on the mic. Show us your magic\, share in the magic of others. Tell your tales\, share your songs\, make music\, melodies and memories with us. ALL ACTs OPEN! Starts at 8pm every Thursday at Poor Boys!
URL:https://litwire.org/event/the-magic-mic/2029-08-23/
LOCATION:Poor Boys Bar\, 1328 St Bernard Ave\, New Orleans\, L\, 70116\, United States
CATEGORIES:Conversation,Erotica,Flash Fiction,In-Person,Non-Fiction,Open Mic,Poetry,Poetry Slam,Q&A,Slam,Spoken Word,Story Slam,Storytelling,Talk
ATTACH;FMTTYPE=image/jpeg:https://litwire.org/wp-content/uploads/2025/08/music.jpg
ORGANIZER;CN="Flavius":MAILTO:flaviusbentley@gmail.com
END:VEVENT
BEGIN:VEVENT
DTSTART;TZID=America/Chicago:20290830T200000
DTEND;TZID=America/Chicago:20290830T223000
DTSTAMP:20260425T112826
CREATED:20250806T182910Z
LAST-MODIFIED:20250806T182910Z
UID:10004694-1882814400-1882823400@litwire.org
SUMMARY:The Magic Mic
DESCRIPTION:7 minutes of magic on the mic. Show us your magic\, share in the magic of others. Tell your tales\, share your songs\, make music\, melodies and memories with us. ALL ACTs OPEN! Starts at 8pm every Thursday at Poor Boys!
URL:https://litwire.org/event/the-magic-mic/2029-08-30/
LOCATION:Poor Boys Bar\, 1328 St Bernard Ave\, New Orleans\, L\, 70116\, United States
CATEGORIES:Conversation,Erotica,Flash Fiction,In-Person,Non-Fiction,Open Mic,Poetry,Poetry Slam,Q&A,Slam,Spoken Word,Story Slam,Storytelling,Talk
ATTACH;FMTTYPE=image/jpeg:https://litwire.org/wp-content/uploads/2025/08/music.jpg
ORGANIZER;CN="Flavius":MAILTO:flaviusbentley@gmail.com
END:VEVENT
BEGIN:VEVENT
DTSTART;TZID=America/Chicago:20290906T200000
DTEND;TZID=America/Chicago:20290906T223000
DTSTAMP:20260425T112826
CREATED:20250806T182910Z
LAST-MODIFIED:20250806T182910Z
UID:10004695-1883419200-1883428200@litwire.org
SUMMARY:The Magic Mic
DESCRIPTION:7 minutes of magic on the mic. Show us your magic\, share in the magic of others. Tell your tales\, share your songs\, make music\, melodies and memories with us. ALL ACTs OPEN! Starts at 8pm every Thursday at Poor Boys!
URL:https://litwire.org/event/the-magic-mic/2029-09-06/
LOCATION:Poor Boys Bar\, 1328 St Bernard Ave\, New Orleans\, L\, 70116\, United States
CATEGORIES:Conversation,Erotica,Flash Fiction,In-Person,Non-Fiction,Open Mic,Poetry,Poetry Slam,Q&A,Slam,Spoken Word,Story Slam,Storytelling,Talk
ATTACH;FMTTYPE=image/jpeg:https://litwire.org/wp-content/uploads/2025/08/music.jpg
ORGANIZER;CN="Flavius":MAILTO:flaviusbentley@gmail.com
END:VEVENT
BEGIN:VEVENT
DTSTART;TZID=America/Chicago:20290913T200000
DTEND;TZID=America/Chicago:20290913T223000
DTSTAMP:20260425T112826
CREATED:20250806T182910Z
LAST-MODIFIED:20250806T182910Z
UID:10004696-1884024000-1884033000@litwire.org
SUMMARY:The Magic Mic
DESCRIPTION:7 minutes of magic on the mic. Show us your magic\, share in the magic of others. Tell your tales\, share your songs\, make music\, melodies and memories with us. ALL ACTs OPEN! Starts at 8pm every Thursday at Poor Boys!
URL:https://litwire.org/event/the-magic-mic/2029-09-13/
LOCATION:Poor Boys Bar\, 1328 St Bernard Ave\, New Orleans\, L\, 70116\, United States
CATEGORIES:Conversation,Erotica,Flash Fiction,In-Person,Non-Fiction,Open Mic,Poetry,Poetry Slam,Q&A,Slam,Spoken Word,Story Slam,Storytelling,Talk
ATTACH;FMTTYPE=image/jpeg:https://litwire.org/wp-content/uploads/2025/08/music.jpg
ORGANIZER;CN="Flavius":MAILTO:flaviusbentley@gmail.com
END:VEVENT
BEGIN:VEVENT
DTSTART;TZID=America/Chicago:20290920T200000
DTEND;TZID=America/Chicago:20290920T223000
DTSTAMP:20260425T112826
CREATED:20250806T182910Z
LAST-MODIFIED:20250806T182910Z
UID:10004697-1884628800-1884637800@litwire.org
SUMMARY:The Magic Mic
DESCRIPTION:7 minutes of magic on the mic. Show us your magic\, share in the magic of others. Tell your tales\, share your songs\, make music\, melodies and memories with us. ALL ACTs OPEN! Starts at 8pm every Thursday at Poor Boys!
URL:https://litwire.org/event/the-magic-mic/2029-09-20/
LOCATION:Poor Boys Bar\, 1328 St Bernard Ave\, New Orleans\, L\, 70116\, United States
CATEGORIES:Conversation,Erotica,Flash Fiction,In-Person,Non-Fiction,Open Mic,Poetry,Poetry Slam,Q&A,Slam,Spoken Word,Story Slam,Storytelling,Talk
ATTACH;FMTTYPE=image/jpeg:https://litwire.org/wp-content/uploads/2025/08/music.jpg
ORGANIZER;CN="Flavius":MAILTO:flaviusbentley@gmail.com
END:VEVENT
BEGIN:VEVENT
DTSTART;TZID=America/Chicago:20290927T200000
DTEND;TZID=America/Chicago:20290927T223000
DTSTAMP:20260425T112826
CREATED:20250806T182910Z
LAST-MODIFIED:20250806T182910Z
UID:10004698-1885233600-1885242600@litwire.org
SUMMARY:The Magic Mic
DESCRIPTION:7 minutes of magic on the mic. Show us your magic\, share in the magic of others. Tell your tales\, share your songs\, make music\, melodies and memories with us. ALL ACTs OPEN! Starts at 8pm every Thursday at Poor Boys!
URL:https://litwire.org/event/the-magic-mic/2029-09-27/
LOCATION:Poor Boys Bar\, 1328 St Bernard Ave\, New Orleans\, L\, 70116\, United States
CATEGORIES:Conversation,Erotica,Flash Fiction,In-Person,Non-Fiction,Open Mic,Poetry,Poetry Slam,Q&A,Slam,Spoken Word,Story Slam,Storytelling,Talk
ATTACH;FMTTYPE=image/jpeg:https://litwire.org/wp-content/uploads/2025/08/music.jpg
ORGANIZER;CN="Flavius":MAILTO:flaviusbentley@gmail.com
END:VEVENT
BEGIN:VEVENT
DTSTART;TZID=America/Chicago:20291004T200000
DTEND;TZID=America/Chicago:20291004T223000
DTSTAMP:20260425T112826
CREATED:20250806T182910Z
LAST-MODIFIED:20250806T182910Z
UID:10004699-1885838400-1885847400@litwire.org
SUMMARY:The Magic Mic
DESCRIPTION:7 minutes of magic on the mic. Show us your magic\, share in the magic of others. Tell your tales\, share your songs\, make music\, melodies and memories with us. ALL ACTs OPEN! Starts at 8pm every Thursday at Poor Boys!
URL:https://litwire.org/event/the-magic-mic/2029-10-04/
LOCATION:Poor Boys Bar\, 1328 St Bernard Ave\, New Orleans\, L\, 70116\, United States
CATEGORIES:Conversation,Erotica,Flash Fiction,In-Person,Non-Fiction,Open Mic,Poetry,Poetry Slam,Q&A,Slam,Spoken Word,Story Slam,Storytelling,Talk
ATTACH;FMTTYPE=image/jpeg:https://litwire.org/wp-content/uploads/2025/08/music.jpg
ORGANIZER;CN="Flavius":MAILTO:flaviusbentley@gmail.com
END:VEVENT
BEGIN:VEVENT
DTSTART;TZID=America/Chicago:20291011T200000
DTEND;TZID=America/Chicago:20291011T223000
DTSTAMP:20260425T112826
CREATED:20250806T182910Z
LAST-MODIFIED:20250806T182910Z
UID:10004700-1886443200-1886452200@litwire.org
SUMMARY:The Magic Mic
DESCRIPTION:7 minutes of magic on the mic. Show us your magic\, share in the magic of others. Tell your tales\, share your songs\, make music\, melodies and memories with us. ALL ACTs OPEN! Starts at 8pm every Thursday at Poor Boys!
URL:https://litwire.org/event/the-magic-mic/2029-10-11/
LOCATION:Poor Boys Bar\, 1328 St Bernard Ave\, New Orleans\, L\, 70116\, United States
CATEGORIES:Conversation,Erotica,Flash Fiction,In-Person,Non-Fiction,Open Mic,Poetry,Poetry Slam,Q&A,Slam,Spoken Word,Story Slam,Storytelling,Talk
ATTACH;FMTTYPE=image/jpeg:https://litwire.org/wp-content/uploads/2025/08/music.jpg
ORGANIZER;CN="Flavius":MAILTO:flaviusbentley@gmail.com
END:VEVENT
BEGIN:VEVENT
DTSTART;TZID=America/Chicago:20291018T200000
DTEND;TZID=America/Chicago:20291018T223000
DTSTAMP:20260425T112826
CREATED:20250806T182910Z
LAST-MODIFIED:20250806T182910Z
UID:10004701-1887048000-1887057000@litwire.org
SUMMARY:The Magic Mic
DESCRIPTION:7 minutes of magic on the mic. Show us your magic\, share in the magic of others. Tell your tales\, share your songs\, make music\, melodies and memories with us. ALL ACTs OPEN! Starts at 8pm every Thursday at Poor Boys!
URL:https://litwire.org/event/the-magic-mic/2029-10-18/
LOCATION:Poor Boys Bar\, 1328 St Bernard Ave\, New Orleans\, L\, 70116\, United States
CATEGORIES:Conversation,Erotica,Flash Fiction,In-Person,Non-Fiction,Open Mic,Poetry,Poetry Slam,Q&A,Slam,Spoken Word,Story Slam,Storytelling,Talk
ATTACH;FMTTYPE=image/jpeg:https://litwire.org/wp-content/uploads/2025/08/music.jpg
ORGANIZER;CN="Flavius":MAILTO:flaviusbentley@gmail.com
END:VEVENT
BEGIN:VEVENT
DTSTART;TZID=America/Chicago:20291025T200000
DTEND;TZID=America/Chicago:20291025T223000
DTSTAMP:20260425T112826
CREATED:20250806T182910Z
LAST-MODIFIED:20250806T182910Z
UID:10004702-1887652800-1887661800@litwire.org
SUMMARY:The Magic Mic
DESCRIPTION:7 minutes of magic on the mic. Show us your magic\, share in the magic of others. Tell your tales\, share your songs\, make music\, melodies and memories with us. ALL ACTs OPEN! Starts at 8pm every Thursday at Poor Boys!
URL:https://litwire.org/event/the-magic-mic/2029-10-25/
LOCATION:Poor Boys Bar\, 1328 St Bernard Ave\, New Orleans\, L\, 70116\, United States
CATEGORIES:Conversation,Erotica,Flash Fiction,In-Person,Non-Fiction,Open Mic,Poetry,Poetry Slam,Q&A,Slam,Spoken Word,Story Slam,Storytelling,Talk
ATTACH;FMTTYPE=image/jpeg:https://litwire.org/wp-content/uploads/2025/08/music.jpg
ORGANIZER;CN="Flavius":MAILTO:flaviusbentley@gmail.com
END:VEVENT
BEGIN:VEVENT
DTSTART;TZID=America/Chicago:20291101T200000
DTEND;TZID=America/Chicago:20291101T223000
DTSTAMP:20260425T112826
CREATED:20250806T182910Z
LAST-MODIFIED:20250806T182910Z
UID:10004703-1888257600-1888266600@litwire.org
SUMMARY:The Magic Mic
DESCRIPTION:7 minutes of magic on the mic. Show us your magic\, share in the magic of others. Tell your tales\, share your songs\, make music\, melodies and memories with us. ALL ACTs OPEN! Starts at 8pm every Thursday at Poor Boys!
URL:https://litwire.org/event/the-magic-mic/2029-11-01/
LOCATION:Poor Boys Bar\, 1328 St Bernard Ave\, New Orleans\, L\, 70116\, United States
CATEGORIES:Conversation,Erotica,Flash Fiction,In-Person,Non-Fiction,Open Mic,Poetry,Poetry Slam,Q&A,Slam,Spoken Word,Story Slam,Storytelling,Talk
ATTACH;FMTTYPE=image/jpeg:https://litwire.org/wp-content/uploads/2025/08/music.jpg
ORGANIZER;CN="Flavius":MAILTO:flaviusbentley@gmail.com
END:VEVENT
BEGIN:VEVENT
DTSTART;TZID=America/Chicago:20291108T200000
DTEND;TZID=America/Chicago:20291108T223000
DTSTAMP:20260425T112826
CREATED:20250806T182910Z
LAST-MODIFIED:20250806T182910Z
UID:10004704-1888862400-1888871400@litwire.org
SUMMARY:The Magic Mic
DESCRIPTION:7 minutes of magic on the mic. Show us your magic\, share in the magic of others. Tell your tales\, share your songs\, make music\, melodies and memories with us. ALL ACTs OPEN! Starts at 8pm every Thursday at Poor Boys!
URL:https://litwire.org/event/the-magic-mic/2029-11-08/
LOCATION:Poor Boys Bar\, 1328 St Bernard Ave\, New Orleans\, L\, 70116\, United States
CATEGORIES:Conversation,Erotica,Flash Fiction,In-Person,Non-Fiction,Open Mic,Poetry,Poetry Slam,Q&A,Slam,Spoken Word,Story Slam,Storytelling,Talk
ATTACH;FMTTYPE=image/jpeg:https://litwire.org/wp-content/uploads/2025/08/music.jpg
ORGANIZER;CN="Flavius":MAILTO:flaviusbentley@gmail.com
END:VEVENT
BEGIN:VEVENT
DTSTART;TZID=America/Chicago:20291115T200000
DTEND;TZID=America/Chicago:20291115T223000
DTSTAMP:20260425T112826
CREATED:20250806T182910Z
LAST-MODIFIED:20250806T182910Z
UID:10004705-1889467200-1889476200@litwire.org
SUMMARY:The Magic Mic
DESCRIPTION:7 minutes of magic on the mic. Show us your magic\, share in the magic of others. Tell your tales\, share your songs\, make music\, melodies and memories with us. ALL ACTs OPEN! Starts at 8pm every Thursday at Poor Boys!
URL:https://litwire.org/event/the-magic-mic/2029-11-15/
LOCATION:Poor Boys Bar\, 1328 St Bernard Ave\, New Orleans\, L\, 70116\, United States
CATEGORIES:Conversation,Erotica,Flash Fiction,In-Person,Non-Fiction,Open Mic,Poetry,Poetry Slam,Q&A,Slam,Spoken Word,Story Slam,Storytelling,Talk
ATTACH;FMTTYPE=image/jpeg:https://litwire.org/wp-content/uploads/2025/08/music.jpg
ORGANIZER;CN="Flavius":MAILTO:flaviusbentley@gmail.com
END:VEVENT
BEGIN:VEVENT
DTSTART;TZID=America/Chicago:20291122T200000
DTEND;TZID=America/Chicago:20291122T223000
DTSTAMP:20260425T112826
CREATED:20250806T182910Z
LAST-MODIFIED:20250806T182910Z
UID:10004706-1890072000-1890081000@litwire.org
SUMMARY:The Magic Mic
DESCRIPTION:7 minutes of magic on the mic. Show us your magic\, share in the magic of others. Tell your tales\, share your songs\, make music\, melodies and memories with us. ALL ACTs OPEN! Starts at 8pm every Thursday at Poor Boys!
URL:https://litwire.org/event/the-magic-mic/2029-11-22/
LOCATION:Poor Boys Bar\, 1328 St Bernard Ave\, New Orleans\, L\, 70116\, United States
CATEGORIES:Conversation,Erotica,Flash Fiction,In-Person,Non-Fiction,Open Mic,Poetry,Poetry Slam,Q&A,Slam,Spoken Word,Story Slam,Storytelling,Talk
ATTACH;FMTTYPE=image/jpeg:https://litwire.org/wp-content/uploads/2025/08/music.jpg
ORGANIZER;CN="Flavius":MAILTO:flaviusbentley@gmail.com
END:VEVENT
BEGIN:VEVENT
DTSTART;TZID=America/Chicago:20291129T200000
DTEND;TZID=America/Chicago:20291129T223000
DTSTAMP:20260425T112826
CREATED:20250806T182910Z
LAST-MODIFIED:20250806T182910Z
UID:10004707-1890676800-1890685800@litwire.org
SUMMARY:The Magic Mic
DESCRIPTION:7 minutes of magic on the mic. Show us your magic\, share in the magic of others. Tell your tales\, share your songs\, make music\, melodies and memories with us. ALL ACTs OPEN! Starts at 8pm every Thursday at Poor Boys!
URL:https://litwire.org/event/the-magic-mic/2029-11-29/
LOCATION:Poor Boys Bar\, 1328 St Bernard Ave\, New Orleans\, L\, 70116\, United States
CATEGORIES:Conversation,Erotica,Flash Fiction,In-Person,Non-Fiction,Open Mic,Poetry,Poetry Slam,Q&A,Slam,Spoken Word,Story Slam,Storytelling,Talk
ATTACH;FMTTYPE=image/jpeg:https://litwire.org/wp-content/uploads/2025/08/music.jpg
ORGANIZER;CN="Flavius":MAILTO:flaviusbentley@gmail.com
END:VEVENT
BEGIN:VEVENT
DTSTART;TZID=America/Chicago:20291206T200000
DTEND;TZID=America/Chicago:20291206T223000
DTSTAMP:20260425T112826
CREATED:20250806T182910Z
LAST-MODIFIED:20250806T182910Z
UID:10004708-1891281600-1891290600@litwire.org
SUMMARY:The Magic Mic
DESCRIPTION:7 minutes of magic on the mic. Show us your magic\, share in the magic of others. Tell your tales\, share your songs\, make music\, melodies and memories with us. ALL ACTs OPEN! Starts at 8pm every Thursday at Poor Boys!
URL:https://litwire.org/event/the-magic-mic/2029-12-06/
LOCATION:Poor Boys Bar\, 1328 St Bernard Ave\, New Orleans\, L\, 70116\, United States
CATEGORIES:Conversation,Erotica,Flash Fiction,In-Person,Non-Fiction,Open Mic,Poetry,Poetry Slam,Q&A,Slam,Spoken Word,Story Slam,Storytelling,Talk
ATTACH;FMTTYPE=image/jpeg:https://litwire.org/wp-content/uploads/2025/08/music.jpg
ORGANIZER;CN="Flavius":MAILTO:flaviusbentley@gmail.com
END:VEVENT
BEGIN:VEVENT
DTSTART;TZID=America/Chicago:20291213T200000
DTEND;TZID=America/Chicago:20291213T223000
DTSTAMP:20260425T112826
CREATED:20250806T182910Z
LAST-MODIFIED:20250806T182910Z
UID:10004709-1891886400-1891895400@litwire.org
SUMMARY:The Magic Mic
DESCRIPTION:7 minutes of magic on the mic. Show us your magic\, share in the magic of others. Tell your tales\, share your songs\, make music\, melodies and memories with us. ALL ACTs OPEN! Starts at 8pm every Thursday at Poor Boys!
URL:https://litwire.org/event/the-magic-mic/2029-12-13/
LOCATION:Poor Boys Bar\, 1328 St Bernard Ave\, New Orleans\, L\, 70116\, United States
CATEGORIES:Conversation,Erotica,Flash Fiction,In-Person,Non-Fiction,Open Mic,Poetry,Poetry Slam,Q&A,Slam,Spoken Word,Story Slam,Storytelling,Talk
ATTACH;FMTTYPE=image/jpeg:https://litwire.org/wp-content/uploads/2025/08/music.jpg
ORGANIZER;CN="Flavius":MAILTO:flaviusbentley@gmail.com
END:VEVENT
BEGIN:VEVENT
DTSTART;TZID=America/Chicago:20291220T200000
DTEND;TZID=America/Chicago:20291220T223000
DTSTAMP:20260425T112826
CREATED:20250806T182910Z
LAST-MODIFIED:20250806T182910Z
UID:10004710-1892491200-1892500200@litwire.org
SUMMARY:The Magic Mic
DESCRIPTION:7 minutes of magic on the mic. Show us your magic\, share in the magic of others. Tell your tales\, share your songs\, make music\, melodies and memories with us. ALL ACTs OPEN! Starts at 8pm every Thursday at Poor Boys!
URL:https://litwire.org/event/the-magic-mic/2029-12-20/
LOCATION:Poor Boys Bar\, 1328 St Bernard Ave\, New Orleans\, L\, 70116\, United States
CATEGORIES:Conversation,Erotica,Flash Fiction,In-Person,Non-Fiction,Open Mic,Poetry,Poetry Slam,Q&A,Slam,Spoken Word,Story Slam,Storytelling,Talk
ATTACH;FMTTYPE=image/jpeg:https://litwire.org/wp-content/uploads/2025/08/music.jpg
ORGANIZER;CN="Flavius":MAILTO:flaviusbentley@gmail.com
END:VEVENT
BEGIN:VEVENT
DTSTART;TZID=America/Chicago:20291227T200000
DTEND;TZID=America/Chicago:20291227T223000
DTSTAMP:20260425T112826
CREATED:20250806T182910Z
LAST-MODIFIED:20250806T182910Z
UID:10004711-1893096000-1893105000@litwire.org
SUMMARY:The Magic Mic
DESCRIPTION:7 minutes of magic on the mic. Show us your magic\, share in the magic of others. Tell your tales\, share your songs\, make music\, melodies and memories with us. ALL ACTs OPEN! Starts at 8pm every Thursday at Poor Boys!
URL:https://litwire.org/event/the-magic-mic/2029-12-27/
LOCATION:Poor Boys Bar\, 1328 St Bernard Ave\, New Orleans\, L\, 70116\, United States
CATEGORIES:Conversation,Erotica,Flash Fiction,In-Person,Non-Fiction,Open Mic,Poetry,Poetry Slam,Q&A,Slam,Spoken Word,Story Slam,Storytelling,Talk
ATTACH;FMTTYPE=image/jpeg:https://litwire.org/wp-content/uploads/2025/08/music.jpg
ORGANIZER;CN="Flavius":MAILTO:flaviusbentley@gmail.com
END:VEVENT
BEGIN:VEVENT
DTSTART;TZID=America/Chicago:20300103T200000
DTEND;TZID=America/Chicago:20300103T223000
DTSTAMP:20260425T112826
CREATED:20250806T182910Z
LAST-MODIFIED:20250806T182910Z
UID:10004712-1893700800-1893709800@litwire.org
SUMMARY:The Magic Mic
DESCRIPTION:7 minutes of magic on the mic. Show us your magic\, share in the magic of others. Tell your tales\, share your songs\, make music\, melodies and memories with us. ALL ACTs OPEN! Starts at 8pm every Thursday at Poor Boys!
URL:https://litwire.org/event/the-magic-mic/2030-01-03/
LOCATION:Poor Boys Bar\, 1328 St Bernard Ave\, New Orleans\, L\, 70116\, United States
CATEGORIES:Conversation,Erotica,Flash Fiction,In-Person,Non-Fiction,Open Mic,Poetry,Poetry Slam,Q&A,Slam,Spoken Word,Story Slam,Storytelling,Talk
ATTACH;FMTTYPE=image/jpeg:https://litwire.org/wp-content/uploads/2025/08/music.jpg
ORGANIZER;CN="Flavius":MAILTO:flaviusbentley@gmail.com
END:VEVENT
BEGIN:VEVENT
DTSTART;TZID=America/Chicago:20300110T200000
DTEND;TZID=America/Chicago:20300110T223000
DTSTAMP:20260425T112826
CREATED:20250806T182910Z
LAST-MODIFIED:20250806T182910Z
UID:10004713-1894305600-1894314600@litwire.org
SUMMARY:The Magic Mic
DESCRIPTION:7 minutes of magic on the mic. Show us your magic\, share in the magic of others. Tell your tales\, share your songs\, make music\, melodies and memories with us. ALL ACTs OPEN! Starts at 8pm every Thursday at Poor Boys!
URL:https://litwire.org/event/the-magic-mic/2030-01-10/
LOCATION:Poor Boys Bar\, 1328 St Bernard Ave\, New Orleans\, L\, 70116\, United States
CATEGORIES:Conversation,Erotica,Flash Fiction,In-Person,Non-Fiction,Open Mic,Poetry,Poetry Slam,Q&A,Slam,Spoken Word,Story Slam,Storytelling,Talk
ATTACH;FMTTYPE=image/jpeg:https://litwire.org/wp-content/uploads/2025/08/music.jpg
ORGANIZER;CN="Flavius":MAILTO:flaviusbentley@gmail.com
END:VEVENT
BEGIN:VEVENT
DTSTART;TZID=America/Chicago:20300117T200000
DTEND;TZID=America/Chicago:20300117T223000
DTSTAMP:20260425T112826
CREATED:20250806T182910Z
LAST-MODIFIED:20250806T182910Z
UID:10004714-1894910400-1894919400@litwire.org
SUMMARY:The Magic Mic
DESCRIPTION:7 minutes of magic on the mic. Show us your magic\, share in the magic of others. Tell your tales\, share your songs\, make music\, melodies and memories with us. ALL ACTs OPEN! Starts at 8pm every Thursday at Poor Boys!
URL:https://litwire.org/event/the-magic-mic/2030-01-17/
LOCATION:Poor Boys Bar\, 1328 St Bernard Ave\, New Orleans\, L\, 70116\, United States
CATEGORIES:Conversation,Erotica,Flash Fiction,In-Person,Non-Fiction,Open Mic,Poetry,Poetry Slam,Q&A,Slam,Spoken Word,Story Slam,Storytelling,Talk
ATTACH;FMTTYPE=image/jpeg:https://litwire.org/wp-content/uploads/2025/08/music.jpg
ORGANIZER;CN="Flavius":MAILTO:flaviusbentley@gmail.com
END:VEVENT
BEGIN:VEVENT
DTSTART;TZID=America/Chicago:20300124T200000
DTEND;TZID=America/Chicago:20300124T223000
DTSTAMP:20260425T112826
CREATED:20250806T182910Z
LAST-MODIFIED:20250806T182910Z
UID:10004715-1895515200-1895524200@litwire.org
SUMMARY:The Magic Mic
DESCRIPTION:7 minutes of magic on the mic. Show us your magic\, share in the magic of others. Tell your tales\, share your songs\, make music\, melodies and memories with us. ALL ACTs OPEN! Starts at 8pm every Thursday at Poor Boys!
URL:https://litwire.org/event/the-magic-mic/2030-01-24/
LOCATION:Poor Boys Bar\, 1328 St Bernard Ave\, New Orleans\, L\, 70116\, United States
CATEGORIES:Conversation,Erotica,Flash Fiction,In-Person,Non-Fiction,Open Mic,Poetry,Poetry Slam,Q&A,Slam,Spoken Word,Story Slam,Storytelling,Talk
ATTACH;FMTTYPE=image/jpeg:https://litwire.org/wp-content/uploads/2025/08/music.jpg
ORGANIZER;CN="Flavius":MAILTO:flaviusbentley@gmail.com
END:VEVENT
BEGIN:VEVENT
DTSTART;TZID=America/Chicago:20300131T200000
DTEND;TZID=America/Chicago:20300131T223000
DTSTAMP:20260425T112826
CREATED:20250806T182910Z
LAST-MODIFIED:20250806T182910Z
UID:10004716-1896120000-1896129000@litwire.org
SUMMARY:The Magic Mic
DESCRIPTION:7 minutes of magic on the mic. Show us your magic\, share in the magic of others. Tell your tales\, share your songs\, make music\, melodies and memories with us. ALL ACTs OPEN! Starts at 8pm every Thursday at Poor Boys!
URL:https://litwire.org/event/the-magic-mic/2030-01-31/
LOCATION:Poor Boys Bar\, 1328 St Bernard Ave\, New Orleans\, L\, 70116\, United States
CATEGORIES:Conversation,Erotica,Flash Fiction,In-Person,Non-Fiction,Open Mic,Poetry,Poetry Slam,Q&A,Slam,Spoken Word,Story Slam,Storytelling,Talk
ATTACH;FMTTYPE=image/jpeg:https://litwire.org/wp-content/uploads/2025/08/music.jpg
ORGANIZER;CN="Flavius":MAILTO:flaviusbentley@gmail.com
END:VEVENT
BEGIN:VEVENT
DTSTART;TZID=America/Chicago:20300207T200000
DTEND;TZID=America/Chicago:20300207T223000
DTSTAMP:20260425T112826
CREATED:20250806T182910Z
LAST-MODIFIED:20250806T182910Z
UID:10004717-1896724800-1896733800@litwire.org
SUMMARY:The Magic Mic
DESCRIPTION:7 minutes of magic on the mic. Show us your magic\, share in the magic of others. Tell your tales\, share your songs\, make music\, melodies and memories with us. ALL ACTs OPEN! Starts at 8pm every Thursday at Poor Boys!
URL:https://litwire.org/event/the-magic-mic/2030-02-07/
LOCATION:Poor Boys Bar\, 1328 St Bernard Ave\, New Orleans\, L\, 70116\, United States
CATEGORIES:Conversation,Erotica,Flash Fiction,In-Person,Non-Fiction,Open Mic,Poetry,Poetry Slam,Q&A,Slam,Spoken Word,Story Slam,Storytelling,Talk
ATTACH;FMTTYPE=image/jpeg:https://litwire.org/wp-content/uploads/2025/08/music.jpg
ORGANIZER;CN="Flavius":MAILTO:flaviusbentley@gmail.com
END:VEVENT
BEGIN:VEVENT
DTSTART;TZID=America/Chicago:20300214T200000
DTEND;TZID=America/Chicago:20300214T223000
DTSTAMP:20260425T112826
CREATED:20250806T182910Z
LAST-MODIFIED:20250806T182910Z
UID:10004718-1897329600-1897338600@litwire.org
SUMMARY:The Magic Mic
DESCRIPTION:7 minutes of magic on the mic. Show us your magic\, share in the magic of others. Tell your tales\, share your songs\, make music\, melodies and memories with us. ALL ACTs OPEN! Starts at 8pm every Thursday at Poor Boys!
URL:https://litwire.org/event/the-magic-mic/2030-02-14/
LOCATION:Poor Boys Bar\, 1328 St Bernard Ave\, New Orleans\, L\, 70116\, United States
CATEGORIES:Conversation,Erotica,Flash Fiction,In-Person,Non-Fiction,Open Mic,Poetry,Poetry Slam,Q&A,Slam,Spoken Word,Story Slam,Storytelling,Talk
ATTACH;FMTTYPE=image/jpeg:https://litwire.org/wp-content/uploads/2025/08/music.jpg
ORGANIZER;CN="Flavius":MAILTO:flaviusbentley@gmail.com
END:VEVENT
BEGIN:VEVENT
DTSTART;TZID=America/Chicago:20300221T200000
DTEND;TZID=America/Chicago:20300221T223000
DTSTAMP:20260425T112826
CREATED:20250806T182910Z
LAST-MODIFIED:20250806T182910Z
UID:10004719-1897934400-1897943400@litwire.org
SUMMARY:The Magic Mic
DESCRIPTION:7 minutes of magic on the mic. Show us your magic\, share in the magic of others. Tell your tales\, share your songs\, make music\, melodies and memories with us. ALL ACTs OPEN! Starts at 8pm every Thursday at Poor Boys!
URL:https://litwire.org/event/the-magic-mic/2030-02-21/
LOCATION:Poor Boys Bar\, 1328 St Bernard Ave\, New Orleans\, L\, 70116\, United States
CATEGORIES:Conversation,Erotica,Flash Fiction,In-Person,Non-Fiction,Open Mic,Poetry,Poetry Slam,Q&A,Slam,Spoken Word,Story Slam,Storytelling,Talk
ATTACH;FMTTYPE=image/jpeg:https://litwire.org/wp-content/uploads/2025/08/music.jpg
ORGANIZER;CN="Flavius":MAILTO:flaviusbentley@gmail.com
END:VEVENT
BEGIN:VEVENT
DTSTART;TZID=America/Chicago:20300228T200000
DTEND;TZID=America/Chicago:20300228T223000
DTSTAMP:20260425T112826
CREATED:20250806T182910Z
LAST-MODIFIED:20250806T182910Z
UID:10004720-1898539200-1898548200@litwire.org
SUMMARY:The Magic Mic
DESCRIPTION:7 minutes of magic on the mic. Show us your magic\, share in the magic of others. Tell your tales\, share your songs\, make music\, melodies and memories with us. ALL ACTs OPEN! Starts at 8pm every Thursday at Poor Boys!
URL:https://litwire.org/event/the-magic-mic/2030-02-28/
LOCATION:Poor Boys Bar\, 1328 St Bernard Ave\, New Orleans\, L\, 70116\, United States
CATEGORIES:Conversation,Erotica,Flash Fiction,In-Person,Non-Fiction,Open Mic,Poetry,Poetry Slam,Q&A,Slam,Spoken Word,Story Slam,Storytelling,Talk
ATTACH;FMTTYPE=image/jpeg:https://litwire.org/wp-content/uploads/2025/08/music.jpg
ORGANIZER;CN="Flavius":MAILTO:flaviusbentley@gmail.com
END:VEVENT
BEGIN:VEVENT
DTSTART;TZID=America/Chicago:20300307T200000
DTEND;TZID=America/Chicago:20300307T223000
DTSTAMP:20260425T112826
CREATED:20250806T182910Z
LAST-MODIFIED:20250806T182910Z
UID:10004721-1899144000-1899153000@litwire.org
SUMMARY:The Magic Mic
DESCRIPTION:7 minutes of magic on the mic. Show us your magic\, share in the magic of others. Tell your tales\, share your songs\, make music\, melodies and memories with us. ALL ACTs OPEN! Starts at 8pm every Thursday at Poor Boys!
URL:https://litwire.org/event/the-magic-mic/2030-03-07/
LOCATION:Poor Boys Bar\, 1328 St Bernard Ave\, New Orleans\, L\, 70116\, United States
CATEGORIES:Conversation,Erotica,Flash Fiction,In-Person,Non-Fiction,Open Mic,Poetry,Poetry Slam,Q&A,Slam,Spoken Word,Story Slam,Storytelling,Talk
ATTACH;FMTTYPE=image/jpeg:https://litwire.org/wp-content/uploads/2025/08/music.jpg
ORGANIZER;CN="Flavius":MAILTO:flaviusbentley@gmail.com
END:VEVENT
BEGIN:VEVENT
DTSTART;TZID=America/Chicago:20300314T200000
DTEND;TZID=America/Chicago:20300314T223000
DTSTAMP:20260425T112826
CREATED:20250806T182910Z
LAST-MODIFIED:20250806T182910Z
UID:10004722-1899748800-1899757800@litwire.org
SUMMARY:The Magic Mic
DESCRIPTION:7 minutes of magic on the mic. Show us your magic\, share in the magic of others. Tell your tales\, share your songs\, make music\, melodies and memories with us. ALL ACTs OPEN! Starts at 8pm every Thursday at Poor Boys!
URL:https://litwire.org/event/the-magic-mic/2030-03-14/
LOCATION:Poor Boys Bar\, 1328 St Bernard Ave\, New Orleans\, L\, 70116\, United States
CATEGORIES:Conversation,Erotica,Flash Fiction,In-Person,Non-Fiction,Open Mic,Poetry,Poetry Slam,Q&A,Slam,Spoken Word,Story Slam,Storytelling,Talk
ATTACH;FMTTYPE=image/jpeg:https://litwire.org/wp-content/uploads/2025/08/music.jpg
ORGANIZER;CN="Flavius":MAILTO:flaviusbentley@gmail.com
END:VEVENT
END:VCALENDAR