BEGIN:VCALENDAR
VERSION:2.0
PRODID:-//LitWire - ECPv6.15.20//NONSGML v1.0//EN
CALSCALE:GREGORIAN
METHOD:PUBLISH
X-WR-CALNAME:LitWire
X-ORIGINAL-URL:https://litwire.org
X-WR-CALDESC:Events for LitWire
REFRESH-INTERVAL;VALUE=DURATION:PT1H
X-Robots-Tag:noindex
X-PUBLISHED-TTL:PT1H
BEGIN:VTIMEZONE
TZID:America/Chicago
BEGIN:DAYLIGHT
TZOFFSETFROM:-0600
TZOFFSETTO:-0500
TZNAME:CDT
DTSTART:20290311T080000
END:DAYLIGHT
BEGIN:STANDARD
TZOFFSETFROM:-0500
TZOFFSETTO:-0600
TZNAME:CST
DTSTART:20291104T070000
END:STANDARD
BEGIN:DAYLIGHT
TZOFFSETFROM:-0600
TZOFFSETTO:-0500
TZNAME:CDT
DTSTART:20300310T080000
END:DAYLIGHT
BEGIN:STANDARD
TZOFFSETFROM:-0500
TZOFFSETTO:-0600
TZNAME:CST
DTSTART:20301103T070000
END:STANDARD
BEGIN:DAYLIGHT
TZOFFSETFROM:-0600
TZOFFSETTO:-0500
TZNAME:CDT
DTSTART:20310309T080000
END:DAYLIGHT
BEGIN:STANDARD
TZOFFSETFROM:-0500
TZOFFSETTO:-0600
TZNAME:CST
DTSTART:20311102T070000
END:STANDARD
BEGIN:DAYLIGHT
TZOFFSETFROM:-0600
TZOFFSETTO:-0500
TZNAME:CDT
DTSTART:20320314T080000
END:DAYLIGHT
BEGIN:STANDARD
TZOFFSETFROM:-0500
TZOFFSETTO:-0600
TZNAME:CST
DTSTART:20321107T070000
END:STANDARD
END:VTIMEZONE
BEGIN:VEVENT
DTSTART;TZID=America/Chicago:20301218T210000
DTEND;TZID=America/Chicago:20301218T233000
DTSTAMP:20260424T103540
CREATED:20230802T021019Z
LAST-MODIFIED:20240309T172257Z
UID:10004887-1923858000-1923867000@litwire.org
SUMMARY:Poets on Poets
DESCRIPTION:Café Istanbul presents Poets on Poets every Wednesday 10:00 pm – 2:00 am.\n\nDoors open for 9:00 pm.\n\n$5 drinks all night long.
URL:https://litwire.org/event/poets-on-poets/2030-12-18/
LOCATION:Cafe Istanbul\, 2372 St Claude Ave\, New Orleans\, LA\, 70117\, United States
CATEGORIES:Open Mic,Poetry
ATTACH;FMTTYPE=image/jpeg:https://litwire.org/wp-content/uploads/2023/08/poets-on-poets.jpg
END:VEVENT
BEGIN:VEVENT
DTSTART;TZID=America/Chicago:20301219T200000
DTEND;TZID=America/Chicago:20301219T223000
DTSTAMP:20260424T103540
CREATED:20250806T182910Z
LAST-MODIFIED:20250806T182910Z
UID:10004888-1923940800-1923949800@litwire.org
SUMMARY:The Magic Mic
DESCRIPTION:7 minutes of magic on the mic. Show us your magic\, share in the magic of others. Tell your tales\, share your songs\, make music\, melodies and memories with us. ALL ACTs OPEN! Starts at 8pm every Thursday at Poor Boys!
URL:https://litwire.org/event/the-magic-mic/2030-12-19/
LOCATION:Poor Boys Bar\, 1328 St Bernard Ave\, New Orleans\, L\, 70116\, United States
CATEGORIES:Conversation,Erotica,Flash Fiction,In-Person,Non-Fiction,Open Mic,Poetry,Poetry Slam,Q&A,Slam,Spoken Word,Story Slam,Storytelling,Talk
ATTACH;FMTTYPE=image/jpeg:https://litwire.org/wp-content/uploads/2025/08/music.jpg
ORGANIZER;CN="Flavius":MAILTO:flaviusbentley@gmail.com
END:VEVENT
BEGIN:VEVENT
DTSTART;TZID=America/Chicago:20301220T183000
DTEND;TZID=America/Chicago:20301220T210000
DTSTAMP:20260424T103540
CREATED:20240826T214326Z
LAST-MODIFIED:20240826T214326Z
UID:10004889-1924021800-1924030800@litwire.org
SUMMARY:Poetry and Espresso
DESCRIPTION:Every THIRD Friday of each month\, Roots Plants + Coffee\, 124 Erlanger Avenue\, Slidell\, presents Poetry & Espresso. Dennis Formento hosts. 6:30 sign in\, 7:00 begin. Poets & musicians welcome. Free!
URL:https://litwire.org/event/poetry-and-espresso-2/2030-12-20/
LOCATION:LA
CATEGORIES:Poetry
ATTACH;FMTTYPE=image/jpeg:https://litwire.org/wp-content/uploads/2024/08/IMG_0870-ROOTS-sign.jpeg
END:VEVENT
BEGIN:VEVENT
DTSTART;TZID=America/Chicago:20301225T210000
DTEND;TZID=America/Chicago:20301225T230000
DTSTAMP:20260424T103540
CREATED:20230802T014515Z
LAST-MODIFIED:20230802T014515Z
UID:10004898-1924462800-1924470000@litwire.org
SUMMARY:Esoterotica: Original Erotic Readings by Local Writers
DESCRIPTION:Every Other Wednesday at The AllWays Lounge & Cabaret 2240 St. Claude Ave. NOLA\n21 & Up\, $5 at the Door\, ID’s & Proof of Vaxx Required \nWe Strive to Create an Inclusive & Safe Space for Our Audience & Provocateurs.\nNo Matter Who You Are\, What You Desire\, or Whom You Love\, All Are Welcome \nEsoterotica is a revolving cast of local\, New Orleans area\, provocateurs reading and performing original erotica live\, on stage. Including poetry\, flash fiction\, spoken word\, sexy confessions\, and more\, each show is different\, often showcasing line-ups of new writing\, never heard before. \nLife’s pleasures are a sensory experience\, let us delight your imagination and provoke your desires in a variety of styles for your variety of persuasions.  Follow Us on Facebook and Instagram @Esoterotica NOLA. \nDo You have Something to Share? Email Us to Submit Your Original Erotica or Get More Information & Guidelines at info@esoterotica.com
URL:https://litwire.org/event/esoterotica-original-erotic-readings-by-local-writers/2030-12-25/
LOCATION:The AllWays Lounge\, 2240 St. Claude Ave.\, New Orleans\, LA\, 70117\, United States
CATEGORIES:Erotica,Flash Fiction,Open Mic,Poetry,Spoken Word
ATTACH;FMTTYPE=image/jpeg:https://litwire.org/wp-content/uploads/2023/08/Esoterotica_AllWays-Lounge-Website-e1690940349571.jpg
END:VEVENT
BEGIN:VEVENT
DTSTART;TZID=America/Chicago:20301225T210000
DTEND;TZID=America/Chicago:20301225T233000
DTSTAMP:20260424T103540
CREATED:20230802T021019Z
LAST-MODIFIED:20240309T172257Z
UID:10004892-1924462800-1924471800@litwire.org
SUMMARY:Poets on Poets
DESCRIPTION:Café Istanbul presents Poets on Poets every Wednesday 10:00 pm – 2:00 am.\n\nDoors open for 9:00 pm.\n\n$5 drinks all night long.
URL:https://litwire.org/event/poets-on-poets/2030-12-25/
LOCATION:Cafe Istanbul\, 2372 St Claude Ave\, New Orleans\, LA\, 70117\, United States
CATEGORIES:Open Mic,Poetry
ATTACH;FMTTYPE=image/jpeg:https://litwire.org/wp-content/uploads/2023/08/poets-on-poets.jpg
END:VEVENT
BEGIN:VEVENT
DTSTART;TZID=America/Chicago:20301226T200000
DTEND;TZID=America/Chicago:20301226T223000
DTSTAMP:20260424T103540
CREATED:20250806T182910Z
LAST-MODIFIED:20250806T182910Z
UID:10004893-1924545600-1924554600@litwire.org
SUMMARY:The Magic Mic
DESCRIPTION:7 minutes of magic on the mic. Show us your magic\, share in the magic of others. Tell your tales\, share your songs\, make music\, melodies and memories with us. ALL ACTs OPEN! Starts at 8pm every Thursday at Poor Boys!
URL:https://litwire.org/event/the-magic-mic/2030-12-26/
LOCATION:Poor Boys Bar\, 1328 St Bernard Ave\, New Orleans\, L\, 70116\, United States
CATEGORIES:Conversation,Erotica,Flash Fiction,In-Person,Non-Fiction,Open Mic,Poetry,Poetry Slam,Q&A,Slam,Spoken Word,Story Slam,Storytelling,Talk
ATTACH;FMTTYPE=image/jpeg:https://litwire.org/wp-content/uploads/2025/08/music.jpg
ORGANIZER;CN="Flavius":MAILTO:flaviusbentley@gmail.com
END:VEVENT
BEGIN:VEVENT
DTSTART;TZID=America/Chicago:20301227T190000
DTEND;TZID=America/Chicago:20301227T210000
DTSTAMP:20260424T103540
CREATED:20230804T203009Z
LAST-MODIFIED:20230804T203009Z
UID:10004894-1924628400-1924635600@litwire.org
SUMMARY:Poetry and Espresso
DESCRIPTION:Poetry open mic with featured musicians\, on the last Friday of every month. Solo musicians are also invited to play the open mic. Free admission. Please arrive early if you want to perform. \nFive minute limit for poets. Seven to ten minutes for music open-mic singers and musicians. \nPlease arrive early to sign in!
URL:https://litwire.org/event/poetry-and-espresso/2030-12-27/
LOCATION:Roots Plants and Coffee\, 124 B Erlanger Avenue\, Slidell\, LA\, 70458\, United States
CATEGORIES:Open Mic,Poetry
ATTACH;FMTTYPE=image/jpeg:https://litwire.org/wp-content/uploads/2023/08/IMG_8029-scaled.jpeg
ORGANIZER;CN="Dennis Formento":MAILTO:mesechabe@hotmail.com
END:VEVENT
BEGIN:VEVENT
DTSTART;TZID=America/Chicago:20310101T210000
DTEND;TZID=America/Chicago:20310101T233000
DTSTAMP:20260424T103540
CREATED:20230802T021019Z
LAST-MODIFIED:20240309T172257Z
UID:10004899-1925067600-1925076600@litwire.org
SUMMARY:Poets on Poets
DESCRIPTION:Café Istanbul presents Poets on Poets every Wednesday 10:00 pm – 2:00 am.\n\nDoors open for 9:00 pm.\n\n$5 drinks all night long.
URL:https://litwire.org/event/poets-on-poets/2031-01-01/
LOCATION:Cafe Istanbul\, 2372 St Claude Ave\, New Orleans\, LA\, 70117\, United States
CATEGORIES:Open Mic,Poetry
ATTACH;FMTTYPE=image/jpeg:https://litwire.org/wp-content/uploads/2023/08/poets-on-poets.jpg
END:VEVENT
BEGIN:VEVENT
DTSTART;TZID=America/Chicago:20310102T200000
DTEND;TZID=America/Chicago:20310102T223000
DTSTAMP:20260424T103540
CREATED:20250806T182910Z
LAST-MODIFIED:20250806T182910Z
UID:10004902-1925150400-1925159400@litwire.org
SUMMARY:The Magic Mic
DESCRIPTION:7 minutes of magic on the mic. Show us your magic\, share in the magic of others. Tell your tales\, share your songs\, make music\, melodies and memories with us. ALL ACTs OPEN! Starts at 8pm every Thursday at Poor Boys!
URL:https://litwire.org/event/the-magic-mic/2031-01-02/
LOCATION:Poor Boys Bar\, 1328 St Bernard Ave\, New Orleans\, L\, 70116\, United States
CATEGORIES:Conversation,Erotica,Flash Fiction,In-Person,Non-Fiction,Open Mic,Poetry,Poetry Slam,Q&A,Slam,Spoken Word,Story Slam,Storytelling,Talk
ATTACH;FMTTYPE=image/jpeg:https://litwire.org/wp-content/uploads/2025/08/music.jpg
ORGANIZER;CN="Flavius":MAILTO:flaviusbentley@gmail.com
END:VEVENT
BEGIN:VEVENT
DTSTART;TZID=America/Chicago:20310108T210000
DTEND;TZID=America/Chicago:20310108T230000
DTSTAMP:20260424T103540
CREATED:20230802T014515Z
LAST-MODIFIED:20230802T014515Z
UID:10004913-1925672400-1925679600@litwire.org
SUMMARY:Esoterotica: Original Erotic Readings by Local Writers
DESCRIPTION:Every Other Wednesday at The AllWays Lounge & Cabaret 2240 St. Claude Ave. NOLA\n21 & Up\, $5 at the Door\, ID’s & Proof of Vaxx Required \nWe Strive to Create an Inclusive & Safe Space for Our Audience & Provocateurs.\nNo Matter Who You Are\, What You Desire\, or Whom You Love\, All Are Welcome \nEsoterotica is a revolving cast of local\, New Orleans area\, provocateurs reading and performing original erotica live\, on stage. Including poetry\, flash fiction\, spoken word\, sexy confessions\, and more\, each show is different\, often showcasing line-ups of new writing\, never heard before. \nLife’s pleasures are a sensory experience\, let us delight your imagination and provoke your desires in a variety of styles for your variety of persuasions.  Follow Us on Facebook and Instagram @Esoterotica NOLA. \nDo You have Something to Share? Email Us to Submit Your Original Erotica or Get More Information & Guidelines at info@esoterotica.com
URL:https://litwire.org/event/esoterotica-original-erotic-readings-by-local-writers/2031-01-08/
LOCATION:The AllWays Lounge\, 2240 St. Claude Ave.\, New Orleans\, LA\, 70117\, United States
CATEGORIES:Erotica,Flash Fiction,Open Mic,Poetry,Spoken Word
ATTACH;FMTTYPE=image/jpeg:https://litwire.org/wp-content/uploads/2023/08/Esoterotica_AllWays-Lounge-Website-e1690940349571.jpg
END:VEVENT
BEGIN:VEVENT
DTSTART;TZID=America/Chicago:20310108T210000
DTEND;TZID=America/Chicago:20310108T233000
DTSTAMP:20260424T103540
CREATED:20230802T021019Z
LAST-MODIFIED:20240309T172257Z
UID:10004908-1925672400-1925681400@litwire.org
SUMMARY:Poets on Poets
DESCRIPTION:Café Istanbul presents Poets on Poets every Wednesday 10:00 pm – 2:00 am.\n\nDoors open for 9:00 pm.\n\n$5 drinks all night long.
URL:https://litwire.org/event/poets-on-poets/2031-01-08/
LOCATION:Cafe Istanbul\, 2372 St Claude Ave\, New Orleans\, LA\, 70117\, United States
CATEGORIES:Open Mic,Poetry
ATTACH;FMTTYPE=image/jpeg:https://litwire.org/wp-content/uploads/2023/08/poets-on-poets.jpg
END:VEVENT
BEGIN:VEVENT
DTSTART;TZID=America/Chicago:20310109T200000
DTEND;TZID=America/Chicago:20310109T223000
DTSTAMP:20260424T103540
CREATED:20250806T182910Z
LAST-MODIFIED:20250806T182910Z
UID:10004909-1925755200-1925764200@litwire.org
SUMMARY:The Magic Mic
DESCRIPTION:7 minutes of magic on the mic. Show us your magic\, share in the magic of others. Tell your tales\, share your songs\, make music\, melodies and memories with us. ALL ACTs OPEN! Starts at 8pm every Thursday at Poor Boys!
URL:https://litwire.org/event/the-magic-mic/2031-01-09/
LOCATION:Poor Boys Bar\, 1328 St Bernard Ave\, New Orleans\, L\, 70116\, United States
CATEGORIES:Conversation,Erotica,Flash Fiction,In-Person,Non-Fiction,Open Mic,Poetry,Poetry Slam,Q&A,Slam,Spoken Word,Story Slam,Storytelling,Talk
ATTACH;FMTTYPE=image/jpeg:https://litwire.org/wp-content/uploads/2025/08/music.jpg
ORGANIZER;CN="Flavius":MAILTO:flaviusbentley@gmail.com
END:VEVENT
BEGIN:VEVENT
DTSTART;TZID=America/Chicago:20310115T210000
DTEND;TZID=America/Chicago:20310115T233000
DTSTAMP:20260424T103540
CREATED:20230802T021019Z
LAST-MODIFIED:20240309T172257Z
UID:10004914-1926277200-1926286200@litwire.org
SUMMARY:Poets on Poets
DESCRIPTION:Café Istanbul presents Poets on Poets every Wednesday 10:00 pm – 2:00 am.\n\nDoors open for 9:00 pm.\n\n$5 drinks all night long.
URL:https://litwire.org/event/poets-on-poets/2031-01-15/
LOCATION:Cafe Istanbul\, 2372 St Claude Ave\, New Orleans\, LA\, 70117\, United States
CATEGORIES:Open Mic,Poetry
ATTACH;FMTTYPE=image/jpeg:https://litwire.org/wp-content/uploads/2023/08/poets-on-poets.jpg
END:VEVENT
BEGIN:VEVENT
DTSTART;TZID=America/Chicago:20310116T200000
DTEND;TZID=America/Chicago:20310116T223000
DTSTAMP:20260424T103540
CREATED:20250806T182910Z
LAST-MODIFIED:20250806T182910Z
UID:10004915-1926360000-1926369000@litwire.org
SUMMARY:The Magic Mic
DESCRIPTION:7 minutes of magic on the mic. Show us your magic\, share in the magic of others. Tell your tales\, share your songs\, make music\, melodies and memories with us. ALL ACTs OPEN! Starts at 8pm every Thursday at Poor Boys!
URL:https://litwire.org/event/the-magic-mic/2031-01-16/
LOCATION:Poor Boys Bar\, 1328 St Bernard Ave\, New Orleans\, L\, 70116\, United States
CATEGORIES:Conversation,Erotica,Flash Fiction,In-Person,Non-Fiction,Open Mic,Poetry,Poetry Slam,Q&A,Slam,Spoken Word,Story Slam,Storytelling,Talk
ATTACH;FMTTYPE=image/jpeg:https://litwire.org/wp-content/uploads/2025/08/music.jpg
ORGANIZER;CN="Flavius":MAILTO:flaviusbentley@gmail.com
END:VEVENT
BEGIN:VEVENT
DTSTART;TZID=America/Chicago:20310117T183000
DTEND;TZID=America/Chicago:20310117T210000
DTSTAMP:20260424T103540
CREATED:20240826T214326Z
LAST-MODIFIED:20240826T214326Z
UID:10004916-1926441000-1926450000@litwire.org
SUMMARY:Poetry and Espresso
DESCRIPTION:Every THIRD Friday of each month\, Roots Plants + Coffee\, 124 Erlanger Avenue\, Slidell\, presents Poetry & Espresso. Dennis Formento hosts. 6:30 sign in\, 7:00 begin. Poets & musicians welcome. Free!
URL:https://litwire.org/event/poetry-and-espresso-2/2031-01-17/
LOCATION:LA
CATEGORIES:Poetry
ATTACH;FMTTYPE=image/jpeg:https://litwire.org/wp-content/uploads/2024/08/IMG_0870-ROOTS-sign.jpeg
END:VEVENT
BEGIN:VEVENT
DTSTART;TZID=America/Chicago:20310122T210000
DTEND;TZID=America/Chicago:20310122T230000
DTSTAMP:20260424T103540
CREATED:20230802T014515Z
LAST-MODIFIED:20230802T014515Z
UID:10004989-1926882000-1926889200@litwire.org
SUMMARY:Esoterotica: Original Erotic Readings by Local Writers
DESCRIPTION:Every Other Wednesday at The AllWays Lounge & Cabaret 2240 St. Claude Ave. NOLA\n21 & Up\, $5 at the Door\, ID’s & Proof of Vaxx Required \nWe Strive to Create an Inclusive & Safe Space for Our Audience & Provocateurs.\nNo Matter Who You Are\, What You Desire\, or Whom You Love\, All Are Welcome \nEsoterotica is a revolving cast of local\, New Orleans area\, provocateurs reading and performing original erotica live\, on stage. Including poetry\, flash fiction\, spoken word\, sexy confessions\, and more\, each show is different\, often showcasing line-ups of new writing\, never heard before. \nLife’s pleasures are a sensory experience\, let us delight your imagination and provoke your desires in a variety of styles for your variety of persuasions.  Follow Us on Facebook and Instagram @Esoterotica NOLA. \nDo You have Something to Share? Email Us to Submit Your Original Erotica or Get More Information & Guidelines at info@esoterotica.com
URL:https://litwire.org/event/esoterotica-original-erotic-readings-by-local-writers/2031-01-22/
LOCATION:The AllWays Lounge\, 2240 St. Claude Ave.\, New Orleans\, LA\, 70117\, United States
CATEGORIES:Erotica,Flash Fiction,Open Mic,Poetry,Spoken Word
ATTACH;FMTTYPE=image/jpeg:https://litwire.org/wp-content/uploads/2023/08/Esoterotica_AllWays-Lounge-Website-e1690940349571.jpg
END:VEVENT
BEGIN:VEVENT
DTSTART;TZID=America/Chicago:20310122T210000
DTEND;TZID=America/Chicago:20310122T233000
DTSTAMP:20260424T103540
CREATED:20230802T021019Z
LAST-MODIFIED:20240309T172257Z
UID:10004980-1926882000-1926891000@litwire.org
SUMMARY:Poets on Poets
DESCRIPTION:Café Istanbul presents Poets on Poets every Wednesday 10:00 pm – 2:00 am.\n\nDoors open for 9:00 pm.\n\n$5 drinks all night long.
URL:https://litwire.org/event/poets-on-poets/2031-01-22/
LOCATION:Cafe Istanbul\, 2372 St Claude Ave\, New Orleans\, LA\, 70117\, United States
CATEGORIES:Open Mic,Poetry
ATTACH;FMTTYPE=image/jpeg:https://litwire.org/wp-content/uploads/2023/08/poets-on-poets.jpg
END:VEVENT
BEGIN:VEVENT
DTSTART;TZID=America/Chicago:20310123T200000
DTEND;TZID=America/Chicago:20310123T223000
DTSTAMP:20260424T103540
CREATED:20250806T182910Z
LAST-MODIFIED:20250806T182910Z
UID:10004986-1926964800-1926973800@litwire.org
SUMMARY:The Magic Mic
DESCRIPTION:7 minutes of magic on the mic. Show us your magic\, share in the magic of others. Tell your tales\, share your songs\, make music\, melodies and memories with us. ALL ACTs OPEN! Starts at 8pm every Thursday at Poor Boys!
URL:https://litwire.org/event/the-magic-mic/2031-01-23/
LOCATION:Poor Boys Bar\, 1328 St Bernard Ave\, New Orleans\, L\, 70116\, United States
CATEGORIES:Conversation,Erotica,Flash Fiction,In-Person,Non-Fiction,Open Mic,Poetry,Poetry Slam,Q&A,Slam,Spoken Word,Story Slam,Storytelling,Talk
ATTACH;FMTTYPE=image/jpeg:https://litwire.org/wp-content/uploads/2025/08/music.jpg
ORGANIZER;CN="Flavius":MAILTO:flaviusbentley@gmail.com
END:VEVENT
BEGIN:VEVENT
DTSTART;TZID=America/Chicago:20310129T210000
DTEND;TZID=America/Chicago:20310129T233000
DTSTAMP:20260424T103540
CREATED:20230802T021019Z
LAST-MODIFIED:20240309T172257Z
UID:10004990-1927486800-1927495800@litwire.org
SUMMARY:Poets on Poets
DESCRIPTION:Café Istanbul presents Poets on Poets every Wednesday 10:00 pm – 2:00 am.\n\nDoors open for 9:00 pm.\n\n$5 drinks all night long.
URL:https://litwire.org/event/poets-on-poets/2031-01-29/
LOCATION:Cafe Istanbul\, 2372 St Claude Ave\, New Orleans\, LA\, 70117\, United States
CATEGORIES:Open Mic,Poetry
ATTACH;FMTTYPE=image/jpeg:https://litwire.org/wp-content/uploads/2023/08/poets-on-poets.jpg
END:VEVENT
BEGIN:VEVENT
DTSTART;TZID=America/Chicago:20310130T200000
DTEND;TZID=America/Chicago:20310130T223000
DTSTAMP:20260424T103540
CREATED:20250806T182910Z
LAST-MODIFIED:20250806T182910Z
UID:10004991-1927569600-1927578600@litwire.org
SUMMARY:The Magic Mic
DESCRIPTION:7 minutes of magic on the mic. Show us your magic\, share in the magic of others. Tell your tales\, share your songs\, make music\, melodies and memories with us. ALL ACTs OPEN! Starts at 8pm every Thursday at Poor Boys!
URL:https://litwire.org/event/the-magic-mic/2031-01-30/
LOCATION:Poor Boys Bar\, 1328 St Bernard Ave\, New Orleans\, L\, 70116\, United States
CATEGORIES:Conversation,Erotica,Flash Fiction,In-Person,Non-Fiction,Open Mic,Poetry,Poetry Slam,Q&A,Slam,Spoken Word,Story Slam,Storytelling,Talk
ATTACH;FMTTYPE=image/jpeg:https://litwire.org/wp-content/uploads/2025/08/music.jpg
ORGANIZER;CN="Flavius":MAILTO:flaviusbentley@gmail.com
END:VEVENT
BEGIN:VEVENT
DTSTART;TZID=America/Chicago:20310131T190000
DTEND;TZID=America/Chicago:20310131T210000
DTSTAMP:20260424T103540
CREATED:20230804T203009Z
LAST-MODIFIED:20230804T203009Z
UID:10005018-1927652400-1927659600@litwire.org
SUMMARY:Poetry and Espresso
DESCRIPTION:Poetry open mic with featured musicians\, on the last Friday of every month. Solo musicians are also invited to play the open mic. Free admission. Please arrive early if you want to perform. \nFive minute limit for poets. Seven to ten minutes for music open-mic singers and musicians. \nPlease arrive early to sign in!
URL:https://litwire.org/event/poetry-and-espresso/2031-01-31/
LOCATION:Roots Plants and Coffee\, 124 B Erlanger Avenue\, Slidell\, LA\, 70458\, United States
CATEGORIES:Open Mic,Poetry
ATTACH;FMTTYPE=image/jpeg:https://litwire.org/wp-content/uploads/2023/08/IMG_8029-scaled.jpeg
ORGANIZER;CN="Dennis Formento":MAILTO:mesechabe@hotmail.com
END:VEVENT
BEGIN:VEVENT
DTSTART;TZID=America/Chicago:20310205T210000
DTEND;TZID=America/Chicago:20310205T230000
DTSTAMP:20260424T103540
CREATED:20230802T014515Z
LAST-MODIFIED:20230802T014515Z
UID:10005001-1928091600-1928098800@litwire.org
SUMMARY:Esoterotica: Original Erotic Readings by Local Writers
DESCRIPTION:Every Other Wednesday at The AllWays Lounge & Cabaret 2240 St. Claude Ave. NOLA\n21 & Up\, $5 at the Door\, ID’s & Proof of Vaxx Required \nWe Strive to Create an Inclusive & Safe Space for Our Audience & Provocateurs.\nNo Matter Who You Are\, What You Desire\, or Whom You Love\, All Are Welcome \nEsoterotica is a revolving cast of local\, New Orleans area\, provocateurs reading and performing original erotica live\, on stage. Including poetry\, flash fiction\, spoken word\, sexy confessions\, and more\, each show is different\, often showcasing line-ups of new writing\, never heard before. \nLife’s pleasures are a sensory experience\, let us delight your imagination and provoke your desires in a variety of styles for your variety of persuasions.  Follow Us on Facebook and Instagram @Esoterotica NOLA. \nDo You have Something to Share? Email Us to Submit Your Original Erotica or Get More Information & Guidelines at info@esoterotica.com
URL:https://litwire.org/event/esoterotica-original-erotic-readings-by-local-writers/2031-02-05/
LOCATION:The AllWays Lounge\, 2240 St. Claude Ave.\, New Orleans\, LA\, 70117\, United States
CATEGORIES:Erotica,Flash Fiction,Open Mic,Poetry,Spoken Word
ATTACH;FMTTYPE=image/jpeg:https://litwire.org/wp-content/uploads/2023/08/Esoterotica_AllWays-Lounge-Website-e1690940349571.jpg
END:VEVENT
BEGIN:VEVENT
DTSTART;TZID=America/Chicago:20310205T210000
DTEND;TZID=America/Chicago:20310205T233000
DTSTAMP:20260424T103540
CREATED:20230802T021019Z
LAST-MODIFIED:20240309T172257Z
UID:10004994-1928091600-1928100600@litwire.org
SUMMARY:Poets on Poets
DESCRIPTION:Café Istanbul presents Poets on Poets every Wednesday 10:00 pm – 2:00 am.\n\nDoors open for 9:00 pm.\n\n$5 drinks all night long.
URL:https://litwire.org/event/poets-on-poets/2031-02-05/
LOCATION:Cafe Istanbul\, 2372 St Claude Ave\, New Orleans\, LA\, 70117\, United States
CATEGORIES:Open Mic,Poetry
ATTACH;FMTTYPE=image/jpeg:https://litwire.org/wp-content/uploads/2023/08/poets-on-poets.jpg
END:VEVENT
BEGIN:VEVENT
DTSTART;TZID=America/Chicago:20310206T200000
DTEND;TZID=America/Chicago:20310206T223000
DTSTAMP:20260424T103540
CREATED:20250806T182910Z
LAST-MODIFIED:20250806T182910Z
UID:10004998-1928174400-1928183400@litwire.org
SUMMARY:The Magic Mic
DESCRIPTION:7 minutes of magic on the mic. Show us your magic\, share in the magic of others. Tell your tales\, share your songs\, make music\, melodies and memories with us. ALL ACTs OPEN! Starts at 8pm every Thursday at Poor Boys!
URL:https://litwire.org/event/the-magic-mic/2031-02-06/
LOCATION:Poor Boys Bar\, 1328 St Bernard Ave\, New Orleans\, L\, 70116\, United States
CATEGORIES:Conversation,Erotica,Flash Fiction,In-Person,Non-Fiction,Open Mic,Poetry,Poetry Slam,Q&A,Slam,Spoken Word,Story Slam,Storytelling,Talk
ATTACH;FMTTYPE=image/jpeg:https://litwire.org/wp-content/uploads/2025/08/music.jpg
ORGANIZER;CN="Flavius":MAILTO:flaviusbentley@gmail.com
END:VEVENT
BEGIN:VEVENT
DTSTART;TZID=America/Chicago:20310212T210000
DTEND;TZID=America/Chicago:20310212T233000
DTSTAMP:20260424T103540
CREATED:20230802T021019Z
LAST-MODIFIED:20240309T172257Z
UID:10005002-1928696400-1928705400@litwire.org
SUMMARY:Poets on Poets
DESCRIPTION:Café Istanbul presents Poets on Poets every Wednesday 10:00 pm – 2:00 am.\n\nDoors open for 9:00 pm.\n\n$5 drinks all night long.
URL:https://litwire.org/event/poets-on-poets/2031-02-12/
LOCATION:Cafe Istanbul\, 2372 St Claude Ave\, New Orleans\, LA\, 70117\, United States
CATEGORIES:Open Mic,Poetry
ATTACH;FMTTYPE=image/jpeg:https://litwire.org/wp-content/uploads/2023/08/poets-on-poets.jpg
END:VEVENT
BEGIN:VEVENT
DTSTART;TZID=America/Chicago:20310213T200000
DTEND;TZID=America/Chicago:20310213T223000
DTSTAMP:20260424T103540
CREATED:20250806T182910Z
LAST-MODIFIED:20250806T182910Z
UID:10005003-1928779200-1928788200@litwire.org
SUMMARY:The Magic Mic
DESCRIPTION:7 minutes of magic on the mic. Show us your magic\, share in the magic of others. Tell your tales\, share your songs\, make music\, melodies and memories with us. ALL ACTs OPEN! Starts at 8pm every Thursday at Poor Boys!
URL:https://litwire.org/event/the-magic-mic/2031-02-13/
LOCATION:Poor Boys Bar\, 1328 St Bernard Ave\, New Orleans\, L\, 70116\, United States
CATEGORIES:Conversation,Erotica,Flash Fiction,In-Person,Non-Fiction,Open Mic,Poetry,Poetry Slam,Q&A,Slam,Spoken Word,Story Slam,Storytelling,Talk
ATTACH;FMTTYPE=image/jpeg:https://litwire.org/wp-content/uploads/2025/08/music.jpg
ORGANIZER;CN="Flavius":MAILTO:flaviusbentley@gmail.com
END:VEVENT
BEGIN:VEVENT
DTSTART;TZID=America/Chicago:20310219T210000
DTEND;TZID=America/Chicago:20310219T230000
DTSTAMP:20260424T103540
CREATED:20230802T014515Z
LAST-MODIFIED:20230802T014515Z
UID:10005015-1929301200-1929308400@litwire.org
SUMMARY:Esoterotica: Original Erotic Readings by Local Writers
DESCRIPTION:Every Other Wednesday at The AllWays Lounge & Cabaret 2240 St. Claude Ave. NOLA\n21 & Up\, $5 at the Door\, ID’s & Proof of Vaxx Required \nWe Strive to Create an Inclusive & Safe Space for Our Audience & Provocateurs.\nNo Matter Who You Are\, What You Desire\, or Whom You Love\, All Are Welcome \nEsoterotica is a revolving cast of local\, New Orleans area\, provocateurs reading and performing original erotica live\, on stage. Including poetry\, flash fiction\, spoken word\, sexy confessions\, and more\, each show is different\, often showcasing line-ups of new writing\, never heard before. \nLife’s pleasures are a sensory experience\, let us delight your imagination and provoke your desires in a variety of styles for your variety of persuasions.  Follow Us on Facebook and Instagram @Esoterotica NOLA. \nDo You have Something to Share? Email Us to Submit Your Original Erotica or Get More Information & Guidelines at info@esoterotica.com
URL:https://litwire.org/event/esoterotica-original-erotic-readings-by-local-writers/2031-02-19/
LOCATION:The AllWays Lounge\, 2240 St. Claude Ave.\, New Orleans\, LA\, 70117\, United States
CATEGORIES:Erotica,Flash Fiction,Open Mic,Poetry,Spoken Word
ATTACH;FMTTYPE=image/jpeg:https://litwire.org/wp-content/uploads/2023/08/Esoterotica_AllWays-Lounge-Website-e1690940349571.jpg
END:VEVENT
BEGIN:VEVENT
DTSTART;TZID=America/Chicago:20310219T210000
DTEND;TZID=America/Chicago:20310219T233000
DTSTAMP:20260424T103540
CREATED:20230802T021019Z
LAST-MODIFIED:20240309T172257Z
UID:10005008-1929301200-1929310200@litwire.org
SUMMARY:Poets on Poets
DESCRIPTION:Café Istanbul presents Poets on Poets every Wednesday 10:00 pm – 2:00 am.\n\nDoors open for 9:00 pm.\n\n$5 drinks all night long.
URL:https://litwire.org/event/poets-on-poets/2031-02-19/
LOCATION:Cafe Istanbul\, 2372 St Claude Ave\, New Orleans\, LA\, 70117\, United States
CATEGORIES:Open Mic,Poetry
ATTACH;FMTTYPE=image/jpeg:https://litwire.org/wp-content/uploads/2023/08/poets-on-poets.jpg
END:VEVENT
BEGIN:VEVENT
DTSTART;TZID=America/Chicago:20310220T200000
DTEND;TZID=America/Chicago:20310220T223000
DTSTAMP:20260424T103540
CREATED:20250806T182910Z
LAST-MODIFIED:20250806T182910Z
UID:10005009-1929384000-1929393000@litwire.org
SUMMARY:The Magic Mic
DESCRIPTION:7 minutes of magic on the mic. Show us your magic\, share in the magic of others. Tell your tales\, share your songs\, make music\, melodies and memories with us. ALL ACTs OPEN! Starts at 8pm every Thursday at Poor Boys!
URL:https://litwire.org/event/the-magic-mic/2031-02-20/
LOCATION:Poor Boys Bar\, 1328 St Bernard Ave\, New Orleans\, L\, 70116\, United States
CATEGORIES:Conversation,Erotica,Flash Fiction,In-Person,Non-Fiction,Open Mic,Poetry,Poetry Slam,Q&A,Slam,Spoken Word,Story Slam,Storytelling,Talk
ATTACH;FMTTYPE=image/jpeg:https://litwire.org/wp-content/uploads/2025/08/music.jpg
ORGANIZER;CN="Flavius":MAILTO:flaviusbentley@gmail.com
END:VEVENT
BEGIN:VEVENT
DTSTART;TZID=America/Chicago:20310221T183000
DTEND;TZID=America/Chicago:20310221T210000
DTSTAMP:20260424T103540
CREATED:20240826T214326Z
LAST-MODIFIED:20240826T214326Z
UID:10005043-1929465000-1929474000@litwire.org
SUMMARY:Poetry and Espresso
DESCRIPTION:Every THIRD Friday of each month\, Roots Plants + Coffee\, 124 Erlanger Avenue\, Slidell\, presents Poetry & Espresso. Dennis Formento hosts. 6:30 sign in\, 7:00 begin. Poets & musicians welcome. Free!
URL:https://litwire.org/event/poetry-and-espresso-2/2031-02-21/
LOCATION:LA
CATEGORIES:Poetry
ATTACH;FMTTYPE=image/jpeg:https://litwire.org/wp-content/uploads/2024/08/IMG_0870-ROOTS-sign.jpeg
END:VEVENT
END:VCALENDAR