BEGIN:VCALENDAR
VERSION:2.0
PRODID:-//LitWire - ECPv6.15.20//NONSGML v1.0//EN
CALSCALE:GREGORIAN
METHOD:PUBLISH
X-ORIGINAL-URL:https://litwire.org
X-WR-CALDESC:Events for LitWire
REFRESH-INTERVAL;VALUE=DURATION:PT1H
X-Robots-Tag:noindex
X-PUBLISHED-TTL:PT1H
BEGIN:VTIMEZONE
TZID:America/Chicago
BEGIN:DAYLIGHT
TZOFFSETFROM:-0600
TZOFFSETTO:-0500
TZNAME:CDT
DTSTART:20290311T080000
END:DAYLIGHT
BEGIN:STANDARD
TZOFFSETFROM:-0500
TZOFFSETTO:-0600
TZNAME:CST
DTSTART:20291104T070000
END:STANDARD
BEGIN:DAYLIGHT
TZOFFSETFROM:-0600
TZOFFSETTO:-0500
TZNAME:CDT
DTSTART:20300310T080000
END:DAYLIGHT
BEGIN:STANDARD
TZOFFSETFROM:-0500
TZOFFSETTO:-0600
TZNAME:CST
DTSTART:20301103T070000
END:STANDARD
BEGIN:DAYLIGHT
TZOFFSETFROM:-0600
TZOFFSETTO:-0500
TZNAME:CDT
DTSTART:20310309T080000
END:DAYLIGHT
BEGIN:STANDARD
TZOFFSETFROM:-0500
TZOFFSETTO:-0600
TZNAME:CST
DTSTART:20311102T070000
END:STANDARD
END:VTIMEZONE
BEGIN:VEVENT
DTSTART;TZID=America/Chicago:20300515T210000
DTEND;TZID=America/Chicago:20300515T233000
DTSTAMP:20260424T103637
CREATED:20230802T021019Z
LAST-MODIFIED:20240309T172257Z
UID:10004213-1905109200-1905118200@litwire.org
SUMMARY:Poets on Poets
DESCRIPTION:Café Istanbul presents Poets on Poets every Wednesday 10:00 pm – 2:00 am.\n\nDoors open for 9:00 pm.\n\n$5 drinks all night long.
URL:https://litwire.org/event/poets-on-poets/2030-05-15/
LOCATION:Cafe Istanbul\, 2372 St Claude Ave\, New Orleans\, LA\, 70117\, United States
CATEGORIES:Open Mic,Poetry
ATTACH;FMTTYPE=image/jpeg:https://litwire.org/wp-content/uploads/2023/08/poets-on-poets.jpg
END:VEVENT
BEGIN:VEVENT
DTSTART;TZID=America/Chicago:20300516T200000
DTEND;TZID=America/Chicago:20300516T223000
DTSTAMP:20260424T103637
CREATED:20250806T182910Z
LAST-MODIFIED:20250806T182910Z
UID:10004731-1905192000-1905201000@litwire.org
SUMMARY:The Magic Mic
DESCRIPTION:7 minutes of magic on the mic. Show us your magic\, share in the magic of others. Tell your tales\, share your songs\, make music\, melodies and memories with us. ALL ACTs OPEN! Starts at 8pm every Thursday at Poor Boys!
URL:https://litwire.org/event/the-magic-mic/2030-05-16/
LOCATION:Poor Boys Bar\, 1328 St Bernard Ave\, New Orleans\, L\, 70116\, United States
CATEGORIES:Conversation,Erotica,Flash Fiction,In-Person,Non-Fiction,Open Mic,Poetry,Poetry Slam,Q&A,Slam,Spoken Word,Story Slam,Storytelling,Talk
ATTACH;FMTTYPE=image/jpeg:https://litwire.org/wp-content/uploads/2025/08/music.jpg
ORGANIZER;CN="Flavius":MAILTO:flaviusbentley@gmail.com
END:VEVENT
BEGIN:VEVENT
DTSTART;TZID=America/Chicago:20300517T183000
DTEND;TZID=America/Chicago:20300517T210000
DTSTAMP:20260424T103637
CREATED:20240826T214326Z
LAST-MODIFIED:20240826T214326Z
UID:10004215-1905273000-1905282000@litwire.org
SUMMARY:Poetry and Espresso
DESCRIPTION:Every THIRD Friday of each month\, Roots Plants + Coffee\, 124 Erlanger Avenue\, Slidell\, presents Poetry & Espresso. Dennis Formento hosts. 6:30 sign in\, 7:00 begin. Poets & musicians welcome. Free!
URL:https://litwire.org/event/poetry-and-espresso-2/2030-05-17/
LOCATION:LA
CATEGORIES:Poetry
ATTACH;FMTTYPE=image/jpeg:https://litwire.org/wp-content/uploads/2024/08/IMG_0870-ROOTS-sign.jpeg
END:VEVENT
BEGIN:VEVENT
DTSTART;TZID=America/Chicago:20300522T210000
DTEND;TZID=America/Chicago:20300522T233000
DTSTAMP:20260424T103637
CREATED:20230802T021019Z
LAST-MODIFIED:20240309T172257Z
UID:10004219-1905714000-1905723000@litwire.org
SUMMARY:Poets on Poets
DESCRIPTION:Café Istanbul presents Poets on Poets every Wednesday 10:00 pm – 2:00 am.\n\nDoors open for 9:00 pm.\n\n$5 drinks all night long.
URL:https://litwire.org/event/poets-on-poets/2030-05-22/
LOCATION:Cafe Istanbul\, 2372 St Claude Ave\, New Orleans\, LA\, 70117\, United States
CATEGORIES:Open Mic,Poetry
ATTACH;FMTTYPE=image/jpeg:https://litwire.org/wp-content/uploads/2023/08/poets-on-poets.jpg
END:VEVENT
BEGIN:VEVENT
DTSTART;TZID=America/Chicago:20300523T200000
DTEND;TZID=America/Chicago:20300523T223000
DTSTAMP:20260424T103637
CREATED:20250806T182910Z
LAST-MODIFIED:20250806T182910Z
UID:10004732-1905796800-1905805800@litwire.org
SUMMARY:The Magic Mic
DESCRIPTION:7 minutes of magic on the mic. Show us your magic\, share in the magic of others. Tell your tales\, share your songs\, make music\, melodies and memories with us. ALL ACTs OPEN! Starts at 8pm every Thursday at Poor Boys!
URL:https://litwire.org/event/the-magic-mic/2030-05-23/
LOCATION:Poor Boys Bar\, 1328 St Bernard Ave\, New Orleans\, L\, 70116\, United States
CATEGORIES:Conversation,Erotica,Flash Fiction,In-Person,Non-Fiction,Open Mic,Poetry,Poetry Slam,Q&A,Slam,Spoken Word,Story Slam,Storytelling,Talk
ATTACH;FMTTYPE=image/jpeg:https://litwire.org/wp-content/uploads/2025/08/music.jpg
ORGANIZER;CN="Flavius":MAILTO:flaviusbentley@gmail.com
END:VEVENT
BEGIN:VEVENT
DTSTART;TZID=America/Chicago:20300529T210000
DTEND;TZID=America/Chicago:20300529T230000
DTSTAMP:20260424T103637
CREATED:20230802T014515Z
LAST-MODIFIED:20230802T014515Z
UID:10004435-1906318800-1906326000@litwire.org
SUMMARY:Esoterotica: Original Erotic Readings by Local Writers
DESCRIPTION:Every Other Wednesday at The AllWays Lounge & Cabaret 2240 St. Claude Ave. NOLA\n21 & Up\, $5 at the Door\, ID’s & Proof of Vaxx Required \nWe Strive to Create an Inclusive & Safe Space for Our Audience & Provocateurs.\nNo Matter Who You Are\, What You Desire\, or Whom You Love\, All Are Welcome \nEsoterotica is a revolving cast of local\, New Orleans area\, provocateurs reading and performing original erotica live\, on stage. Including poetry\, flash fiction\, spoken word\, sexy confessions\, and more\, each show is different\, often showcasing line-ups of new writing\, never heard before. \nLife’s pleasures are a sensory experience\, let us delight your imagination and provoke your desires in a variety of styles for your variety of persuasions.  Follow Us on Facebook and Instagram @Esoterotica NOLA. \nDo You have Something to Share? Email Us to Submit Your Original Erotica or Get More Information & Guidelines at info@esoterotica.com
URL:https://litwire.org/event/esoterotica-original-erotic-readings-by-local-writers/2030-05-29/
LOCATION:The AllWays Lounge\, 2240 St. Claude Ave.\, New Orleans\, LA\, 70117\, United States
CATEGORIES:Erotica,Flash Fiction,Open Mic,Poetry,Spoken Word
ATTACH;FMTTYPE=image/jpeg:https://litwire.org/wp-content/uploads/2023/08/Esoterotica_AllWays-Lounge-Website-e1690940349571.jpg
END:VEVENT
BEGIN:VEVENT
DTSTART;TZID=America/Chicago:20300529T210000
DTEND;TZID=America/Chicago:20300529T233000
DTSTAMP:20260424T103637
CREATED:20230802T021019Z
LAST-MODIFIED:20240309T172257Z
UID:10004225-1906318800-1906327800@litwire.org
SUMMARY:Poets on Poets
DESCRIPTION:Café Istanbul presents Poets on Poets every Wednesday 10:00 pm – 2:00 am.\n\nDoors open for 9:00 pm.\n\n$5 drinks all night long.
URL:https://litwire.org/event/poets-on-poets/2030-05-29/
LOCATION:Cafe Istanbul\, 2372 St Claude Ave\, New Orleans\, LA\, 70117\, United States
CATEGORIES:Open Mic,Poetry
ATTACH;FMTTYPE=image/jpeg:https://litwire.org/wp-content/uploads/2023/08/poets-on-poets.jpg
END:VEVENT
BEGIN:VEVENT
DTSTART;TZID=America/Chicago:20300530T200000
DTEND;TZID=America/Chicago:20300530T223000
DTSTAMP:20260424T103637
CREATED:20250806T182910Z
LAST-MODIFIED:20250806T182910Z
UID:10004733-1906401600-1906410600@litwire.org
SUMMARY:The Magic Mic
DESCRIPTION:7 minutes of magic on the mic. Show us your magic\, share in the magic of others. Tell your tales\, share your songs\, make music\, melodies and memories with us. ALL ACTs OPEN! Starts at 8pm every Thursday at Poor Boys!
URL:https://litwire.org/event/the-magic-mic/2030-05-30/
LOCATION:Poor Boys Bar\, 1328 St Bernard Ave\, New Orleans\, L\, 70116\, United States
CATEGORIES:Conversation,Erotica,Flash Fiction,In-Person,Non-Fiction,Open Mic,Poetry,Poetry Slam,Q&A,Slam,Spoken Word,Story Slam,Storytelling,Talk
ATTACH;FMTTYPE=image/jpeg:https://litwire.org/wp-content/uploads/2025/08/music.jpg
ORGANIZER;CN="Flavius":MAILTO:flaviusbentley@gmail.com
END:VEVENT
BEGIN:VEVENT
DTSTART;TZID=America/Chicago:20300531T190000
DTEND;TZID=America/Chicago:20300531T210000
DTSTAMP:20260424T103637
CREATED:20230804T203009Z
LAST-MODIFIED:20230804T203009Z
UID:10004457-1906484400-1906491600@litwire.org
SUMMARY:Poetry and Espresso
DESCRIPTION:Poetry open mic with featured musicians\, on the last Friday of every month. Solo musicians are also invited to play the open mic. Free admission. Please arrive early if you want to perform. \nFive minute limit for poets. Seven to ten minutes for music open-mic singers and musicians. \nPlease arrive early to sign in!
URL:https://litwire.org/event/poetry-and-espresso/2030-05-31/
LOCATION:Roots Plants and Coffee\, 124 B Erlanger Avenue\, Slidell\, LA\, 70458\, United States
CATEGORIES:Open Mic,Poetry
ATTACH;FMTTYPE=image/jpeg:https://litwire.org/wp-content/uploads/2023/08/IMG_8029-scaled.jpeg
ORGANIZER;CN="Dennis Formento":MAILTO:mesechabe@hotmail.com
END:VEVENT
BEGIN:VEVENT
DTSTART;TZID=America/Chicago:20300605T210000
DTEND;TZID=America/Chicago:20300605T233000
DTSTAMP:20260424T103637
CREATED:20230802T021019Z
LAST-MODIFIED:20240309T172257Z
UID:10004436-1906923600-1906932600@litwire.org
SUMMARY:Poets on Poets
DESCRIPTION:Café Istanbul presents Poets on Poets every Wednesday 10:00 pm – 2:00 am.\n\nDoors open for 9:00 pm.\n\n$5 drinks all night long.
URL:https://litwire.org/event/poets-on-poets/2030-06-05/
LOCATION:Cafe Istanbul\, 2372 St Claude Ave\, New Orleans\, LA\, 70117\, United States
CATEGORIES:Open Mic,Poetry
ATTACH;FMTTYPE=image/jpeg:https://litwire.org/wp-content/uploads/2023/08/poets-on-poets.jpg
END:VEVENT
BEGIN:VEVENT
DTSTART;TZID=America/Chicago:20300606T200000
DTEND;TZID=America/Chicago:20300606T223000
DTSTAMP:20260424T103637
CREATED:20250806T182910Z
LAST-MODIFIED:20250806T182910Z
UID:10004734-1907006400-1907015400@litwire.org
SUMMARY:The Magic Mic
DESCRIPTION:7 minutes of magic on the mic. Show us your magic\, share in the magic of others. Tell your tales\, share your songs\, make music\, melodies and memories with us. ALL ACTs OPEN! Starts at 8pm every Thursday at Poor Boys!
URL:https://litwire.org/event/the-magic-mic/2030-06-06/
LOCATION:Poor Boys Bar\, 1328 St Bernard Ave\, New Orleans\, L\, 70116\, United States
CATEGORIES:Conversation,Erotica,Flash Fiction,In-Person,Non-Fiction,Open Mic,Poetry,Poetry Slam,Q&A,Slam,Spoken Word,Story Slam,Storytelling,Talk
ATTACH;FMTTYPE=image/jpeg:https://litwire.org/wp-content/uploads/2025/08/music.jpg
ORGANIZER;CN="Flavius":MAILTO:flaviusbentley@gmail.com
END:VEVENT
BEGIN:VEVENT
DTSTART;TZID=America/Chicago:20300612T210000
DTEND;TZID=America/Chicago:20300612T230000
DTSTAMP:20260424T103637
CREATED:20230802T014515Z
LAST-MODIFIED:20230802T014515Z
UID:10004443-1907528400-1907535600@litwire.org
SUMMARY:Esoterotica: Original Erotic Readings by Local Writers
DESCRIPTION:Every Other Wednesday at The AllWays Lounge & Cabaret 2240 St. Claude Ave. NOLA\n21 & Up\, $5 at the Door\, ID’s & Proof of Vaxx Required \nWe Strive to Create an Inclusive & Safe Space for Our Audience & Provocateurs.\nNo Matter Who You Are\, What You Desire\, or Whom You Love\, All Are Welcome \nEsoterotica is a revolving cast of local\, New Orleans area\, provocateurs reading and performing original erotica live\, on stage. Including poetry\, flash fiction\, spoken word\, sexy confessions\, and more\, each show is different\, often showcasing line-ups of new writing\, never heard before. \nLife’s pleasures are a sensory experience\, let us delight your imagination and provoke your desires in a variety of styles for your variety of persuasions.  Follow Us on Facebook and Instagram @Esoterotica NOLA. \nDo You have Something to Share? Email Us to Submit Your Original Erotica or Get More Information & Guidelines at info@esoterotica.com
URL:https://litwire.org/event/esoterotica-original-erotic-readings-by-local-writers/2030-06-12/
LOCATION:The AllWays Lounge\, 2240 St. Claude Ave.\, New Orleans\, LA\, 70117\, United States
CATEGORIES:Erotica,Flash Fiction,Open Mic,Poetry,Spoken Word
ATTACH;FMTTYPE=image/jpeg:https://litwire.org/wp-content/uploads/2023/08/Esoterotica_AllWays-Lounge-Website-e1690940349571.jpg
END:VEVENT
BEGIN:VEVENT
DTSTART;TZID=America/Chicago:20300612T210000
DTEND;TZID=America/Chicago:20300612T233000
DTSTAMP:20260424T103637
CREATED:20230802T021019Z
LAST-MODIFIED:20240309T172257Z
UID:10004440-1907528400-1907537400@litwire.org
SUMMARY:Poets on Poets
DESCRIPTION:Café Istanbul presents Poets on Poets every Wednesday 10:00 pm – 2:00 am.\n\nDoors open for 9:00 pm.\n\n$5 drinks all night long.
URL:https://litwire.org/event/poets-on-poets/2030-06-12/
LOCATION:Cafe Istanbul\, 2372 St Claude Ave\, New Orleans\, LA\, 70117\, United States
CATEGORIES:Open Mic,Poetry
ATTACH;FMTTYPE=image/jpeg:https://litwire.org/wp-content/uploads/2023/08/poets-on-poets.jpg
END:VEVENT
BEGIN:VEVENT
DTSTART;TZID=America/Chicago:20300613T200000
DTEND;TZID=America/Chicago:20300613T223000
DTSTAMP:20260424T103637
CREATED:20250806T182910Z
LAST-MODIFIED:20250806T182910Z
UID:10004735-1907611200-1907620200@litwire.org
SUMMARY:The Magic Mic
DESCRIPTION:7 minutes of magic on the mic. Show us your magic\, share in the magic of others. Tell your tales\, share your songs\, make music\, melodies and memories with us. ALL ACTs OPEN! Starts at 8pm every Thursday at Poor Boys!
URL:https://litwire.org/event/the-magic-mic/2030-06-13/
LOCATION:Poor Boys Bar\, 1328 St Bernard Ave\, New Orleans\, L\, 70116\, United States
CATEGORIES:Conversation,Erotica,Flash Fiction,In-Person,Non-Fiction,Open Mic,Poetry,Poetry Slam,Q&A,Slam,Spoken Word,Story Slam,Storytelling,Talk
ATTACH;FMTTYPE=image/jpeg:https://litwire.org/wp-content/uploads/2025/08/music.jpg
ORGANIZER;CN="Flavius":MAILTO:flaviusbentley@gmail.com
END:VEVENT
BEGIN:VEVENT
DTSTART;TZID=America/Chicago:20300619T210000
DTEND;TZID=America/Chicago:20300619T233000
DTSTAMP:20260424T103637
CREATED:20230802T021019Z
LAST-MODIFIED:20240309T172257Z
UID:10004444-1908133200-1908142200@litwire.org
SUMMARY:Poets on Poets
DESCRIPTION:Café Istanbul presents Poets on Poets every Wednesday 10:00 pm – 2:00 am.\n\nDoors open for 9:00 pm.\n\n$5 drinks all night long.
URL:https://litwire.org/event/poets-on-poets/2030-06-19/
LOCATION:Cafe Istanbul\, 2372 St Claude Ave\, New Orleans\, LA\, 70117\, United States
CATEGORIES:Open Mic,Poetry
ATTACH;FMTTYPE=image/jpeg:https://litwire.org/wp-content/uploads/2023/08/poets-on-poets.jpg
END:VEVENT
BEGIN:VEVENT
DTSTART;TZID=America/Chicago:20300620T200000
DTEND;TZID=America/Chicago:20300620T223000
DTSTAMP:20260424T103637
CREATED:20250806T182910Z
LAST-MODIFIED:20250806T182910Z
UID:10004736-1908216000-1908225000@litwire.org
SUMMARY:The Magic Mic
DESCRIPTION:7 minutes of magic on the mic. Show us your magic\, share in the magic of others. Tell your tales\, share your songs\, make music\, melodies and memories with us. ALL ACTs OPEN! Starts at 8pm every Thursday at Poor Boys!
URL:https://litwire.org/event/the-magic-mic/2030-06-20/
LOCATION:Poor Boys Bar\, 1328 St Bernard Ave\, New Orleans\, L\, 70116\, United States
CATEGORIES:Conversation,Erotica,Flash Fiction,In-Person,Non-Fiction,Open Mic,Poetry,Poetry Slam,Q&A,Slam,Spoken Word,Story Slam,Storytelling,Talk
ATTACH;FMTTYPE=image/jpeg:https://litwire.org/wp-content/uploads/2025/08/music.jpg
ORGANIZER;CN="Flavius":MAILTO:flaviusbentley@gmail.com
END:VEVENT
BEGIN:VEVENT
DTSTART;TZID=America/Chicago:20300621T183000
DTEND;TZID=America/Chicago:20300621T210000
DTSTAMP:20260424T103637
CREATED:20240826T214326Z
LAST-MODIFIED:20240826T214326Z
UID:10004472-1908297000-1908306000@litwire.org
SUMMARY:Poetry and Espresso
DESCRIPTION:Every THIRD Friday of each month\, Roots Plants + Coffee\, 124 Erlanger Avenue\, Slidell\, presents Poetry & Espresso. Dennis Formento hosts. 6:30 sign in\, 7:00 begin. Poets & musicians welcome. Free!
URL:https://litwire.org/event/poetry-and-espresso-2/2030-06-21/
LOCATION:LA
CATEGORIES:Poetry
ATTACH;FMTTYPE=image/jpeg:https://litwire.org/wp-content/uploads/2024/08/IMG_0870-ROOTS-sign.jpeg
END:VEVENT
BEGIN:VEVENT
DTSTART;TZID=America/Chicago:20300626T210000
DTEND;TZID=America/Chicago:20300626T230000
DTSTAMP:20260424T103637
CREATED:20230802T014515Z
LAST-MODIFIED:20230802T014515Z
UID:10004462-1908738000-1908745200@litwire.org
SUMMARY:Esoterotica: Original Erotic Readings by Local Writers
DESCRIPTION:Every Other Wednesday at The AllWays Lounge & Cabaret 2240 St. Claude Ave. NOLA\n21 & Up\, $5 at the Door\, ID’s & Proof of Vaxx Required \nWe Strive to Create an Inclusive & Safe Space for Our Audience & Provocateurs.\nNo Matter Who You Are\, What You Desire\, or Whom You Love\, All Are Welcome \nEsoterotica is a revolving cast of local\, New Orleans area\, provocateurs reading and performing original erotica live\, on stage. Including poetry\, flash fiction\, spoken word\, sexy confessions\, and more\, each show is different\, often showcasing line-ups of new writing\, never heard before. \nLife’s pleasures are a sensory experience\, let us delight your imagination and provoke your desires in a variety of styles for your variety of persuasions.  Follow Us on Facebook and Instagram @Esoterotica NOLA. \nDo You have Something to Share? Email Us to Submit Your Original Erotica or Get More Information & Guidelines at info@esoterotica.com
URL:https://litwire.org/event/esoterotica-original-erotic-readings-by-local-writers/2030-06-26/
LOCATION:The AllWays Lounge\, 2240 St. Claude Ave.\, New Orleans\, LA\, 70117\, United States
CATEGORIES:Erotica,Flash Fiction,Open Mic,Poetry,Spoken Word
ATTACH;FMTTYPE=image/jpeg:https://litwire.org/wp-content/uploads/2023/08/Esoterotica_AllWays-Lounge-Website-e1690940349571.jpg
END:VEVENT
BEGIN:VEVENT
DTSTART;TZID=America/Chicago:20300626T210000
DTEND;TZID=America/Chicago:20300626T233000
DTSTAMP:20260424T103637
CREATED:20230802T021019Z
LAST-MODIFIED:20240309T172257Z
UID:10004449-1908738000-1908747000@litwire.org
SUMMARY:Poets on Poets
DESCRIPTION:Café Istanbul presents Poets on Poets every Wednesday 10:00 pm – 2:00 am.\n\nDoors open for 9:00 pm.\n\n$5 drinks all night long.
URL:https://litwire.org/event/poets-on-poets/2030-06-26/
LOCATION:Cafe Istanbul\, 2372 St Claude Ave\, New Orleans\, LA\, 70117\, United States
CATEGORIES:Open Mic,Poetry
ATTACH;FMTTYPE=image/jpeg:https://litwire.org/wp-content/uploads/2023/08/poets-on-poets.jpg
END:VEVENT
BEGIN:VEVENT
DTSTART;TZID=America/Chicago:20300627T200000
DTEND;TZID=America/Chicago:20300627T223000
DTSTAMP:20260424T103637
CREATED:20250806T182910Z
LAST-MODIFIED:20250806T182910Z
UID:10004737-1908820800-1908829800@litwire.org
SUMMARY:The Magic Mic
DESCRIPTION:7 minutes of magic on the mic. Show us your magic\, share in the magic of others. Tell your tales\, share your songs\, make music\, melodies and memories with us. ALL ACTs OPEN! Starts at 8pm every Thursday at Poor Boys!
URL:https://litwire.org/event/the-magic-mic/2030-06-27/
LOCATION:Poor Boys Bar\, 1328 St Bernard Ave\, New Orleans\, L\, 70116\, United States
CATEGORIES:Conversation,Erotica,Flash Fiction,In-Person,Non-Fiction,Open Mic,Poetry,Poetry Slam,Q&A,Slam,Spoken Word,Story Slam,Storytelling,Talk
ATTACH;FMTTYPE=image/jpeg:https://litwire.org/wp-content/uploads/2025/08/music.jpg
ORGANIZER;CN="Flavius":MAILTO:flaviusbentley@gmail.com
END:VEVENT
BEGIN:VEVENT
DTSTART;TZID=America/Chicago:20300628T190000
DTEND;TZID=America/Chicago:20300628T210000
DTSTAMP:20260424T103637
CREATED:20230804T203009Z
LAST-MODIFIED:20230804T203009Z
UID:10004458-1908903600-1908910800@litwire.org
SUMMARY:Poetry and Espresso
DESCRIPTION:Poetry open mic with featured musicians\, on the last Friday of every month. Solo musicians are also invited to play the open mic. Free admission. Please arrive early if you want to perform. \nFive minute limit for poets. Seven to ten minutes for music open-mic singers and musicians. \nPlease arrive early to sign in!
URL:https://litwire.org/event/poetry-and-espresso/2030-06-28/
LOCATION:Roots Plants and Coffee\, 124 B Erlanger Avenue\, Slidell\, LA\, 70458\, United States
CATEGORIES:Open Mic,Poetry
ATTACH;FMTTYPE=image/jpeg:https://litwire.org/wp-content/uploads/2023/08/IMG_8029-scaled.jpeg
ORGANIZER;CN="Dennis Formento":MAILTO:mesechabe@hotmail.com
END:VEVENT
BEGIN:VEVENT
DTSTART;TZID=America/Chicago:20300703T210000
DTEND;TZID=America/Chicago:20300703T233000
DTSTAMP:20260424T103637
CREATED:20230802T021019Z
LAST-MODIFIED:20240309T172257Z
UID:10004463-1909342800-1909351800@litwire.org
SUMMARY:Poets on Poets
DESCRIPTION:Café Istanbul presents Poets on Poets every Wednesday 10:00 pm – 2:00 am.\n\nDoors open for 9:00 pm.\n\n$5 drinks all night long.
URL:https://litwire.org/event/poets-on-poets/2030-07-03/
LOCATION:Cafe Istanbul\, 2372 St Claude Ave\, New Orleans\, LA\, 70117\, United States
CATEGORIES:Open Mic,Poetry
ATTACH;FMTTYPE=image/jpeg:https://litwire.org/wp-content/uploads/2023/08/poets-on-poets.jpg
END:VEVENT
BEGIN:VEVENT
DTSTART;TZID=America/Chicago:20300704T200000
DTEND;TZID=America/Chicago:20300704T223000
DTSTAMP:20260424T103637
CREATED:20250806T182910Z
LAST-MODIFIED:20250806T182910Z
UID:10004738-1909425600-1909434600@litwire.org
SUMMARY:The Magic Mic
DESCRIPTION:7 minutes of magic on the mic. Show us your magic\, share in the magic of others. Tell your tales\, share your songs\, make music\, melodies and memories with us. ALL ACTs OPEN! Starts at 8pm every Thursday at Poor Boys!
URL:https://litwire.org/event/the-magic-mic/2030-07-04/
LOCATION:Poor Boys Bar\, 1328 St Bernard Ave\, New Orleans\, L\, 70116\, United States
CATEGORIES:Conversation,Erotica,Flash Fiction,In-Person,Non-Fiction,Open Mic,Poetry,Poetry Slam,Q&A,Slam,Spoken Word,Story Slam,Storytelling,Talk
ATTACH;FMTTYPE=image/jpeg:https://litwire.org/wp-content/uploads/2025/08/music.jpg
ORGANIZER;CN="Flavius":MAILTO:flaviusbentley@gmail.com
END:VEVENT
BEGIN:VEVENT
DTSTART;TZID=America/Chicago:20300710T210000
DTEND;TZID=America/Chicago:20300710T230000
DTSTAMP:20260424T103637
CREATED:20230802T014515Z
LAST-MODIFIED:20230802T014515Z
UID:10004470-1909947600-1909954800@litwire.org
SUMMARY:Esoterotica: Original Erotic Readings by Local Writers
DESCRIPTION:Every Other Wednesday at The AllWays Lounge & Cabaret 2240 St. Claude Ave. NOLA\n21 & Up\, $5 at the Door\, ID’s & Proof of Vaxx Required \nWe Strive to Create an Inclusive & Safe Space for Our Audience & Provocateurs.\nNo Matter Who You Are\, What You Desire\, or Whom You Love\, All Are Welcome \nEsoterotica is a revolving cast of local\, New Orleans area\, provocateurs reading and performing original erotica live\, on stage. Including poetry\, flash fiction\, spoken word\, sexy confessions\, and more\, each show is different\, often showcasing line-ups of new writing\, never heard before. \nLife’s pleasures are a sensory experience\, let us delight your imagination and provoke your desires in a variety of styles for your variety of persuasions.  Follow Us on Facebook and Instagram @Esoterotica NOLA. \nDo You have Something to Share? Email Us to Submit Your Original Erotica or Get More Information & Guidelines at info@esoterotica.com
URL:https://litwire.org/event/esoterotica-original-erotic-readings-by-local-writers/2030-07-10/
LOCATION:The AllWays Lounge\, 2240 St. Claude Ave.\, New Orleans\, LA\, 70117\, United States
CATEGORIES:Erotica,Flash Fiction,Open Mic,Poetry,Spoken Word
ATTACH;FMTTYPE=image/jpeg:https://litwire.org/wp-content/uploads/2023/08/Esoterotica_AllWays-Lounge-Website-e1690940349571.jpg
END:VEVENT
BEGIN:VEVENT
DTSTART;TZID=America/Chicago:20300710T210000
DTEND;TZID=America/Chicago:20300710T233000
DTSTAMP:20260424T103637
CREATED:20230802T021019Z
LAST-MODIFIED:20240309T172257Z
UID:10004466-1909947600-1909956600@litwire.org
SUMMARY:Poets on Poets
DESCRIPTION:Café Istanbul presents Poets on Poets every Wednesday 10:00 pm – 2:00 am.\n\nDoors open for 9:00 pm.\n\n$5 drinks all night long.
URL:https://litwire.org/event/poets-on-poets/2030-07-10/
LOCATION:Cafe Istanbul\, 2372 St Claude Ave\, New Orleans\, LA\, 70117\, United States
CATEGORIES:Open Mic,Poetry
ATTACH;FMTTYPE=image/jpeg:https://litwire.org/wp-content/uploads/2023/08/poets-on-poets.jpg
END:VEVENT
BEGIN:VEVENT
DTSTART;TZID=America/Chicago:20300711T200000
DTEND;TZID=America/Chicago:20300711T223000
DTSTAMP:20260424T103637
CREATED:20250806T182910Z
LAST-MODIFIED:20250806T182910Z
UID:10004739-1910030400-1910039400@litwire.org
SUMMARY:The Magic Mic
DESCRIPTION:7 minutes of magic on the mic. Show us your magic\, share in the magic of others. Tell your tales\, share your songs\, make music\, melodies and memories with us. ALL ACTs OPEN! Starts at 8pm every Thursday at Poor Boys!
URL:https://litwire.org/event/the-magic-mic/2030-07-11/
LOCATION:Poor Boys Bar\, 1328 St Bernard Ave\, New Orleans\, L\, 70116\, United States
CATEGORIES:Conversation,Erotica,Flash Fiction,In-Person,Non-Fiction,Open Mic,Poetry,Poetry Slam,Q&A,Slam,Spoken Word,Story Slam,Storytelling,Talk
ATTACH;FMTTYPE=image/jpeg:https://litwire.org/wp-content/uploads/2025/08/music.jpg
ORGANIZER;CN="Flavius":MAILTO:flaviusbentley@gmail.com
END:VEVENT
BEGIN:VEVENT
DTSTART;TZID=America/Chicago:20300717T210000
DTEND;TZID=America/Chicago:20300717T233000
DTSTAMP:20260424T103637
CREATED:20230802T021019Z
LAST-MODIFIED:20240309T172257Z
UID:10004471-1910552400-1910561400@litwire.org
SUMMARY:Poets on Poets
DESCRIPTION:Café Istanbul presents Poets on Poets every Wednesday 10:00 pm – 2:00 am.\n\nDoors open for 9:00 pm.\n\n$5 drinks all night long.
URL:https://litwire.org/event/poets-on-poets/2030-07-17/
LOCATION:Cafe Istanbul\, 2372 St Claude Ave\, New Orleans\, LA\, 70117\, United States
CATEGORIES:Open Mic,Poetry
ATTACH;FMTTYPE=image/jpeg:https://litwire.org/wp-content/uploads/2023/08/poets-on-poets.jpg
END:VEVENT
BEGIN:VEVENT
DTSTART;TZID=America/Chicago:20300718T200000
DTEND;TZID=America/Chicago:20300718T223000
DTSTAMP:20260424T103637
CREATED:20250806T182910Z
LAST-MODIFIED:20250806T182910Z
UID:10004740-1910635200-1910644200@litwire.org
SUMMARY:The Magic Mic
DESCRIPTION:7 minutes of magic on the mic. Show us your magic\, share in the magic of others. Tell your tales\, share your songs\, make music\, melodies and memories with us. ALL ACTs OPEN! Starts at 8pm every Thursday at Poor Boys!
URL:https://litwire.org/event/the-magic-mic/2030-07-18/
LOCATION:Poor Boys Bar\, 1328 St Bernard Ave\, New Orleans\, L\, 70116\, United States
CATEGORIES:Conversation,Erotica,Flash Fiction,In-Person,Non-Fiction,Open Mic,Poetry,Poetry Slam,Q&A,Slam,Spoken Word,Story Slam,Storytelling,Talk
ATTACH;FMTTYPE=image/jpeg:https://litwire.org/wp-content/uploads/2025/08/music.jpg
ORGANIZER;CN="Flavius":MAILTO:flaviusbentley@gmail.com
END:VEVENT
BEGIN:VEVENT
DTSTART;TZID=America/Chicago:20300719T183000
DTEND;TZID=America/Chicago:20300719T210000
DTSTAMP:20260424T103637
CREATED:20240826T214326Z
LAST-MODIFIED:20240826T214326Z
UID:10004473-1910716200-1910725200@litwire.org
SUMMARY:Poetry and Espresso
DESCRIPTION:Every THIRD Friday of each month\, Roots Plants + Coffee\, 124 Erlanger Avenue\, Slidell\, presents Poetry & Espresso. Dennis Formento hosts. 6:30 sign in\, 7:00 begin. Poets & musicians welcome. Free!
URL:https://litwire.org/event/poetry-and-espresso-2/2030-07-19/
LOCATION:LA
CATEGORIES:Poetry
ATTACH;FMTTYPE=image/jpeg:https://litwire.org/wp-content/uploads/2024/08/IMG_0870-ROOTS-sign.jpeg
END:VEVENT
BEGIN:VEVENT
DTSTART;TZID=America/Chicago:20300724T210000
DTEND;TZID=America/Chicago:20300724T230000
DTSTAMP:20260424T103637
CREATED:20230802T014515Z
LAST-MODIFIED:20230802T014515Z
UID:10004480-1911157200-1911164400@litwire.org
SUMMARY:Esoterotica: Original Erotic Readings by Local Writers
DESCRIPTION:Every Other Wednesday at The AllWays Lounge & Cabaret 2240 St. Claude Ave. NOLA\n21 & Up\, $5 at the Door\, ID’s & Proof of Vaxx Required \nWe Strive to Create an Inclusive & Safe Space for Our Audience & Provocateurs.\nNo Matter Who You Are\, What You Desire\, or Whom You Love\, All Are Welcome \nEsoterotica is a revolving cast of local\, New Orleans area\, provocateurs reading and performing original erotica live\, on stage. Including poetry\, flash fiction\, spoken word\, sexy confessions\, and more\, each show is different\, often showcasing line-ups of new writing\, never heard before. \nLife’s pleasures are a sensory experience\, let us delight your imagination and provoke your desires in a variety of styles for your variety of persuasions.  Follow Us on Facebook and Instagram @Esoterotica NOLA. \nDo You have Something to Share? Email Us to Submit Your Original Erotica or Get More Information & Guidelines at info@esoterotica.com
URL:https://litwire.org/event/esoterotica-original-erotic-readings-by-local-writers/2030-07-24/
LOCATION:The AllWays Lounge\, 2240 St. Claude Ave.\, New Orleans\, LA\, 70117\, United States
CATEGORIES:Erotica,Flash Fiction,Open Mic,Poetry,Spoken Word
ATTACH;FMTTYPE=image/jpeg:https://litwire.org/wp-content/uploads/2023/08/Esoterotica_AllWays-Lounge-Website-e1690940349571.jpg
END:VEVENT
END:VCALENDAR