BEGIN:VCALENDAR
VERSION:2.0
PRODID:-//LitWire - ECPv6.15.20//NONSGML v1.0//EN
CALSCALE:GREGORIAN
METHOD:PUBLISH
X-WR-CALNAME:LitWire
X-ORIGINAL-URL:https://litwire.org
X-WR-CALDESC:Events for LitWire
REFRESH-INTERVAL;VALUE=DURATION:PT1H
X-Robots-Tag:noindex
X-PUBLISHED-TTL:PT1H
BEGIN:VTIMEZONE
TZID:America/Chicago
BEGIN:DAYLIGHT
TZOFFSETFROM:-0600
TZOFFSETTO:-0500
TZNAME:CDT
DTSTART:20250309T080000
END:DAYLIGHT
BEGIN:STANDARD
TZOFFSETFROM:-0500
TZOFFSETTO:-0600
TZNAME:CST
DTSTART:20251102T070000
END:STANDARD
BEGIN:DAYLIGHT
TZOFFSETFROM:-0600
TZOFFSETTO:-0500
TZNAME:CDT
DTSTART:20260308T080000
END:DAYLIGHT
BEGIN:STANDARD
TZOFFSETFROM:-0500
TZOFFSETTO:-0600
TZNAME:CST
DTSTART:20261101T070000
END:STANDARD
BEGIN:DAYLIGHT
TZOFFSETFROM:-0600
TZOFFSETTO:-0500
TZNAME:CDT
DTSTART:20270314T080000
END:DAYLIGHT
BEGIN:STANDARD
TZOFFSETFROM:-0500
TZOFFSETTO:-0600
TZNAME:CST
DTSTART:20271107T070000
END:STANDARD
BEGIN:DAYLIGHT
TZOFFSETFROM:-0600
TZOFFSETTO:-0500
TZNAME:CDT
DTSTART:20280312T080000
END:DAYLIGHT
BEGIN:STANDARD
TZOFFSETFROM:-0500
TZOFFSETTO:-0600
TZNAME:CST
DTSTART:20281105T070000
END:STANDARD
END:VTIMEZONE
BEGIN:VEVENT
DTSTART;TZID=America/Chicago:20261216T210000
DTEND;TZID=America/Chicago:20261216T230000
DTSTAMP:20260423T180609
CREATED:20230802T014515Z
LAST-MODIFIED:20230802T014515Z
UID:10001448-1797454800-1797462000@litwire.org
SUMMARY:Esoterotica: Original Erotic Readings by Local Writers
DESCRIPTION:Every Other Wednesday at The AllWays Lounge & Cabaret 2240 St. Claude Ave. NOLA\n21 & Up\, $5 at the Door\, ID’s & Proof of Vaxx Required \nWe Strive to Create an Inclusive & Safe Space for Our Audience & Provocateurs.\nNo Matter Who You Are\, What You Desire\, or Whom You Love\, All Are Welcome \nEsoterotica is a revolving cast of local\, New Orleans area\, provocateurs reading and performing original erotica live\, on stage. Including poetry\, flash fiction\, spoken word\, sexy confessions\, and more\, each show is different\, often showcasing line-ups of new writing\, never heard before. \nLife’s pleasures are a sensory experience\, let us delight your imagination and provoke your desires in a variety of styles for your variety of persuasions.  Follow Us on Facebook and Instagram @Esoterotica NOLA. \nDo You have Something to Share? Email Us to Submit Your Original Erotica or Get More Information & Guidelines at info@esoterotica.com
URL:https://litwire.org/event/esoterotica-original-erotic-readings-by-local-writers/2026-12-16/
LOCATION:The AllWays Lounge\, 2240 St. Claude Ave.\, New Orleans\, LA\, 70117\, United States
CATEGORIES:Erotica,Flash Fiction,Open Mic,Poetry,Spoken Word
ATTACH;FMTTYPE=image/jpeg:https://litwire.org/wp-content/uploads/2023/08/Esoterotica_AllWays-Lounge-Website-e1690940349571.jpg
END:VEVENT
BEGIN:VEVENT
DTSTART;TZID=America/Chicago:20261216T210000
DTEND;TZID=America/Chicago:20261216T233000
DTSTAMP:20260423T180609
CREATED:20230802T021019Z
LAST-MODIFIED:20240309T172257Z
UID:10001667-1797454800-1797463800@litwire.org
SUMMARY:Poets on Poets
DESCRIPTION:Café Istanbul presents Poets on Poets every Wednesday 10:00 pm – 2:00 am.\n\nDoors open for 9:00 pm.\n\n$5 drinks all night long.
URL:https://litwire.org/event/poets-on-poets/2026-12-16/
LOCATION:Cafe Istanbul\, 2372 St Claude Ave\, New Orleans\, LA\, 70117\, United States
CATEGORIES:Open Mic,Poetry
ATTACH;FMTTYPE=image/jpeg:https://litwire.org/wp-content/uploads/2023/08/poets-on-poets.jpg
END:VEVENT
BEGIN:VEVENT
DTSTART;TZID=America/Chicago:20261217T200000
DTEND;TZID=America/Chicago:20261217T223000
DTSTAMP:20260423T180609
CREATED:20250806T182910Z
LAST-MODIFIED:20250806T182910Z
UID:10004553-1797537600-1797546600@litwire.org
SUMMARY:The Magic Mic
DESCRIPTION:7 minutes of magic on the mic. Show us your magic\, share in the magic of others. Tell your tales\, share your songs\, make music\, melodies and memories with us. ALL ACTs OPEN! Starts at 8pm every Thursday at Poor Boys!
URL:https://litwire.org/event/the-magic-mic/2026-12-17/
LOCATION:Poor Boys Bar\, 1328 St Bernard Ave\, New Orleans\, L\, 70116\, United States
CATEGORIES:Conversation,Erotica,Flash Fiction,In-Person,Non-Fiction,Open Mic,Poetry,Poetry Slam,Q&A,Slam,Spoken Word,Story Slam,Storytelling,Talk
ATTACH;FMTTYPE=image/jpeg:https://litwire.org/wp-content/uploads/2025/08/music.jpg
ORGANIZER;CN="Flavius":MAILTO:flaviusbentley@gmail.com
END:VEVENT
BEGIN:VEVENT
DTSTART;TZID=America/Chicago:20261218T183000
DTEND;TZID=America/Chicago:20261218T210000
DTSTAMP:20260423T180609
CREATED:20240826T214326Z
LAST-MODIFIED:20240826T214326Z
UID:10003820-1797618600-1797627600@litwire.org
SUMMARY:Poetry and Espresso
DESCRIPTION:Every THIRD Friday of each month\, Roots Plants + Coffee\, 124 Erlanger Avenue\, Slidell\, presents Poetry & Espresso. Dennis Formento hosts. 6:30 sign in\, 7:00 begin. Poets & musicians welcome. Free!
URL:https://litwire.org/event/poetry-and-espresso-2/2026-12-18/
LOCATION:L
CATEGORIES:Poetry
ATTACH;FMTTYPE=image/jpeg:https://litwire.org/wp-content/uploads/2024/08/IMG_0870-ROOTS-sign.jpeg
END:VEVENT
BEGIN:VEVENT
DTSTART;TZID=America/Chicago:20261223T210000
DTEND;TZID=America/Chicago:20261223T233000
DTSTAMP:20260423T180609
CREATED:20230802T021019Z
LAST-MODIFIED:20240309T172257Z
UID:10001668-1798059600-1798068600@litwire.org
SUMMARY:Poets on Poets
DESCRIPTION:Café Istanbul presents Poets on Poets every Wednesday 10:00 pm – 2:00 am.\n\nDoors open for 9:00 pm.\n\n$5 drinks all night long.
URL:https://litwire.org/event/poets-on-poets/2026-12-23/
LOCATION:Cafe Istanbul\, 2372 St Claude Ave\, New Orleans\, LA\, 70117\, United States
CATEGORIES:Open Mic,Poetry
ATTACH;FMTTYPE=image/jpeg:https://litwire.org/wp-content/uploads/2023/08/poets-on-poets.jpg
END:VEVENT
BEGIN:VEVENT
DTSTART;TZID=America/Chicago:20261224T200000
DTEND;TZID=America/Chicago:20261224T223000
DTSTAMP:20260423T180609
CREATED:20250806T182910Z
LAST-MODIFIED:20250806T182910Z
UID:10004554-1798142400-1798151400@litwire.org
SUMMARY:The Magic Mic
DESCRIPTION:7 minutes of magic on the mic. Show us your magic\, share in the magic of others. Tell your tales\, share your songs\, make music\, melodies and memories with us. ALL ACTs OPEN! Starts at 8pm every Thursday at Poor Boys!
URL:https://litwire.org/event/the-magic-mic/2026-12-24/
LOCATION:Poor Boys Bar\, 1328 St Bernard Ave\, New Orleans\, L\, 70116\, United States
CATEGORIES:Conversation,Erotica,Flash Fiction,In-Person,Non-Fiction,Open Mic,Poetry,Poetry Slam,Q&A,Slam,Spoken Word,Story Slam,Storytelling,Talk
ATTACH;FMTTYPE=image/jpeg:https://litwire.org/wp-content/uploads/2025/08/music.jpg
ORGANIZER;CN="Flavius":MAILTO:flaviusbentley@gmail.com
END:VEVENT
BEGIN:VEVENT
DTSTART;TZID=America/Chicago:20261225T190000
DTEND;TZID=America/Chicago:20261225T210000
DTSTAMP:20260423T180609
CREATED:20230804T203009Z
LAST-MODIFIED:20230804T203009Z
UID:10001806-1798225200-1798232400@litwire.org
SUMMARY:Poetry and Espresso
DESCRIPTION:Poetry open mic with featured musicians\, on the last Friday of every month. Solo musicians are also invited to play the open mic. Free admission. Please arrive early if you want to perform. \nFive minute limit for poets. Seven to ten minutes for music open-mic singers and musicians. \nPlease arrive early to sign in!
URL:https://litwire.org/event/poetry-and-espresso/2026-12-25/
LOCATION:Roots Plants and Coffee\, 124 B Erlanger Avenue\, Slidell\, LA\, 70458\, United States
CATEGORIES:Open Mic,Poetry
ATTACH;FMTTYPE=image/jpeg:https://litwire.org/wp-content/uploads/2023/08/IMG_8029-scaled.jpeg
ORGANIZER;CN="Dennis Formento":MAILTO:mesechabe@hotmail.com
END:VEVENT
BEGIN:VEVENT
DTSTART;TZID=America/Chicago:20261230T210000
DTEND;TZID=America/Chicago:20261230T230000
DTSTAMP:20260423T180609
CREATED:20230802T014515Z
LAST-MODIFIED:20230802T014515Z
UID:10001449-1798664400-1798671600@litwire.org
SUMMARY:Esoterotica: Original Erotic Readings by Local Writers
DESCRIPTION:Every Other Wednesday at The AllWays Lounge & Cabaret 2240 St. Claude Ave. NOLA\n21 & Up\, $5 at the Door\, ID’s & Proof of Vaxx Required \nWe Strive to Create an Inclusive & Safe Space for Our Audience & Provocateurs.\nNo Matter Who You Are\, What You Desire\, or Whom You Love\, All Are Welcome \nEsoterotica is a revolving cast of local\, New Orleans area\, provocateurs reading and performing original erotica live\, on stage. Including poetry\, flash fiction\, spoken word\, sexy confessions\, and more\, each show is different\, often showcasing line-ups of new writing\, never heard before. \nLife’s pleasures are a sensory experience\, let us delight your imagination and provoke your desires in a variety of styles for your variety of persuasions.  Follow Us on Facebook and Instagram @Esoterotica NOLA. \nDo You have Something to Share? Email Us to Submit Your Original Erotica or Get More Information & Guidelines at info@esoterotica.com
URL:https://litwire.org/event/esoterotica-original-erotic-readings-by-local-writers/2026-12-30/
LOCATION:The AllWays Lounge\, 2240 St. Claude Ave.\, New Orleans\, LA\, 70117\, United States
CATEGORIES:Erotica,Flash Fiction,Open Mic,Poetry,Spoken Word
ATTACH;FMTTYPE=image/jpeg:https://litwire.org/wp-content/uploads/2023/08/Esoterotica_AllWays-Lounge-Website-e1690940349571.jpg
END:VEVENT
BEGIN:VEVENT
DTSTART;TZID=America/Chicago:20261230T210000
DTEND;TZID=America/Chicago:20261230T233000
DTSTAMP:20260423T180609
CREATED:20230802T021019Z
LAST-MODIFIED:20240309T172257Z
UID:10001669-1798664400-1798673400@litwire.org
SUMMARY:Poets on Poets
DESCRIPTION:Café Istanbul presents Poets on Poets every Wednesday 10:00 pm – 2:00 am.\n\nDoors open for 9:00 pm.\n\n$5 drinks all night long.
URL:https://litwire.org/event/poets-on-poets/2026-12-30/
LOCATION:Cafe Istanbul\, 2372 St Claude Ave\, New Orleans\, LA\, 70117\, United States
CATEGORIES:Open Mic,Poetry
ATTACH;FMTTYPE=image/jpeg:https://litwire.org/wp-content/uploads/2023/08/poets-on-poets.jpg
END:VEVENT
BEGIN:VEVENT
DTSTART;TZID=America/Chicago:20261231T200000
DTEND;TZID=America/Chicago:20261231T223000
DTSTAMP:20260423T180609
CREATED:20250806T182910Z
LAST-MODIFIED:20250806T182910Z
UID:10004555-1798747200-1798756200@litwire.org
SUMMARY:The Magic Mic
DESCRIPTION:7 minutes of magic on the mic. Show us your magic\, share in the magic of others. Tell your tales\, share your songs\, make music\, melodies and memories with us. ALL ACTs OPEN! Starts at 8pm every Thursday at Poor Boys!
URL:https://litwire.org/event/the-magic-mic/2026-12-31/
LOCATION:Poor Boys Bar\, 1328 St Bernard Ave\, New Orleans\, L\, 70116\, United States
CATEGORIES:Conversation,Erotica,Flash Fiction,In-Person,Non-Fiction,Open Mic,Poetry,Poetry Slam,Q&A,Slam,Spoken Word,Story Slam,Storytelling,Talk
ATTACH;FMTTYPE=image/jpeg:https://litwire.org/wp-content/uploads/2025/08/music.jpg
ORGANIZER;CN="Flavius":MAILTO:flaviusbentley@gmail.com
END:VEVENT
BEGIN:VEVENT
DTSTART;TZID=America/Chicago:20270106T210000
DTEND;TZID=America/Chicago:20270106T233000
DTSTAMP:20260423T180609
CREATED:20230802T021019Z
LAST-MODIFIED:20240309T172257Z
UID:10001670-1799269200-1799278200@litwire.org
SUMMARY:Poets on Poets
DESCRIPTION:Café Istanbul presents Poets on Poets every Wednesday 10:00 pm – 2:00 am.\n\nDoors open for 9:00 pm.\n\n$5 drinks all night long.
URL:https://litwire.org/event/poets-on-poets/2027-01-06/
LOCATION:Cafe Istanbul\, 2372 St Claude Ave\, New Orleans\, LA\, 70117\, United States
CATEGORIES:Open Mic,Poetry
ATTACH;FMTTYPE=image/jpeg:https://litwire.org/wp-content/uploads/2023/08/poets-on-poets.jpg
END:VEVENT
BEGIN:VEVENT
DTSTART;TZID=America/Chicago:20270107T200000
DTEND;TZID=America/Chicago:20270107T223000
DTSTAMP:20260423T180609
CREATED:20250806T182910Z
LAST-MODIFIED:20250806T182910Z
UID:10004556-1799352000-1799361000@litwire.org
SUMMARY:The Magic Mic
DESCRIPTION:7 minutes of magic on the mic. Show us your magic\, share in the magic of others. Tell your tales\, share your songs\, make music\, melodies and memories with us. ALL ACTs OPEN! Starts at 8pm every Thursday at Poor Boys!
URL:https://litwire.org/event/the-magic-mic/2027-01-07/
LOCATION:Poor Boys Bar\, 1328 St Bernard Ave\, New Orleans\, L\, 70116\, United States
CATEGORIES:Conversation,Erotica,Flash Fiction,In-Person,Non-Fiction,Open Mic,Poetry,Poetry Slam,Q&A,Slam,Spoken Word,Story Slam,Storytelling,Talk
ATTACH;FMTTYPE=image/jpeg:https://litwire.org/wp-content/uploads/2025/08/music.jpg
ORGANIZER;CN="Flavius":MAILTO:flaviusbentley@gmail.com
END:VEVENT
BEGIN:VEVENT
DTSTART;TZID=America/Chicago:20270113T210000
DTEND;TZID=America/Chicago:20270113T230000
DTSTAMP:20260423T180609
CREATED:20230802T014515Z
LAST-MODIFIED:20230802T014515Z
UID:10001450-1799874000-1799881200@litwire.org
SUMMARY:Esoterotica: Original Erotic Readings by Local Writers
DESCRIPTION:Every Other Wednesday at The AllWays Lounge & Cabaret 2240 St. Claude Ave. NOLA\n21 & Up\, $5 at the Door\, ID’s & Proof of Vaxx Required \nWe Strive to Create an Inclusive & Safe Space for Our Audience & Provocateurs.\nNo Matter Who You Are\, What You Desire\, or Whom You Love\, All Are Welcome \nEsoterotica is a revolving cast of local\, New Orleans area\, provocateurs reading and performing original erotica live\, on stage. Including poetry\, flash fiction\, spoken word\, sexy confessions\, and more\, each show is different\, often showcasing line-ups of new writing\, never heard before. \nLife’s pleasures are a sensory experience\, let us delight your imagination and provoke your desires in a variety of styles for your variety of persuasions.  Follow Us on Facebook and Instagram @Esoterotica NOLA. \nDo You have Something to Share? Email Us to Submit Your Original Erotica or Get More Information & Guidelines at info@esoterotica.com
URL:https://litwire.org/event/esoterotica-original-erotic-readings-by-local-writers/2027-01-13/
LOCATION:The AllWays Lounge\, 2240 St. Claude Ave.\, New Orleans\, LA\, 70117\, United States
CATEGORIES:Erotica,Flash Fiction,Open Mic,Poetry,Spoken Word
ATTACH;FMTTYPE=image/jpeg:https://litwire.org/wp-content/uploads/2023/08/Esoterotica_AllWays-Lounge-Website-e1690940349571.jpg
END:VEVENT
BEGIN:VEVENT
DTSTART;TZID=America/Chicago:20270113T210000
DTEND;TZID=America/Chicago:20270113T233000
DTSTAMP:20260423T180609
CREATED:20230802T021019Z
LAST-MODIFIED:20240309T172257Z
UID:10001671-1799874000-1799883000@litwire.org
SUMMARY:Poets on Poets
DESCRIPTION:Café Istanbul presents Poets on Poets every Wednesday 10:00 pm – 2:00 am.\n\nDoors open for 9:00 pm.\n\n$5 drinks all night long.
URL:https://litwire.org/event/poets-on-poets/2027-01-13/
LOCATION:Cafe Istanbul\, 2372 St Claude Ave\, New Orleans\, LA\, 70117\, United States
CATEGORIES:Open Mic,Poetry
ATTACH;FMTTYPE=image/jpeg:https://litwire.org/wp-content/uploads/2023/08/poets-on-poets.jpg
END:VEVENT
BEGIN:VEVENT
DTSTART;TZID=America/Chicago:20270114T200000
DTEND;TZID=America/Chicago:20270114T223000
DTSTAMP:20260423T180609
CREATED:20250806T182910Z
LAST-MODIFIED:20250806T182910Z
UID:10004557-1799956800-1799965800@litwire.org
SUMMARY:The Magic Mic
DESCRIPTION:7 minutes of magic on the mic. Show us your magic\, share in the magic of others. Tell your tales\, share your songs\, make music\, melodies and memories with us. ALL ACTs OPEN! Starts at 8pm every Thursday at Poor Boys!
URL:https://litwire.org/event/the-magic-mic/2027-01-14/
LOCATION:Poor Boys Bar\, 1328 St Bernard Ave\, New Orleans\, L\, 70116\, United States
CATEGORIES:Conversation,Erotica,Flash Fiction,In-Person,Non-Fiction,Open Mic,Poetry,Poetry Slam,Q&A,Slam,Spoken Word,Story Slam,Storytelling,Talk
ATTACH;FMTTYPE=image/jpeg:https://litwire.org/wp-content/uploads/2025/08/music.jpg
ORGANIZER;CN="Flavius":MAILTO:flaviusbentley@gmail.com
END:VEVENT
BEGIN:VEVENT
DTSTART;TZID=America/Chicago:20270115T183000
DTEND;TZID=America/Chicago:20270115T210000
DTSTAMP:20260423T180609
CREATED:20240826T214326Z
LAST-MODIFIED:20240826T214326Z
UID:10003821-1800037800-1800046800@litwire.org
SUMMARY:Poetry and Espresso
DESCRIPTION:Every THIRD Friday of each month\, Roots Plants + Coffee\, 124 Erlanger Avenue\, Slidell\, presents Poetry & Espresso. Dennis Formento hosts. 6:30 sign in\, 7:00 begin. Poets & musicians welcome. Free!
URL:https://litwire.org/event/poetry-and-espresso-2/2027-01-15/
LOCATION:L
CATEGORIES:Poetry
ATTACH;FMTTYPE=image/jpeg:https://litwire.org/wp-content/uploads/2024/08/IMG_0870-ROOTS-sign.jpeg
END:VEVENT
BEGIN:VEVENT
DTSTART;TZID=America/Chicago:20270120T210000
DTEND;TZID=America/Chicago:20270120T233000
DTSTAMP:20260423T180609
CREATED:20230802T021019Z
LAST-MODIFIED:20240309T172257Z
UID:10001672-1800478800-1800487800@litwire.org
SUMMARY:Poets on Poets
DESCRIPTION:Café Istanbul presents Poets on Poets every Wednesday 10:00 pm – 2:00 am.\n\nDoors open for 9:00 pm.\n\n$5 drinks all night long.
URL:https://litwire.org/event/poets-on-poets/2027-01-20/
LOCATION:Cafe Istanbul\, 2372 St Claude Ave\, New Orleans\, LA\, 70117\, United States
CATEGORIES:Open Mic,Poetry
ATTACH;FMTTYPE=image/jpeg:https://litwire.org/wp-content/uploads/2023/08/poets-on-poets.jpg
END:VEVENT
BEGIN:VEVENT
DTSTART;TZID=America/Chicago:20270121T200000
DTEND;TZID=America/Chicago:20270121T223000
DTSTAMP:20260423T180609
CREATED:20250806T182910Z
LAST-MODIFIED:20250806T182910Z
UID:10004558-1800561600-1800570600@litwire.org
SUMMARY:The Magic Mic
DESCRIPTION:7 minutes of magic on the mic. Show us your magic\, share in the magic of others. Tell your tales\, share your songs\, make music\, melodies and memories with us. ALL ACTs OPEN! Starts at 8pm every Thursday at Poor Boys!
URL:https://litwire.org/event/the-magic-mic/2027-01-21/
LOCATION:Poor Boys Bar\, 1328 St Bernard Ave\, New Orleans\, L\, 70116\, United States
CATEGORIES:Conversation,Erotica,Flash Fiction,In-Person,Non-Fiction,Open Mic,Poetry,Poetry Slam,Q&A,Slam,Spoken Word,Story Slam,Storytelling,Talk
ATTACH;FMTTYPE=image/jpeg:https://litwire.org/wp-content/uploads/2025/08/music.jpg
ORGANIZER;CN="Flavius":MAILTO:flaviusbentley@gmail.com
END:VEVENT
BEGIN:VEVENT
DTSTART;TZID=America/Chicago:20270127T210000
DTEND;TZID=America/Chicago:20270127T230000
DTSTAMP:20260423T180609
CREATED:20230802T014515Z
LAST-MODIFIED:20230802T014515Z
UID:10001451-1801083600-1801090800@litwire.org
SUMMARY:Esoterotica: Original Erotic Readings by Local Writers
DESCRIPTION:Every Other Wednesday at The AllWays Lounge & Cabaret 2240 St. Claude Ave. NOLA\n21 & Up\, $5 at the Door\, ID’s & Proof of Vaxx Required \nWe Strive to Create an Inclusive & Safe Space for Our Audience & Provocateurs.\nNo Matter Who You Are\, What You Desire\, or Whom You Love\, All Are Welcome \nEsoterotica is a revolving cast of local\, New Orleans area\, provocateurs reading and performing original erotica live\, on stage. Including poetry\, flash fiction\, spoken word\, sexy confessions\, and more\, each show is different\, often showcasing line-ups of new writing\, never heard before. \nLife’s pleasures are a sensory experience\, let us delight your imagination and provoke your desires in a variety of styles for your variety of persuasions.  Follow Us on Facebook and Instagram @Esoterotica NOLA. \nDo You have Something to Share? Email Us to Submit Your Original Erotica or Get More Information & Guidelines at info@esoterotica.com
URL:https://litwire.org/event/esoterotica-original-erotic-readings-by-local-writers/2027-01-27/
LOCATION:The AllWays Lounge\, 2240 St. Claude Ave.\, New Orleans\, LA\, 70117\, United States
CATEGORIES:Erotica,Flash Fiction,Open Mic,Poetry,Spoken Word
ATTACH;FMTTYPE=image/jpeg:https://litwire.org/wp-content/uploads/2023/08/Esoterotica_AllWays-Lounge-Website-e1690940349571.jpg
END:VEVENT
BEGIN:VEVENT
DTSTART;TZID=America/Chicago:20270127T210000
DTEND;TZID=America/Chicago:20270127T233000
DTSTAMP:20260423T180609
CREATED:20230802T021019Z
LAST-MODIFIED:20240309T172257Z
UID:10001673-1801083600-1801092600@litwire.org
SUMMARY:Poets on Poets
DESCRIPTION:Café Istanbul presents Poets on Poets every Wednesday 10:00 pm – 2:00 am.\n\nDoors open for 9:00 pm.\n\n$5 drinks all night long.
URL:https://litwire.org/event/poets-on-poets/2027-01-27/
LOCATION:Cafe Istanbul\, 2372 St Claude Ave\, New Orleans\, LA\, 70117\, United States
CATEGORIES:Open Mic,Poetry
ATTACH;FMTTYPE=image/jpeg:https://litwire.org/wp-content/uploads/2023/08/poets-on-poets.jpg
END:VEVENT
BEGIN:VEVENT
DTSTART;TZID=America/Chicago:20270128T200000
DTEND;TZID=America/Chicago:20270128T223000
DTSTAMP:20260423T180609
CREATED:20250806T182910Z
LAST-MODIFIED:20250806T182910Z
UID:10004559-1801166400-1801175400@litwire.org
SUMMARY:The Magic Mic
DESCRIPTION:7 minutes of magic on the mic. Show us your magic\, share in the magic of others. Tell your tales\, share your songs\, make music\, melodies and memories with us. ALL ACTs OPEN! Starts at 8pm every Thursday at Poor Boys!
URL:https://litwire.org/event/the-magic-mic/2027-01-28/
LOCATION:Poor Boys Bar\, 1328 St Bernard Ave\, New Orleans\, L\, 70116\, United States
CATEGORIES:Conversation,Erotica,Flash Fiction,In-Person,Non-Fiction,Open Mic,Poetry,Poetry Slam,Q&A,Slam,Spoken Word,Story Slam,Storytelling,Talk
ATTACH;FMTTYPE=image/jpeg:https://litwire.org/wp-content/uploads/2025/08/music.jpg
ORGANIZER;CN="Flavius":MAILTO:flaviusbentley@gmail.com
END:VEVENT
BEGIN:VEVENT
DTSTART;TZID=America/Chicago:20270129T190000
DTEND;TZID=America/Chicago:20270129T210000
DTSTAMP:20260423T180609
CREATED:20230804T203009Z
LAST-MODIFIED:20230804T203009Z
UID:10001807-1801249200-1801256400@litwire.org
SUMMARY:Poetry and Espresso
DESCRIPTION:Poetry open mic with featured musicians\, on the last Friday of every month. Solo musicians are also invited to play the open mic. Free admission. Please arrive early if you want to perform. \nFive minute limit for poets. Seven to ten minutes for music open-mic singers and musicians. \nPlease arrive early to sign in!
URL:https://litwire.org/event/poetry-and-espresso/2027-01-29/
LOCATION:Roots Plants and Coffee\, 124 B Erlanger Avenue\, Slidell\, LA\, 70458\, United States
CATEGORIES:Open Mic,Poetry
ATTACH;FMTTYPE=image/jpeg:https://litwire.org/wp-content/uploads/2023/08/IMG_8029-scaled.jpeg
ORGANIZER;CN="Dennis Formento":MAILTO:mesechabe@hotmail.com
END:VEVENT
BEGIN:VEVENT
DTSTART;TZID=America/Chicago:20270203T210000
DTEND;TZID=America/Chicago:20270203T233000
DTSTAMP:20260423T180609
CREATED:20230802T021019Z
LAST-MODIFIED:20240309T172257Z
UID:10001674-1801688400-1801697400@litwire.org
SUMMARY:Poets on Poets
DESCRIPTION:Café Istanbul presents Poets on Poets every Wednesday 10:00 pm – 2:00 am.\n\nDoors open for 9:00 pm.\n\n$5 drinks all night long.
URL:https://litwire.org/event/poets-on-poets/2027-02-03/
LOCATION:Cafe Istanbul\, 2372 St Claude Ave\, New Orleans\, LA\, 70117\, United States
CATEGORIES:Open Mic,Poetry
ATTACH;FMTTYPE=image/jpeg:https://litwire.org/wp-content/uploads/2023/08/poets-on-poets.jpg
END:VEVENT
BEGIN:VEVENT
DTSTART;TZID=America/Chicago:20270204T200000
DTEND;TZID=America/Chicago:20270204T223000
DTSTAMP:20260423T180609
CREATED:20250806T182910Z
LAST-MODIFIED:20250806T182910Z
UID:10004560-1801771200-1801780200@litwire.org
SUMMARY:The Magic Mic
DESCRIPTION:7 minutes of magic on the mic. Show us your magic\, share in the magic of others. Tell your tales\, share your songs\, make music\, melodies and memories with us. ALL ACTs OPEN! Starts at 8pm every Thursday at Poor Boys!
URL:https://litwire.org/event/the-magic-mic/2027-02-04/
LOCATION:Poor Boys Bar\, 1328 St Bernard Ave\, New Orleans\, L\, 70116\, United States
CATEGORIES:Conversation,Erotica,Flash Fiction,In-Person,Non-Fiction,Open Mic,Poetry,Poetry Slam,Q&A,Slam,Spoken Word,Story Slam,Storytelling,Talk
ATTACH;FMTTYPE=image/jpeg:https://litwire.org/wp-content/uploads/2025/08/music.jpg
ORGANIZER;CN="Flavius":MAILTO:flaviusbentley@gmail.com
END:VEVENT
BEGIN:VEVENT
DTSTART;TZID=America/Chicago:20270210T210000
DTEND;TZID=America/Chicago:20270210T230000
DTSTAMP:20260423T180609
CREATED:20230802T014515Z
LAST-MODIFIED:20230802T014515Z
UID:10001452-1802293200-1802300400@litwire.org
SUMMARY:Esoterotica: Original Erotic Readings by Local Writers
DESCRIPTION:Every Other Wednesday at The AllWays Lounge & Cabaret 2240 St. Claude Ave. NOLA\n21 & Up\, $5 at the Door\, ID’s & Proof of Vaxx Required \nWe Strive to Create an Inclusive & Safe Space for Our Audience & Provocateurs.\nNo Matter Who You Are\, What You Desire\, or Whom You Love\, All Are Welcome \nEsoterotica is a revolving cast of local\, New Orleans area\, provocateurs reading and performing original erotica live\, on stage. Including poetry\, flash fiction\, spoken word\, sexy confessions\, and more\, each show is different\, often showcasing line-ups of new writing\, never heard before. \nLife’s pleasures are a sensory experience\, let us delight your imagination and provoke your desires in a variety of styles for your variety of persuasions.  Follow Us on Facebook and Instagram @Esoterotica NOLA. \nDo You have Something to Share? Email Us to Submit Your Original Erotica or Get More Information & Guidelines at info@esoterotica.com
URL:https://litwire.org/event/esoterotica-original-erotic-readings-by-local-writers/2027-02-10/
LOCATION:The AllWays Lounge\, 2240 St. Claude Ave.\, New Orleans\, LA\, 70117\, United States
CATEGORIES:Erotica,Flash Fiction,Open Mic,Poetry,Spoken Word
ATTACH;FMTTYPE=image/jpeg:https://litwire.org/wp-content/uploads/2023/08/Esoterotica_AllWays-Lounge-Website-e1690940349571.jpg
END:VEVENT
BEGIN:VEVENT
DTSTART;TZID=America/Chicago:20270210T210000
DTEND;TZID=America/Chicago:20270210T233000
DTSTAMP:20260423T180609
CREATED:20230802T021019Z
LAST-MODIFIED:20240309T172257Z
UID:10001675-1802293200-1802302200@litwire.org
SUMMARY:Poets on Poets
DESCRIPTION:Café Istanbul presents Poets on Poets every Wednesday 10:00 pm – 2:00 am.\n\nDoors open for 9:00 pm.\n\n$5 drinks all night long.
URL:https://litwire.org/event/poets-on-poets/2027-02-10/
LOCATION:Cafe Istanbul\, 2372 St Claude Ave\, New Orleans\, LA\, 70117\, United States
CATEGORIES:Open Mic,Poetry
ATTACH;FMTTYPE=image/jpeg:https://litwire.org/wp-content/uploads/2023/08/poets-on-poets.jpg
END:VEVENT
BEGIN:VEVENT
DTSTART;TZID=America/Chicago:20270211T200000
DTEND;TZID=America/Chicago:20270211T223000
DTSTAMP:20260423T180609
CREATED:20250806T182910Z
LAST-MODIFIED:20250806T182910Z
UID:10004561-1802376000-1802385000@litwire.org
SUMMARY:The Magic Mic
DESCRIPTION:7 minutes of magic on the mic. Show us your magic\, share in the magic of others. Tell your tales\, share your songs\, make music\, melodies and memories with us. ALL ACTs OPEN! Starts at 8pm every Thursday at Poor Boys!
URL:https://litwire.org/event/the-magic-mic/2027-02-11/
LOCATION:Poor Boys Bar\, 1328 St Bernard Ave\, New Orleans\, L\, 70116\, United States
CATEGORIES:Conversation,Erotica,Flash Fiction,In-Person,Non-Fiction,Open Mic,Poetry,Poetry Slam,Q&A,Slam,Spoken Word,Story Slam,Storytelling,Talk
ATTACH;FMTTYPE=image/jpeg:https://litwire.org/wp-content/uploads/2025/08/music.jpg
ORGANIZER;CN="Flavius":MAILTO:flaviusbentley@gmail.com
END:VEVENT
BEGIN:VEVENT
DTSTART;TZID=America/Chicago:20270217T210000
DTEND;TZID=America/Chicago:20270217T233000
DTSTAMP:20260423T180609
CREATED:20230802T021019Z
LAST-MODIFIED:20240309T172257Z
UID:10001676-1802898000-1802907000@litwire.org
SUMMARY:Poets on Poets
DESCRIPTION:Café Istanbul presents Poets on Poets every Wednesday 10:00 pm – 2:00 am.\n\nDoors open for 9:00 pm.\n\n$5 drinks all night long.
URL:https://litwire.org/event/poets-on-poets/2027-02-17/
LOCATION:Cafe Istanbul\, 2372 St Claude Ave\, New Orleans\, LA\, 70117\, United States
CATEGORIES:Open Mic,Poetry
ATTACH;FMTTYPE=image/jpeg:https://litwire.org/wp-content/uploads/2023/08/poets-on-poets.jpg
END:VEVENT
BEGIN:VEVENT
DTSTART;TZID=America/Chicago:20270218T200000
DTEND;TZID=America/Chicago:20270218T223000
DTSTAMP:20260423T180609
CREATED:20250806T182910Z
LAST-MODIFIED:20250806T182910Z
UID:10004562-1802980800-1802989800@litwire.org
SUMMARY:The Magic Mic
DESCRIPTION:7 minutes of magic on the mic. Show us your magic\, share in the magic of others. Tell your tales\, share your songs\, make music\, melodies and memories with us. ALL ACTs OPEN! Starts at 8pm every Thursday at Poor Boys!
URL:https://litwire.org/event/the-magic-mic/2027-02-18/
LOCATION:Poor Boys Bar\, 1328 St Bernard Ave\, New Orleans\, L\, 70116\, United States
CATEGORIES:Conversation,Erotica,Flash Fiction,In-Person,Non-Fiction,Open Mic,Poetry,Poetry Slam,Q&A,Slam,Spoken Word,Story Slam,Storytelling,Talk
ATTACH;FMTTYPE=image/jpeg:https://litwire.org/wp-content/uploads/2025/08/music.jpg
ORGANIZER;CN="Flavius":MAILTO:flaviusbentley@gmail.com
END:VEVENT
BEGIN:VEVENT
DTSTART;TZID=America/Chicago:20270219T183000
DTEND;TZID=America/Chicago:20270219T210000
DTSTAMP:20260423T180609
CREATED:20240826T214326Z
LAST-MODIFIED:20240826T214326Z
UID:10003822-1803061800-1803070800@litwire.org
SUMMARY:Poetry and Espresso
DESCRIPTION:Every THIRD Friday of each month\, Roots Plants + Coffee\, 124 Erlanger Avenue\, Slidell\, presents Poetry & Espresso. Dennis Formento hosts. 6:30 sign in\, 7:00 begin. Poets & musicians welcome. Free!
URL:https://litwire.org/event/poetry-and-espresso-2/2027-02-19/
LOCATION:L
CATEGORIES:Poetry
ATTACH;FMTTYPE=image/jpeg:https://litwire.org/wp-content/uploads/2024/08/IMG_0870-ROOTS-sign.jpeg
END:VEVENT
END:VCALENDAR