BEGIN:VCALENDAR
VERSION:2.0
PRODID:-//LitWire - ECPv6.15.20//NONSGML v1.0//EN
CALSCALE:GREGORIAN
METHOD:PUBLISH
X-WR-CALNAME:LitWire
X-ORIGINAL-URL:https://litwire.org
X-WR-CALDESC:Events for LitWire
REFRESH-INTERVAL;VALUE=DURATION:PT1H
X-Robots-Tag:noindex
X-PUBLISHED-TTL:PT1H
BEGIN:VTIMEZONE
TZID:America/Chicago
BEGIN:DAYLIGHT
TZOFFSETFROM:-0600
TZOFFSETTO:-0500
TZNAME:CDT
DTSTART:20250309T080000
END:DAYLIGHT
BEGIN:STANDARD
TZOFFSETFROM:-0500
TZOFFSETTO:-0600
TZNAME:CST
DTSTART:20251102T070000
END:STANDARD
BEGIN:DAYLIGHT
TZOFFSETFROM:-0600
TZOFFSETTO:-0500
TZNAME:CDT
DTSTART:20260308T080000
END:DAYLIGHT
BEGIN:STANDARD
TZOFFSETFROM:-0500
TZOFFSETTO:-0600
TZNAME:CST
DTSTART:20261101T070000
END:STANDARD
BEGIN:DAYLIGHT
TZOFFSETFROM:-0600
TZOFFSETTO:-0500
TZNAME:CDT
DTSTART:20270314T080000
END:DAYLIGHT
BEGIN:STANDARD
TZOFFSETFROM:-0500
TZOFFSETTO:-0600
TZNAME:CST
DTSTART:20271107T070000
END:STANDARD
END:VTIMEZONE
BEGIN:VEVENT
DTSTART;TZID=America/Chicago:20260424T190000
DTEND;TZID=America/Chicago:20260424T210000
DTSTAMP:20260423T131042
CREATED:20230804T203009Z
LAST-MODIFIED:20230804T203009Z
UID:10001798-1777057200-1777064400@litwire.org
SUMMARY:Poetry and Espresso
DESCRIPTION:Poetry open mic with featured musicians\, on the last Friday of every month. Solo musicians are also invited to play the open mic. Free admission. Please arrive early if you want to perform. \nFive minute limit for poets. Seven to ten minutes for music open-mic singers and musicians. \nPlease arrive early to sign in!
URL:https://litwire.org/event/poetry-and-espresso/2026-04-24/
LOCATION:Roots Plants and Coffee\, 124 B Erlanger Avenue\, Slidell\, LA\, 70458\, United States
CATEGORIES:Open Mic,Poetry
ATTACH;FMTTYPE=image/jpeg:https://litwire.org/wp-content/uploads/2023/08/IMG_8029-scaled.jpeg
ORGANIZER;CN="Dennis Formento":MAILTO:mesechabe@hotmail.com
END:VEVENT
END:VCALENDAR