BEGIN:VCALENDAR
VERSION:2.0
PRODID:-//LitWire - ECPv6.15.20//NONSGML v1.0//EN
CALSCALE:GREGORIAN
METHOD:PUBLISH
X-WR-CALNAME:LitWire
X-ORIGINAL-URL:https://litwire.org
X-WR-CALDESC:Events for LitWire
REFRESH-INTERVAL;VALUE=DURATION:PT1H
X-Robots-Tag:noindex
X-PUBLISHED-TTL:PT1H
BEGIN:VTIMEZONE
TZID:America/Chicago
BEGIN:DAYLIGHT
TZOFFSETFROM:-0600
TZOFFSETTO:-0500
TZNAME:CDT
DTSTART:20250309T080000
END:DAYLIGHT
BEGIN:STANDARD
TZOFFSETFROM:-0500
TZOFFSETTO:-0600
TZNAME:CST
DTSTART:20251102T070000
END:STANDARD
BEGIN:DAYLIGHT
TZOFFSETFROM:-0600
TZOFFSETTO:-0500
TZNAME:CDT
DTSTART:20260308T080000
END:DAYLIGHT
BEGIN:STANDARD
TZOFFSETFROM:-0500
TZOFFSETTO:-0600
TZNAME:CST
DTSTART:20261101T070000
END:STANDARD
BEGIN:DAYLIGHT
TZOFFSETFROM:-0600
TZOFFSETTO:-0500
TZNAME:CDT
DTSTART:20270314T080000
END:DAYLIGHT
BEGIN:STANDARD
TZOFFSETFROM:-0500
TZOFFSETTO:-0600
TZNAME:CST
DTSTART:20271107T070000
END:STANDARD
END:VTIMEZONE
BEGIN:VEVENT
DTSTART;TZID=America/Chicago:20260412T140000
DTEND;TZID=America/Chicago:20260412T150000
DTSTAMP:20260423T180257
CREATED:20260317T205348Z
LAST-MODIFIED:20260317T205348Z
UID:10005036-1776002400-1776006000@litwire.org
SUMMARY:Silver Room w/ Gus Berg and Bracken LeClair
DESCRIPTION:Silver Room is an online reading series for members of the University of New Orleans Creative Writing MFA community. We welcome anyone to join us in our virtual space for readings of poetry\, prose\, plays\, and more. \nReaders for April 12: \nGus Berg\nGus Berg is a New Orleans based writer from a disappearing town in Minnesota by way of San Francisco. His fiction\, nonfiction\, reviews\, and poetry have appeared in publications like Zyzzyva\, BuzzFeed\, Circles Magazine\, Ellipsis\, Writing for a Real World\, LMNL\, and others. Gus is a third-year fiction student in the Creative Writing Workshop at UNO\, where he serves as the Senior Associate Fiction Editor of Bayou Magazine\, emcees and co-organizes the Gold Room reading series\, and convinces first year writing students to stop using ChatGPT. \nBracken LeClair\nBracken LeClair (he/him\, they/them) is a trans poet thinking about angels. Their work focuses around queer issues\, trans and aspec experiences\, and religion\, and hopes to recenter the conventional perspective around love. They are currently in the process of earning their MFA in creative writing at UNO.
URL:https://litwire.org/event/silver-room-w-gus-berg-and-bracken-leclair/
LOCATION:Online
CATEGORIES:Fiction,Interview,Online,Podcast,Poetry
ATTACH;FMTTYPE=image/png:https://litwire.org/wp-content/uploads/2026/03/260412-April-2026.png
ORGANIZER;CN="UNO Silver Room":MAILTO:cwwsilverroom@gmail.com
END:VEVENT
END:VCALENDAR