BEGIN:VCALENDAR
VERSION:2.0
PRODID:-//LitWire - ECPv6.15.20//NONSGML v1.0//EN
CALSCALE:GREGORIAN
METHOD:PUBLISH
X-WR-CALNAME:LitWire
X-ORIGINAL-URL:https://litwire.org
X-WR-CALDESC:Events for LitWire
REFRESH-INTERVAL;VALUE=DURATION:PT1H
X-Robots-Tag:noindex
X-PUBLISHED-TTL:PT1H
BEGIN:VTIMEZONE
TZID:America/Chicago
BEGIN:DAYLIGHT
TZOFFSETFROM:-0600
TZOFFSETTO:-0500
TZNAME:CDT
DTSTART:20250309T080000
END:DAYLIGHT
BEGIN:STANDARD
TZOFFSETFROM:-0500
TZOFFSETTO:-0600
TZNAME:CST
DTSTART:20251102T070000
END:STANDARD
BEGIN:DAYLIGHT
TZOFFSETFROM:-0600
TZOFFSETTO:-0500
TZNAME:CDT
DTSTART:20260308T080000
END:DAYLIGHT
BEGIN:STANDARD
TZOFFSETFROM:-0500
TZOFFSETTO:-0600
TZNAME:CST
DTSTART:20261101T070000
END:STANDARD
BEGIN:DAYLIGHT
TZOFFSETFROM:-0600
TZOFFSETTO:-0500
TZNAME:CDT
DTSTART:20270314T080000
END:DAYLIGHT
BEGIN:STANDARD
TZOFFSETFROM:-0500
TZOFFSETTO:-0600
TZNAME:CST
DTSTART:20271107T070000
END:STANDARD
END:VTIMEZONE
BEGIN:VEVENT
DTSTART;TZID=America/Chicago:20260518T180000
DTEND;TZID=America/Chicago:20260518T200000
DTSTAMP:20260423T180226
CREATED:20260423T170345Z
LAST-MODIFIED:20260423T170345Z
UID:10005079-1779127200-1779134400@litwire.org
SUMMARY:What's Past is Prologue: Writing Historical Fiction
DESCRIPTION:Third Lantern Lit in partnership with New Orleans Writers Workshop \nPanel guests: Elisa Speranza & Allison Alsup \n\n\n\n\nThoughts of penning an historical narrative can overwhelm. Where to begin? How to research? When to stop researching and start writing? \nJoin New Orleans Writers Workshop co-founder and developmental editor Allison Alsup (author of Foreign Seed)\, and book publicity consultant Elisa M. Speranza (author of Triage and The Italian Prisoner) as they share the good\, the bad\, and the ugly  of their journeys writing historical novels. They’ll dive into the most common challenges historical fiction writers face—as well as strategies for overcoming them.\nThis session is designed for new and experienced writers alike as well as curious fans of historical fiction. \nCopies of Allison’s and Elisa’s novels will be available for purchase and signing. \nThis event is free and open to the community. No RSVP required.
URL:https://litwire.org/event/whats-past-is-prologue-writing-historical-fiction/
LOCATION:Garden District Book Shop\, 2727 Prytania St Suite 14\, New Orleans\, LA\, 70130\, United States
CATEGORIES:Conversation,Fiction,Talk
ATTACH;FMTTYPE=image/png:https://litwire.org/wp-content/uploads/2026/04/Foreign-Seed-Triage.png
ORGANIZER;CN="New Orleans Writers Workshop":MAILTO:jessica@neworleanswriters.com
END:VEVENT
END:VCALENDAR