BEGIN:VCALENDAR
VERSION:2.0
PRODID:-//LitWire - ECPv6.15.20//NONSGML v1.0//EN
CALSCALE:GREGORIAN
METHOD:PUBLISH
X-WR-CALNAME:LitWire
X-ORIGINAL-URL:https://litwire.org
X-WR-CALDESC:Events for LitWire
REFRESH-INTERVAL;VALUE=DURATION:PT1H
X-Robots-Tag:noindex
X-PUBLISHED-TTL:PT1H
BEGIN:VTIMEZONE
TZID:America/Chicago
BEGIN:DAYLIGHT
TZOFFSETFROM:-0600
TZOFFSETTO:-0500
TZNAME:CDT
DTSTART:20250309T080000
END:DAYLIGHT
BEGIN:STANDARD
TZOFFSETFROM:-0500
TZOFFSETTO:-0600
TZNAME:CST
DTSTART:20251102T070000
END:STANDARD
BEGIN:DAYLIGHT
TZOFFSETFROM:-0600
TZOFFSETTO:-0500
TZNAME:CDT
DTSTART:20260308T080000
END:DAYLIGHT
BEGIN:STANDARD
TZOFFSETFROM:-0500
TZOFFSETTO:-0600
TZNAME:CST
DTSTART:20261101T070000
END:STANDARD
BEGIN:DAYLIGHT
TZOFFSETFROM:-0600
TZOFFSETTO:-0500
TZNAME:CDT
DTSTART:20270314T080000
END:DAYLIGHT
BEGIN:STANDARD
TZOFFSETFROM:-0500
TZOFFSETTO:-0600
TZNAME:CST
DTSTART:20271107T070000
END:STANDARD
END:VTIMEZONE
BEGIN:VEVENT
DTSTART;TZID=America/Chicago:20260514T180000
DTEND;TZID=America/Chicago:20260514T193000
DTSTAMP:20260423T113717
CREATED:20260419T203919Z
LAST-MODIFIED:20260419T203919Z
UID:10005074-1778781600-1778787000@litwire.org
SUMMARY:Book Launch for TRIAGE by Elisa M. Speranza
DESCRIPTION:Please join Elisa M. Speranza to celebrate the launch of her second novel\, TRIAGE. Conversation with Allison Alsup\, author of FOREIGN SEED and Creative Director of the New Orleans Writers Workshop. Discussion and short reading\, followed by a book signing. PREORDER NOW from Octavia Books or purchase your copy the night of the event.
URL:https://litwire.org/event/book-launch-for-triage-by-elisa-m-speranza/
LOCATION:Octavia Books\, 513 Octavia Street\, New Orleans\, 70115
CATEGORIES:Book Launch
ATTACH;FMTTYPE=image/jpeg:https://litwire.org/wp-content/uploads/2026/04/TRIAGE-Cover-Final.jpg
END:VEVENT
BEGIN:VEVENT
DTSTART;TZID=America/Chicago:20260514T200000
DTEND;TZID=America/Chicago:20260514T223000
DTSTAMP:20260423T113717
CREATED:20250806T182910Z
LAST-MODIFIED:20250806T182910Z
UID:10004522-1778788800-1778797800@litwire.org
SUMMARY:The Magic Mic
DESCRIPTION:7 minutes of magic on the mic. Show us your magic\, share in the magic of others. Tell your tales\, share your songs\, make music\, melodies and memories with us. ALL ACTs OPEN! Starts at 8pm every Thursday at Poor Boys!
URL:https://litwire.org/event/the-magic-mic/2026-05-14/
LOCATION:Poor Boys Bar\, 1328 St Bernard Ave\, New Orleans\, L\, 70116\, United States
CATEGORIES:Conversation,Erotica,Flash Fiction,In-Person,Non-Fiction,Open Mic,Poetry,Poetry Slam,Q&A,Slam,Spoken Word,Story Slam,Storytelling,Talk
ATTACH;FMTTYPE=image/jpeg:https://litwire.org/wp-content/uploads/2025/08/music.jpg
ORGANIZER;CN="Flavius":MAILTO:flaviusbentley@gmail.com
END:VEVENT
END:VCALENDAR